BEGIN:VCALENDAR
VERSION:2.0
PRODID:-//【HIRAETH.Tokyo】(ヒラエス.トーキョー) - ECPv6.11.2//NONSGML v1.0//EN
CALSCALE:GREGORIAN
METHOD:PUBLISH
X-WR-CALNAME:【HIRAETH.Tokyo】(ヒラエス.トーキョー)
X-ORIGINAL-URL:https://hiraeth.tokyo
X-WR-CALDESC:【HIRAETH.Tokyo】(ヒラエス.トーキョー) のイベント
REFRESH-INTERVAL;VALUE=DURATION:PT1H
X-Robots-Tag:noindex
X-PUBLISHED-TTL:PT1H
BEGIN:VTIMEZONE
TZID:Asia/Tokyo
BEGIN:STANDARD
TZOFFSETFROM:+0900
TZOFFSETTO:+0900
TZNAME:JST
DTSTART:20230101T000000
END:STANDARD
END:VTIMEZONE
BEGIN:VEVENT
DTSTART;VALUE=DATE:20230217
DTEND;VALUE=DATE:20230227
DTSTAMP:20260422T035007
CREATED:20230120T152850Z
LAST-MODIFIED:20230120T153336Z
UID:3920-1676592000-1677455999@hiraeth.tokyo
SUMMARY:【NIG2023敗者復活】NEXT IDOL GRANDPRIX2023
DESCRIPTION:応援はこちらから\nhttps://yell.mixch.tv/contests/168/candidates/10332 \n▼審査詳細▼\nhttps://mixch.tv/p/frujown1\n▼NIG2023公式HP▼\nhttps://nig.mixch.tv/nig2023 \nスケジュール\n【敗者復活】\n2月17日(金) ～ 2月26日(日) \n【決勝】\n3月1日(水) ～ 3月22日(水) \n【決勝中間パフォーマンス審査】\n3月21日(火・祝)　@都内某所 \n【決勝最終審査】\n3月23日(木)　@TOKYO DOME CITY HALL \n予選\n【ブロック数】\n4ブロック \n【予選期間】\n1月20日(金) ～ 2月12日(日) \n決勝進出組数\n・各ブロックの総合ポイント上位2組\n・それらの組を除いた全体の総合ポイント上位3組\n・合計11組が決勝進出 \n予選審査項目\n予選では「LIVE配信+動画投稿ポイント」「動画Like数」「ミクチャエール」「Twitter RT」の4つの審査 \n①LIVE配信+動画投稿ポイント\n・予選期間中、LIVE配信+動画投稿で獲得したポイント数を競います\n・LIVE配信+動画投稿の獲得ポイントランキングに応じて総合ptを付与します \n②動画Like数\n・予選期間中に投稿した「最大Like数」を獲得した1動画で競います。（獲得ポイントについては、予選期間中に投稿して獲得したものを全て合算して集計を行います）\n・獲得したLIKE数に応じたランキング順に下記の総合ポイントを付与します。 \n③ミクチャエール\n・無料投票サイト「ミクチャエール」での投票数を競います。\n・獲得した投票数に応じたランキング順に下記の総合ポイントを付与します。\n・1人1日 3票まで投票可能です。 \n④Twitter RT\n・固定ツイートかつ条件を満たしているツイートのRT数を競います。\n・RT数に応じたランキング順に下記の総合ポイントを付与します。 \n \n \n \n \n決勝進出条件\n◇各ブロックの総合ポイントランキング上位2組は決勝へ進出！（合計8組）\n◇上記を除く全体の総合ポイントランキング上位3組も決勝へ進出！ \n※予選からは合計11組が決勝に進出できます。\n※敗者復活からは1組が決勝に進出できます。\n※決勝進出組のうち一部は、LIVE配信+動画投稿ポイントの一部引継ぎを行います。 \n–LIVE配信+動画投稿ポイントの引き継ぎについて– \n予選全ブロックでの総合ポイント1位（1組） \n予選で獲得したLIVE配信+動画投稿ポイントの3％を決勝に引継ぎ（小数点以下切り捨て） \n予選全ブロックでの総合ポイント2位（1組） \n予選で獲得したLIVE配信+動画投稿ポイントの2％を決勝に引継ぎ（小数点以下切り捨て） \n予選全ブロックでの総合ポイント3〜5位（3組） \n予選で獲得したLIVE配信+動画投稿ポイントの1％を決勝に引継ぎ（小数点以下切り捨て） \n敗者復活からの決勝進出1組 \n敗者復活で獲得したLIVE配信+動画投稿ポイントの1%を決勝に引継ぎ（小数点以下切り捨て） \n※総合ポイントが同数となった場合は、LIVE配信+動画投稿ポイントの上位を優先して選出を行いますので、予めご了承ください。 \nコンテスト最終審査MC\n今回大会は豪華MCを迎えて開催！\n・高橋みなみ\n・クロちゃん
URL:https://hiraeth.tokyo/event/nig2023-2/
CATEGORIES:Event,Live
END:VEVENT
BEGIN:VEVENT
DTSTART;VALUE=DATE:20230212
DTEND;VALUE=DATE:20230213
DTSTAMP:20260422T035007
CREATED:20221222T093813Z
LAST-MODIFIED:20230316T190259Z
UID:3545-1676160000-1676246399@hiraeth.tokyo
SUMMARY:303☆☆第17回えあらびゅーpresents『にあプロデュース Happy Valentine SP💝🍫』@渋谷CLUB CAMELOT
DESCRIPTION:日時 2/12(日)\nイベント 第17回えあらびゅーpresents『にあプロデュース Happy Valentine SP💝🍫』\n料金 前売2500 当日3000(各D別)\n予約 https://t.livepocket.jp/e/6fan6\n会場 渋谷CLUB CAMELOT\nOP 14:50\nST 15:05\nout 17:10\n出演 えあらびゅー\n\n◆タイムテーブル\n・14:50オープン\n・15:05スタート\n・15:05〜15:30えあらびゅーライブ\n・15:30〜15:40生誕メンバー（にあ）ソロ\n・15:40〜15:55コンテンツ\n・16:05終演〜B1移動\n・16:10〜17:10物販
URL:https://hiraeth.tokyo/event/20230207-1/
LOCATION:渋谷キャメロット\, 神南1-18-2 フレーム神南坂 B3\, 渋谷区\, 東京都\, 150-0041\, 日本
CATEGORIES:Live
ATTACH;FMTTYPE=image/jpeg:https://hiraeth.tokyo/wp-content/uploads/nia1.jpg
END:VEVENT
BEGIN:VEVENT
DTSTART;VALUE=DATE:20230212
DTEND;VALUE=DATE:20230213
DTSTAMP:20260422T035007
CREATED:20230122T015108Z
LAST-MODIFIED:20230316T190307Z
UID:3932-1676160000-1676246399@hiraeth.tokyo
SUMMARY:304☆IDOL大博覧会プレ@渋谷DIVE
DESCRIPTION:日時 2/12(日)\nイベント IDOL大博覧会-プレイベント-\n料金 一般2800最前4500当日+700(各D別)\n予約 https://tiget.net/events/229631 2月8日 12：00予約開始\nLIVE 19:45〜20:00\n物販 C20:30〜21:20\n会場 渋谷DIVE\nOP 10:45\nST 11:00\nout 22:00\n出演 えあらびゅー/アンフレディア/青山Rabness/paslil’/君とセレンディピティ/ルミキスex/FLAPSTAR/おやすみセカイ/レッスントゥミー/NaNiYoRi(大阪)/Jewel Mermaid(湘南)/chairmans(仙台)/My Best Friend/雨上がりのプラネット/IVY/HINAGIKU./JADE/COZ39/Fortuness/emiu/みらくる☆ふぉーぜ/アクアルクス/凛然エクスプレス/ЯanaB/Pink moon/CRAYONS/ルクトゥーMe/Zero Project Z2/Zero Project Z3/アイコノグラムズ/Mer’Clair/ねむりーぷ/鏡界性_ぴゅろてぃずむ/ねむる/FUZZBUZZ/ゼロサンクチュアリ/\n\n再入場禁止\nーー\n写真・動画撮影可(youtube投稿不可)\n主催：iColony/CROSS PRESS\n協力：株式会社Lazz/YUMENOHANASHI株式会社/押忍フェス
URL:https://hiraeth.tokyo/event/20230212-2/
LOCATION:渋谷DIVE\, 東2-22-5 シブロジ 1F\, 渋谷区\, 東京都\, 150-0011\, 日本
CATEGORIES:Live
ATTACH;FMTTYPE=image/jpeg:https://hiraeth.tokyo/wp-content/uploads/cd61a903a89c9ea019f7538b2064d5db-scaled.jpg
END:VEVENT
BEGIN:VEVENT
DTSTART;VALUE=DATE:20230211
DTEND;VALUE=DATE:20230212
DTSTAMP:20260422T035007
CREATED:20230130T173127Z
LAST-MODIFIED:20230316T190241Z
UID:4033-1676073600-1676159999@hiraeth.tokyo
SUMMARY:301☆AKIHABARA SUPERNOVA@秋葉原TwinBoxGARAGE
DESCRIPTION:日時 2/11(土)\nイベント AKIHABARA SUPERNOVA(2会場連動サーキットイベント)\n料金 全会場入場：前売4000当日4500、1会場のみ入場：前売2500当日3000※各会場初回入場の際に1D※女性無料※早割料金(-500)\nLIVE 12:45～13:05\n物販 13:15～14:05\n会場 秋葉原TwinBoxGARAGE\nOP 11:45\nST\nout\n出演 えあらびゅー/あいたいね！/アスノソノリィテ/1学期の前髪/8princess/技術体力向上委員会/きゅーてぃくるっ！/CLIPCLIP/comma\,/THAT’s So/CharmeAiles/SUGAR☆VEGA .com/ゼロサンクチュアリ/DEEPGEEK/ネオトウキョウクラブ/ばぶるぱれっと/PinkPanda/プリアモ/ブルベア/Ω僕たちまたなにかやっちゃいました？Ω/My placious/負けない僕等は、雨の降る世界で猫と踊る。/もぐちっぷ/unichan/ユメオイ少女/他\n\n\n◆予約\n▶全会場入場\nhttps://tiget.net/events/229459 \n▶秋葉原ZESTのみ入場\nhttps://tiget.net/events/229461 \n▶TwinBoxGARAGEのみ入場\nhttps://tiget.net/events/229462 \n▶女性無料入場\nhttps://tiget.net/events/229460
URL:https://hiraeth.tokyo/event/20230211-1/
CATEGORIES:Live
ATTACH;FMTTYPE=image/png:https://hiraeth.tokyo/wp-content/uploads/FoRfyx5aAAAwH0_.png
END:VEVENT
BEGIN:VEVENT
DTSTART;VALUE=DATE:20230211
DTEND;VALUE=DATE:20230212
DTSTAMP:20260422T035007
CREATED:20230206T124439Z
LAST-MODIFIED:20230316T190250Z
UID:4159-1676073600-1676159999@hiraeth.tokyo
SUMMARY:302☆SeeKa IDOL FESTIVAL@秋葉原シンフォニア
DESCRIPTION:日時 2/11(土)\nイベント SeeKa IDOL FESTIVAL\n料金 入場料2000女性500(各D別、予約当日共通)再入場無料 出入り自由 リストバンド着用\n予約 運営予約\nLIVE 15:40〜16:00\n物販 16:05〜17:05\n会場 秋葉原シンフォニア\nOP12:20\nST12:40(予定)\nout\n出演 えあらびゅー/Amazing Story未ダ、君ヲ推セズ。/Wisteria Record/きみかが！/せろとにん×ばくだん/ときめきテンプテーション/花宮みずき/姫乃もえ/BLOOD/./星乃彩那/PONCHO/まひろちほ/みさきソロ/妄想学院・裏生徒会/妄想学院・生徒会/優希/世ノ果テデ人形ハ唯哂フ。/世ノ果テデ人形ハ唯哂フ。絶/THEラスミー/
URL:https://hiraeth.tokyo/event/20230211-2/
LOCATION:秋葉原SinfoniA\, 外神田4-6-2 いすゞビル9F\, 千代田区\, 東京都\, 101-0021\, 日本
CATEGORIES:Live
ATTACH;FMTTYPE=image/jpeg:https://hiraeth.tokyo/wp-content/uploads/0234DE34-F395-4F70-879B-7AB9A7565E1A.jpeg
END:VEVENT
BEGIN:VEVENT
DTSTART;VALUE=DATE:20230205
DTEND;VALUE=DATE:20230206
DTSTAMP:20260422T035007
CREATED:20221226T064046Z
LAST-MODIFIED:20230130T120811Z
UID:3572-1675555200-1675641599@hiraeth.tokyo
SUMMARY:(不参加)iDOL PARTY for ThanksGiving@SHIBUYA RING
DESCRIPTION:諸事情によりこちらのイベントは不参加となります。\nーーー\n日時2/5(日)\nイベント　iDOL PARTY for ThanksGiving\n会場　SHIBUYA RING
URL:https://hiraeth.tokyo/event/20230205-1/
CATEGORIES:Live
END:VEVENT
BEGIN:VEVENT
DTSTART;VALUE=DATE:20230205
DTEND;VALUE=DATE:20230206
DTSTAMP:20260422T035007
CREATED:20230108T133952Z
LAST-MODIFIED:20230316T190221Z
UID:3729-1675555200-1675641599@hiraeth.tokyo
SUMMARY:299☆月皇まひろ生誕祭@秋葉原TwinBox
DESCRIPTION:日時 2/5(日)\nイベント 〜月皇まひろ生誕祭〜\n料金 前売2000当日2500女性1000(各D別)\n予約 https://tiget.net/events/224419\nLIVE 11:40～11:55\n物販 12:10～13:00\n会場 秋葉原TwinBox\nOP9:30\nST9:50\nout13:30\n出演 えあらびゅー/SUGAR☆VEGA .com/まひろソロ/シブヤDOMINION/#ワールドカオス/TJ(トーンジュエル)/レプスルプス/トイトニック/夢色彩∞アンフィニー/8ANGEL/8DOLL/Try me/他
URL:https://hiraeth.tokyo/event/20230205-2/
LOCATION:秋葉原TwinBoxAKIHABARA\, 外神田3-2-12 Box'R AKIBAビルB1\, 千代田区\, 東京都\, 101-0021
CATEGORIES:Live
ATTACH;FMTTYPE=image/jpeg:https://hiraeth.tokyo/wp-content/uploads/3FAF13E3-FE06-40AF-AAF1-0C0F728DC5E5.jpeg
END:VEVENT
BEGIN:VEVENT
DTSTART;VALUE=DATE:20230204
DTEND;VALUE=DATE:20230205
DTSTAMP:20260422T035007
CREATED:20230130T143651Z
LAST-MODIFIED:20230316T190211Z
UID:4039-1675468800-1675555199@hiraeth.tokyo
SUMMARY:298☆☆shibuya ATOMiC LiVE@渋谷ジーカンズ
DESCRIPTION:日時　2/4(土)\nイベント　shibuya ATOMiC LiVE\n料金 一般2500当日3000(D別)\n予約　https://t.livepocket.jp/e/girlsvision20230204\nLIVE　16:50～17:10\n物販　Ⓒ17:25～18:25\n会場　渋谷ジーカンズ\nOP　11:45\nST　12:00(予定)\nout 20:00\n出演　えあらびゅー/Blossom Garden/Lycoris Radiata/ViVian/せろとにん×ばくだん/キプリスモルホォ/原宿学園/CharmeAiles/ZeroProject Z3-A/RONPA～PINK～/Blue+/ぽけっとファントム/アネーロニーニャ/R.I.P.研究所/ヒビコレ//『アイコノクラズム』/香月友梨奈/世ノ果テデ人形ハ唯晒フ。絶/世ノ果テデ人形ハ唯晒フ。/東京セラフィム/
URL:https://hiraeth.tokyo/event/20230204-1/
LOCATION:渋谷ジーカンズ\, 円山町2-4\, 渋谷区\, 東京都\, 日本
CATEGORIES:Live
ATTACH;FMTTYPE=image/jpeg:https://hiraeth.tokyo/wp-content/uploads/2d9f8d1ed3a4116e24564a383d2032f6.jpg
END:VEVENT
BEGIN:VEVENT
DTSTART;VALUE=DATE:20230129
DTEND;VALUE=DATE:20230130
DTSTAMP:20260422T035007
CREATED:20230125T121040Z
LAST-MODIFIED:20230316T190155Z
UID:3976-1674950400-1675036799@hiraeth.tokyo
SUMMARY:297☆☆shibuya ATOMiC LiVE@渋谷ジーカンズ
DESCRIPTION:日時　1/29(日)\nイベント　shibuya ATOMiC LiVE\n料金 前売2500当日3000(各D別)\n予約　https://t.livepocket.jp/e/girlsvision20230129\nLIVE　15:45〜16:05\n物販　16:20〜17:20\n会場　渋谷ジーカンズ\nOP　11:45\nST　12:00\nout\n出演　えあらびゅー/アイコノクラズム/AiDOLOXXXY/オグメンタル/Caress Van End/Jewel Mermaid/シュユノトキ/ZeroProject Z2-A/ZeroProject Z5-C/中2映画プロジェクト アイドル部/トイランド/東京CLEAR’S/Try me/8月のエウテルペ/ はなここ/ViViBee/プリズムハート/POP CANDY/MAD JAMIE/Lapis/Lycoris Radiata/RiKKYY/RepiDoll/
URL:https://hiraeth.tokyo/event/20230129-3/
LOCATION:渋谷ジーカンズ\, 円山町2-4\, 渋谷区\, 東京都\, 日本
CATEGORIES:Live
END:VEVENT
BEGIN:VEVENT
DTSTART;VALUE=DATE:20230129
DTEND;VALUE=DATE:20230130
DTSTAMP:20260422T035007
CREATED:20221221T170349Z
LAST-MODIFIED:20230316T190135Z
UID:3521-1674950400-1675036799@hiraeth.tokyo
SUMMARY:295☆GIRLS UTA FESTA@まねきねこ渋谷本店 LIVEステージ
DESCRIPTION:日時 1/29(日)\nイベント GIRLS UTA FESTA\n料金 前売2000、当日2500円※別途1D(ドリンクバー)\n予約　運営予約\nLIVE　11:15～11:35\n物販　11:40～12:40\n会場　まねきねこ渋谷本店 LIVEステージ\nOP 9:45\nST 10:00(予定)\nout\n出演　えあらびゅー/.Link/NEO EARTH!!/Challenge Girls!!/angelic fairy/ふるーつばすけっと/まかぱ研修生/あっぷろーでぃあ/PUELLAE SOLEMNE/
URL:https://hiraeth.tokyo/event/20230129-1/
LOCATION:まねきねこ渋谷本店 LIVEステージ\, 道玄坂2-29-5 渋谷プライム 4F\, 渋谷区\, 東京都\, 150-0043\, 日本
CATEGORIES:Live
ATTACH;FMTTYPE=image/jpeg:https://hiraeth.tokyo/wp-content/uploads/S__960077830.jpg
END:VEVENT
BEGIN:VEVENT
DTSTART;VALUE=DATE:20230129
DTEND;VALUE=DATE:20230130
DTSTAMP:20260422T035007
CREATED:20230106T142749Z
LAST-MODIFIED:20230316T190145Z
UID:3693-1674950400-1675036799@hiraeth.tokyo
SUMMARY:296☆☆放課後オレンジサインMV初らびゅー@まねきねこ渋谷本店
DESCRIPTION:えあらびゅー初のMV公開企画 \n“えあらびゅーオリジナル曲MV制作チャレンジ企画”の目標達成により『放課後オレンジサイン』のMV制作を進めておりました \n発表イベントを開催致します！\n※同日に開催されるイベントと別枠で開催\nーーー\n日時　1/29(日)\nイベント　放課後オレンジサインMV初らびゅー\n料金 1000円(D別)\n※同日に開催されるイベントからの居残りは一般0円\n予約　運営予約\n会場　まねきねこ渋谷本店LIVEステージ内 \nタイムスケジュール\n13:00～ 挨拶\n13:05～13:10 ライブ(放課後オレンジサイン)\n13:10～13:15 MV放映\n13:15～13:30 MC\n13:30～13:35 囲み撮影(5分)\n13:40〜14:40 物販 \n特典\n放課後オレンジサインシール(限定数) \nその他\nMV使用第3衣装
URL:https://hiraeth.tokyo/event/20230129-2/
LOCATION:まねきねこ渋谷本店 LIVEステージ\, 道玄坂2-29-5 渋谷プライム 4F\, 渋谷区\, 東京都\, 150-0043\, 日本
CATEGORIES:Event,Live
ATTACH;FMTTYPE=image/jpeg:https://hiraeth.tokyo/wp-content/uploads/S__960077830.jpg
END:VEVENT
BEGIN:VEVENT
DTSTART;VALUE=DATE:20230128
DTEND;VALUE=DATE:20230129
DTSTAMP:20260422T035007
CREATED:20221202T115407Z
LAST-MODIFIED:20230316T190125Z
UID:3337-1674864000-1674950399@hiraeth.tokyo
SUMMARY:294☆☆MARQUEE祭mini Vol.138@渋谷Spotify O-nest
DESCRIPTION:日時　1/28(土)\nイベント　MARQUEE祭mini Vol.138\n料金 前売3000当日3500(D別)\n予約　http://eplus.jp/marquee-matsuri/\nLIVE　17:00〜17:20\n物販　17:30〜18:30\n会場　渋谷Spotify O-nest\nOP　16:30\nST　17:00\nout\n出演　えあらびゅー/テンシメシ/瞬きもせず/戦乱のEmpress/100万ドルのフェアレディ/スポポポポニー/Fragrant Drive/スーパーベイビーズ/フューチャーサイダー/カリスマめんざいふっ！/ \n【MARQUEE祭mini】\n◆プレオーダー予約特典\n▶︎条件\n・当選画面を1/7までにツイート\n▶︎特典\n・公開前MV使用衣装プロマイド\n・コメサチェキ券(1500円相当) \n◆一般予約特典\n▶︎条件\n・予約済画面をツイート\n▶︎特典\n・コメサチェキ券(1500円相当) \n◆入場特典\n▶︎えあらびゅー指名入場\n・コメサチェキ券(1500円相当)\n・500円オフ券 \nーイベントレギュレーションー\n情報公開12/16(金)正午\n先行予約12/17(土)正午～12/25(日)23:59\n一般発売1/7(土)10:00～1/27(金)18:00\n●チケットはお一人様1枚のみ（チケットにはその方のお名前が記入されます)\n●整理券番号順入場、オールスタンディング\n●入場時に身分証確認をさせていただく場合がございます。顔写真付き身分証明証を持参お願いします\n●入場時に手の消毒、検温をお願いします\n●体温が37.5以上の方、咳症状の方は入場をお断りします\n●会場内は必ずマスクをご着用ください\n●営利目的の転売禁止\n●会場内への飲食物の持ち込み禁止、アルコール販売なし\n●再入場不可\n●物販＆特典会への参加にはチケットが必要です\n●出演者変更に伴いますご返金は致しかねます
URL:https://hiraeth.tokyo/event/20230128-1/
LOCATION:渋谷Spotify O-nest\, 円山町２−３ O-WESTビル 6F\, 渋谷区\, 東京都\, 150-0044\, 日本
CATEGORIES:Live
ATTACH;FMTTYPE=image/jpeg:https://hiraeth.tokyo/wp-content/uploads/7596B72B-0231-4D3C-9CA0-881FD1C148F2.jpeg
END:VEVENT
BEGIN:VEVENT
DTSTART;VALUE=DATE:20230122
DTEND;VALUE=DATE:20230123
DTSTAMP:20260422T035007
CREATED:20221212T022853Z
LAST-MODIFIED:20230316T190104Z
UID:3382-1674345600-1674431999@hiraeth.tokyo
SUMMARY:292☆秋葉原ZEST SUPER LIVE一部@秋葉原ZEST
DESCRIPTION:日時　1/22(日)\nイベント　秋葉原ZEST SUPER LIVE一部\n料金 予約2500(D別)当日500UP※早割2000※開演までにご入場いただけます方\n予約　https://tiget.net/events/225246\nLIVE　11:35～11:50\n物販　12:00～12:45\n会場　秋葉原ZEST\nOP　9：35\nST　9：45(予定)\nout\n出演　えあらびゅー/技術体力向上委員会/Zero Project Z3-B/FLAPSTAR/Clapotis/AGAIN&AGAIN/MelodicMellow/あたっちゅ！/COZ39/SuteNeko./伊藤桃/七七七 麗/J(トーンジュエル)/彩瀬千聖/hummy/伝承アクトシエル/Li-V-RAVE/あみ/ONDON BLUE/早咲/THAT’s So/Ns.aoi(あなたを追っていたら知らない場所に来た)/他
URL:https://hiraeth.tokyo/event/20230122-1/
LOCATION:秋葉原ZEST\, 外神田3-2-14\, 千代田区\, 東京都\, 101-0021\, 日本
CATEGORIES:Live
END:VEVENT
BEGIN:VEVENT
DTSTART;VALUE=DATE:20230122
DTEND;VALUE=DATE:20230123
DTSTAMP:20260422T035007
CREATED:20221212T175440Z
LAST-MODIFIED:20230316T190110Z
UID:3394-1674345600-1674431999@hiraeth.tokyo
SUMMARY:293☆IDOL SPIRITS 1月号@五反田G4
DESCRIPTION:日時 1/22(日)\nイベント IDOL SPIRITS 1月号\n料金 前方前売3000一般前売2000※当日券＋500(各D別)\n予約　https://tiget.net/events/223239\nLIVE 14:25～14:45\n物販 14:50～15:50\n会場 五反田G4\nOP 13:30\nST 13:50(予定)\nout 23:00(予定)\n出演　えあらびゅー/スリジエ/Bety/OBP/SharLie/キプリスモルホォ/てぃあむ/代々木女子音楽院/炭酸くろにくるっ/Lanan/The Pink Microphone/プリンセスは眠らないっ！/AiDOLOXXXY/白夜のカフカ/first selection/81limited/スリジエ候補生/SeedS/PISTIL/ぱーみるっ！/暁のアリア/SE-tsu-NA/
URL:https://hiraeth.tokyo/event/20230122-2/
LOCATION:五反田G4\, 西五反田1-11-8 大成ビル4F\, 品川区\, 東京都\, 141-0031
CATEGORIES:Live
ATTACH;FMTTYPE=image/jpeg:https://hiraeth.tokyo/wp-content/uploads/5944351d1581763008c3085593c73c9a-scaled.jpg
END:VEVENT
BEGIN:VEVENT
DTSTART;VALUE=DATE:20230121
DTEND;VALUE=DATE:20230122
DTSTAMP:20260422T035007
CREATED:20230119T021311Z
LAST-MODIFIED:20230316T190057Z
UID:3842-1674259200-1674345599@hiraeth.tokyo
SUMMARY:291☆ikebukuro iDOL SONIC-mini@池袋mismatch
DESCRIPTION:日時 1/21(土)\nイベント ikebukuro iDOL SONIC-mini-\n料金 前売2000当日2500(D別)\n予約 https://tiget.net/events/226158運営予約可\nLIVE 11:00〜11:20\n物販 11:25〜12:25\n会場 池袋mismatch\nOP 10:45\nST 11:00\nout 13:20\n出演 えあらびゅー/きみとのワンダーランド /100-YOKAI/もぐちっぷ/
URL:https://hiraeth.tokyo/event/20230121-1/
LOCATION:池袋mismatch\, 東池袋1-44-10 タイガースビル1F\, 豊島区\, 東京都\, 日本
CATEGORIES:Live
ATTACH;FMTTYPE=image/jpeg:https://hiraeth.tokyo/wp-content/uploads/1A558328-C8CF-4ACA-911E-28450DEB299F.jpeg
END:VEVENT
BEGIN:VEVENT
DTSTART;VALUE=DATE:20230120
DTEND;VALUE=DATE:20230213
DTSTAMP:20260422T035007
CREATED:20230120T094227Z
LAST-MODIFIED:20230120T101506Z
UID:3863-1674172800-1676246399@hiraeth.tokyo
SUMMARY:【NIG2023予選】NEXT IDOL GRANDPRIX2023
DESCRIPTION:ネクストブレイクアイドルの頂点を決めるNEXT IDOL GRANDPRIX2023にエントリしました！\n1/20日からスタートしますので、頂点目指して頑張ります！！ \n最終フェスでは東京ドームシティ内の『TOKYO DOME CITY HALL』にてパフォーマンス！\nそしてなんと今年は1日目の午前中にコンテストを実施、1日目の午後と2日目には超豪華なフェス（NIGフェス）が開催されます！ \n応援はこちらから\nhttps://yell.mixch.tv/contests/168/candidates/10332 \n▼審査詳細▼\nhttps://mixch.tv/p/frujown1\n▼NIG2023公式HP▼\nhttps://nig.mixch.tv/nig2023 \nスケジュール\n【予選】\n1月20日(金) ～ 2月12日(日) \n【敗者復活】\n2月17日(金) ～ 2月26日(日) \n【決勝】\n3月1日(水) ～ 3月22日(水) \n【決勝中間パフォーマンス審査】\n3月21日(火・祝)　@都内某所 \n【決勝最終審査】\n3月23日(木)　@TOKYO DOME CITY HALL \n予選\n【ブロック数】\n4ブロック \n【予選期間】\n1月20日(金) ～ 2月12日(日) \n決勝進出組数\n・各ブロックの総合ポイント上位2組\n・それらの組を除いた全体の総合ポイント上位3組\n・合計11組が決勝進出 \n予選審査項目\n予選では「LIVE配信+動画投稿ポイント」「動画Like数」「ミクチャエール」「Twitter RT」の4つの審査 \n①LIVE配信+動画投稿ポイント\n・予選期間中、LIVE配信+動画投稿で獲得したポイント数を競います\n・LIVE配信+動画投稿の獲得ポイントランキングに応じて総合ptを付与します \n②動画Like数\n・予選期間中に投稿した「最大Like数」を獲得した1動画で競います。（獲得ポイントについては、予選期間中に投稿して獲得したものを全て合算して集計を行います）\n・獲得したLIKE数に応じたランキング順に下記の総合ポイントを付与します。 \n③ミクチャエール\n・無料投票サイト「ミクチャエール」での投票数を競います。\n・獲得した投票数に応じたランキング順に下記の総合ポイントを付与します。\n・1人1日 3票まで投票可能です。 \n④Twitter RT\n・固定ツイートかつ条件を満たしているツイートのRT数を競います。\n・RT数に応じたランキング順に下記の総合ポイントを付与します。 \n \n \n \n \n決勝進出条件\n◇各ブロックの総合ポイントランキング上位2組は決勝へ進出！（合計8組）\n◇上記を除く全体の総合ポイントランキング上位3組も決勝へ進出！ \n※予選からは合計11組が決勝に進出できます。\n※敗者復活からは1組が決勝に進出できます。\n※決勝進出組のうち一部は、LIVE配信+動画投稿ポイントの一部引継ぎを行います。 \n–LIVE配信+動画投稿ポイントの引き継ぎについて– \n予選全ブロックでの総合ポイント1位（1組） \n予選で獲得したLIVE配信+動画投稿ポイントの3％を決勝に引継ぎ（小数点以下切り捨て） \n予選全ブロックでの総合ポイント2位（1組） \n予選で獲得したLIVE配信+動画投稿ポイントの2％を決勝に引継ぎ（小数点以下切り捨て） \n予選全ブロックでの総合ポイント3〜5位（3組） \n予選で獲得したLIVE配信+動画投稿ポイントの1％を決勝に引継ぎ（小数点以下切り捨て） \n敗者復活からの決勝進出1組 \n敗者復活で獲得したLIVE配信+動画投稿ポイントの1%を決勝に引継ぎ（小数点以下切り捨て） \n※総合ポイントが同数となった場合は、LIVE配信+動画投稿ポイントの上位を優先して選出を行いますので、予めご了承ください。 \nコンテスト最終審査MC\n今回大会は豪華MCを迎えて開催！\n・高橋みなみ\n・クロちゃん
URL:https://hiraeth.tokyo/event/nig2023/
LOCATION:TOKYO DOME CITY HALL\, 後楽1-3-61 東京ドームミーツポート1F\, 文京区\, 東京都\, 112-0004\, 日本
CATEGORIES:Event,Live
ATTACH;FMTTYPE=image/webp:https://hiraeth.tokyo/wp-content/uploads/485707_75103.webp
END:VEVENT
BEGIN:VEVENT
DTSTART;VALUE=DATE:20230115
DTEND;VALUE=DATE:20230116
DTSTAMP:20260422T035007
CREATED:20221214T085542Z
LAST-MODIFIED:20230316T190032Z
UID:3408-1673740800-1673827199@hiraeth.tokyo
SUMMARY:289☆天下布武2部@渋谷マグネット
DESCRIPTION:日時 1/15(日)\nイベント 天下布武2部\n料金 事前決済予約1500当日決済予約2000当日2500(各D別)\n予約 https://t.livepocket.jp/e/20230115_02\nLIVE 13:10〜13:30\n物販 13:35〜14:35\n会場 渋谷マグネット\nOP 12:55\nST 13:10\nout\n出演 えあらびゅー/Chase×Chase/8月のエウテルペ/8月のエウテルペ(アンダー)/
URL:https://hiraeth.tokyo/event/20230115-1/
LOCATION:渋谷マグネット\, 神南1-23-10\, 渋谷区\, 東京都\, 150-0041\, 日本
CATEGORIES:Live
ATTACH;FMTTYPE=image/jpeg:https://hiraeth.tokyo/wp-content/uploads/695727E9-E4A6-40D0-8388-40091883C04E.jpeg
END:VEVENT
BEGIN:VEVENT
DTSTART;VALUE=DATE:20230115
DTEND;VALUE=DATE:20230116
DTSTAMP:20260422T035007
CREATED:20221222T085910Z
LAST-MODIFIED:20230316T190044Z
UID:3534-1673740800-1673827199@hiraeth.tokyo
SUMMARY:290☆Shibuya IDOL Special vol.5@渋谷キャメロット
DESCRIPTION:日時　1/15(日)\nイベント Shibuya IDOL Special vol.6-3部\n料金 前売1400当日1900最前2400(各D別)　\n予約　https://t.livepocket.jp/e/e89mm\nLIVE　16:15〜16:30\n物販　16:30〜17:30\n会場 渋谷キャメロットB2(ライブ)、B1(物販)\nOP　14:05\nST　14:15(予定）\nout\n出演　えあらびゅー/KOMAGOME/アイドル失格/A-le/Descris./TOA/ポピーポエット/ZeroProject Z5-A/ねむる/アクアルクス/
URL:https://hiraeth.tokyo/event/20230115-2/
LOCATION:渋谷キャメロット\, 神南1-18-2 フレーム神南坂 B3\, 渋谷区\, 東京都\, 150-0041\, 日本
CATEGORIES:Live
END:VEVENT
BEGIN:VEVENT
DTSTART;VALUE=DATE:20230114
DTEND;VALUE=DATE:20230115
DTSTAMP:20260422T035007
CREATED:20221212T024342Z
LAST-MODIFIED:20230316T190025Z
UID:3385-1673654400-1673740799@hiraeth.tokyo
SUMMARY:287☆☆LiVE!Supreme!アイドルライブ至上主義宣言@新宿ジールシアター
DESCRIPTION:日時　1/14(土)\nイベント　LiVE!Supreme!1部~アイドルライブ至上主義宣言~\n料金 予約1500当日2000円(各D別)\n予約　https://tayori.com/form/1a002b00378d3d77f168107f2cd33edd031d5c0d\nLIVE12:55～13:15\n物販14:25～15:25\n会場新宿ZEAL THEATER SHINJYUKU\nOP11:10\nST11:30\nout\n出演　PATI PATI CANDY…☆/L.I.E.P/スリジエ/スリジエ候補生/えあらびゅー/MaJewel/世ノ果テデ人形ハ唯哂フ。絶/あなたを追っていたら知らない場所にきた/ \n#最近熱いと噂のアイドル\n#日本一のビラ配りアイドル\n#PATIPATICANDY\n#パチキャン\n声出しOK　※マスク着用条件
URL:https://hiraeth.tokyo/event/20230114-2/
LOCATION:新宿ジールシアター\, 歌舞伎町2-44-1 健康プラザハイジア17F\, 新宿区\, 東京都\, 160-0021
CATEGORIES:Live
ATTACH;FMTTYPE=image/png:https://hiraeth.tokyo/wp-content/uploads/0355f3640de8c8a2c7889c617b901b89.png
END:VEVENT
BEGIN:VEVENT
DTSTART;VALUE=DATE:20230114
DTEND;VALUE=DATE:20230115
DTSTAMP:20260422T035007
CREATED:20221212T022606Z
LAST-MODIFIED:20230316T190016Z
UID:3380-1673654400-1673740799@hiraeth.tokyo
SUMMARY:286☆MI・RA・I SUPER LIVE 2023＠五反田出張公演 Saturday Special Stage編@五反田G7
DESCRIPTION:日時 1/14(土)\nイベント MI・RA・I SUPER LIVE 2023＠五反田出張公演 Saturday Special Stage編\n料金 一般2500/前方最優先3500(販売数限定)(各D別)\n予約　https://tiget.net/events/222533\nLIVE16:50〜17:05\n物販17:15〜18:05\n会場 五反田G7\nOP 10:00\nST 10:20\nout\n出演　えあらびゅー/技術体力向上委員会/♮リアスクライブ/きっと、これが世界？/LOVE IZ DOLL/道玄坂69/のーぷらん。/白夜のカフカ/おやすみセカイ/utatane/迷愛へるぷ！/七星七愛/もどかしマーケッツ/星屑ラビリンス/アンフレディア/ブリオガジャ/wieee/8OYOROZ/ヒロインの心/絶望のリトラ/Village in Maier/M4isMite/COZ39/いすとわーるど/amber rain./ゼロサンクチュアリ/真白帆華/#がらぽん/chummy/KUJU/うじゅら/SUZY/おとめの姿しばしとどめむ/EVEKEN/シューレース/なうこじ〜ただ今、拗らせ中〜/TheHighRoller/(笑)しがみついた青春/めりめろ沼へヨウコソ/
URL:https://hiraeth.tokyo/event/20230114-1/
LOCATION:五反田G7\, 西五反田2-6-3 東洋ビルB1階\, 品川区\, 東京都\, 141-0031\, 日本
CATEGORIES:Live
ATTACH;FMTTYPE=image/jpeg:https://hiraeth.tokyo/wp-content/uploads/D98A5ABD-4705-48ED-9BCB-EA9504A1D4C4.jpeg
END:VEVENT
BEGIN:VEVENT
DTSTART;VALUE=DATE:20230109
DTEND;VALUE=DATE:20230110
DTSTAMP:20260422T035007
CREATED:20221216T091010Z
LAST-MODIFIED:20230316T190006Z
UID:3448-1673222400-1673308799@hiraeth.tokyo
SUMMARY:285アイドルノミカタ無銭RUN1部@秋葉原COSMICLAB
DESCRIPTION:日時1/9(月祝)\nイベントアイドルノミカタ無銭RUN1部\n料金前売0当日500(2D別)\n予約https://tiget.net/events/223671\nLIVE12:50〜13:05\n物販13:25〜14:15\n会場秋葉原COSMICLAB\nOP11:45\nST12:00(予定)\nout\n出演えあらびゅー/Licht/Blue+/せろとにん✖️ばくだん/きみかが！/他
URL:https://hiraeth.tokyo/event/202301109-1/
LOCATION:秋葉原COSMICLAB\, 外神田6-14-7 VORT末広町BF1\, 千代田区\, 東京都\, 101-0021\, 日本
CATEGORIES:Live
END:VEVENT
BEGIN:VEVENT
DTSTART;VALUE=DATE:20230108
DTEND;VALUE=DATE:20230109
DTSTAMP:20260422T035007
CREATED:20221230T094859Z
LAST-MODIFIED:20230316T185944Z
UID:3629-1673136000-1673222399@hiraeth.tokyo
SUMMARY:283☆夢色彩∞アンフィニー星乃彩那生誕祭～変わらぬ夢と願いを結んで～1@五反田G4
DESCRIPTION:日時1/8(日)\nイベント夢色彩∞アンフィニー星乃彩那生誕祭～変わらぬ夢と願いを結んで～1@五反田2会場連動サーキットLIVE\n料金前売2500当日3000女性無料(各D別)(2会場入場可能)\n予約https://tiget.net/events/218449\nLIVE12:10～12:30\n物販12:35～13:25\n会場五反田G4\nOP12:40\nST13:00\nout\n出演　えあらびゅー/愛惜アンノウン/アイスアリアリ/I＊BIS/あすとろLAVENDER/あまりりす/彩瀬千聖/アンフレディア/EVEKEN/Elber\nCassie Te Light/キミトノセンチメンタル/Clapotis/ココロ⇆リアクト/COS39/3rdEND．/That’s so/早咲/紫月はう/SUGAR☆VEGA .com/Schneefee/StellA/スリジエ/スリジエ候補生/SE-tsu-NA/せろとにん✖️ばくだん/ZeroProject Z2-A1/ZeroProject Z3-B/ZeroProject Z3-C/ZeroProject Z4-B/XuXu/チャーヂ！/TJP/電撃少女部R/DollyPink/Treble/七七七麗/ViVian/PLC/ブリオガジャ/星乃彩那/White Lilly/まかぱ研修生/負け犬とクズ/MiX BeRRY/結愛かほ/紅葉れもん/ゆとり@メルティ/夢色彩∞アンフィニー/夢中のぴろぴろ/ログ/#ワールドカオス/
URL:https://hiraeth.tokyo/event/20230108-1/
LOCATION:五反田G4\, 西五反田1-11-8 大成ビル4F\, 品川区\, 東京都\, 141-0031
CATEGORIES:Live
ATTACH;FMTTYPE=image/jpeg:https://hiraeth.tokyo/wp-content/uploads/45E785ED-F9E7-4A53-A571-B807FB4E0385.jpeg
END:VEVENT
BEGIN:VEVENT
DTSTART;VALUE=DATE:20230108
DTEND;VALUE=DATE:20230109
DTSTAMP:20260422T035007
CREATED:20230105T110425Z
LAST-MODIFIED:20230316T185952Z
UID:3660-1673136000-1673222399@hiraeth.tokyo
SUMMARY:284☆夢色彩∞アンフィニー星乃彩那生誕祭～変わらぬ夢と願いを結んで～2@五反田G3
DESCRIPTION:日時1/8(日)\nイベント夢色彩∞アンフィニー星乃彩那生誕祭～変わらぬ夢と願いを結んで～2@五反田2会場連動サーキットLIVE\n料金前売2500当日3000女性無料(各会場D別)(2会場入場可能)\n予約https://tiget.net/events/218449\nLIVE15:55～16:10\n物販16:15～17:05\n会場五反田G3\nOP10:00\nST10:20\nout\n出演　えあらびゅー/愛惜アンノウン/アイスアリアリ/I＊BIS/あすとろLAVENDER/あまりりす/彩瀬千聖/アンフレディア/EVEKEN/Elber\nCassie Te Light/キミトノセンチメンタル/Clapotis/ココロ⇆リアクト/COS39/3rdEND．/That’s so/早咲/紫月はう/SUGAR☆VEGA .com/Schneefee/StellA/スリジエ/スリジエ候補生/SE-tsu-NA/せろとにん✖️ばくだん/ZeroProject Z2-A1/ZeroProject Z3-B/ZeroProject Z3-C/ZeroProject Z4-B/XuXu/チャーヂ！/TJP/電撃少女部R/DollyPink/Treble/七七七麗/ViVian/PLC/ブリオガジャ/星乃彩那/White Lilly/まかぱ研修生/負け犬とクズ/MiX BeRRY/結愛かほ/紅葉れもん/ゆとり@メルティ/夢色彩∞アンフィニー/夢中のぴろぴろ/ログ/#ワールドカオス/
URL:https://hiraeth.tokyo/event/20230108-2/
LOCATION:GOTANDA G3\, 西五反田1-11-8 大成ビル5F\, 品川区\, 東京都\, 日本
CATEGORIES:Live
ATTACH;FMTTYPE=image/jpeg:https://hiraeth.tokyo/wp-content/uploads/S__66322904.jpg
END:VEVENT
BEGIN:VEVENT
DTSTART;VALUE=DATE:20230107
DTEND;VALUE=DATE:20230108
DTSTAMP:20260422T035007
CREATED:20221226T061751Z
LAST-MODIFIED:20230316T185928Z
UID:3563-1673049600-1673135999@hiraeth.tokyo
SUMMARY:281新宿Fate新年の無銭無双昼部@新宿Fate
DESCRIPTION:日時 1/7(土)\nイベント 新宿Fate新年の無銭無双昼部\n料金 前売0当日0(2D別)\n予約 無し\nLIVE 14:30～14:50\n物販 14:50～15:50\n会場 新宿Fate\nOP 10:00\nST 10:10(予定)\nout\n出演 えあらびゅー/FROG PRINCESS/pipia/さんぷてぃ。/エレメンツ!-Elemental Heroines-/別所あみか/amber rain./Amazing Story/きみかが！/White Lilly/キミトノセンチメンタル/ねこふわっち。/鈴本みさこ/レッスントゥミー/
URL:https://hiraeth.tokyo/event/20230107-1/
LOCATION:新宿Fate\, 歌舞伎町2-28-16\, 新宿区\, 東京都\, 160-0021\, 日本
CATEGORIES:Live
ATTACH;FMTTYPE=image/jpeg:https://hiraeth.tokyo/wp-content/uploads/181833.jpg
END:VEVENT
BEGIN:VEVENT
DTSTART;VALUE=DATE:20230107
DTEND;VALUE=DATE:20230108
DTSTAMP:20260422T035007
CREATED:20221226T062249Z
LAST-MODIFIED:20230316T185935Z
UID:3568-1673049600-1673135999@hiraeth.tokyo
SUMMARY:282新宿Fate新年の無銭無双夜部@新宿Fate
DESCRIPTION:日時1/7(土)\nイベント新宿Fate新年の無銭無双夜部\n料金前売0当日0(2D別)\n予約無し\nLIVE16:40～17:00\n物販17:00～18:00\n会場新宿Fate\nOP16:10\nST16:20\nout\n出演えあらびゅー/椿 紫成/君を来世から探してた/FROG PRINCESS/さんぷてぃ。/pipia/あまりりす/エレメンツ!-Elemental Heroines-/別所あみか/SHORTCUT部/amber rain./AmazingStory/きみかが！/NEO EARTH!!/HUSH HUSH/B.K.S.N/
URL:https://hiraeth.tokyo/event/20230107-2/
LOCATION:新宿Fate\, 歌舞伎町2-28-16\, 新宿区\, 東京都\, 160-0021\, 日本
CATEGORIES:Live
ATTACH;FMTTYPE=image/jpeg:https://hiraeth.tokyo/wp-content/uploads/181582.jpg
END:VEVENT
BEGIN:VEVENT
DTSTART;VALUE=DATE:20230104
DTEND;VALUE=DATE:20230105
DTSTAMP:20260422T035007
CREATED:20221024T104838Z
LAST-MODIFIED:20230316T185919Z
UID:2975-1672790400-1672876799@hiraeth.tokyo
SUMMARY:☆280☆IDOL SPIRITS 新春増刊号@原宿withHARAJUKU
DESCRIPTION:日時 1/4(水)\nイベント IDOL SPIRITS 新春増刊号\n料金 前売 前方4000一般3000 当日＋500 (各D別)\n予約 https://tiget.net/events/220319\nLIVE 15:05～15:20\n物販 15:25～16:28\n会場 原宿withHARAJUKU\nOP 13:25\nST 13:40(予定)\nout 21:55\n出演 えあらびゅー/SE-tsu -NA/Licht/ぱーみるっ！/白夜のカフカ/異世界ギルド研修生/異世界アイドル☆パラレルパレード/IVY/のーぷらん。/プリンセスは眠らないっ！/てぃあむ/アイドールBRAVE/The Pink Microphone/Girls Upright/キプリスモルホォ/大宮アイドール/代々木女子音楽院/Bety/.BPM/OBP/フロレリーサ/81moment/CALL MY NAME/夢みるアドレセンス/他
URL:https://hiraeth.tokyo/event/20220104-2/
LOCATION:原宿withHARAJUKUホール\, 神宮前1-14-30\, 渋谷区\, 東京都\, 150-0001\, 日本
CATEGORIES:Live
ATTACH;FMTTYPE=image/jpeg:https://hiraeth.tokyo/wp-content/uploads/S__11706604.jpg
END:VEVENT
BEGIN:VEVENT
DTSTART;VALUE=DATE:20230103
DTEND;VALUE=DATE:20230104
DTSTAMP:20260422T035007
CREATED:20221202T042553Z
LAST-MODIFIED:20230316T185912Z
UID:3332-1672704000-1672790399@hiraeth.tokyo
SUMMARY:279☆☆第15回エアラビューpresents『汐音亜美奈デビューSP』@新宿Fate
DESCRIPTION:日時　1/3\nイベント第15回エアラビューpresents『汐音亜美奈デビューSP』\n料金前売2400当日2900(D別)\n予約　運営予約（ツイッターのDM）\n会場　新宿Fate\nOP12:45\nST13:45\nout 17:15\n出演 えあらびゅー/うたた寝シエスタ/#ワールドカオス/NEO EARTH!! \n \n◆タイムテーブル\n・12:45 オープン\n・12:45〜13:35 うたた寝シエスタのみ前物販\n・13:45～14:15うたた寝シエスタ\n・14:15〜14:25汐音あみなソロ\n・14:25～14:55NEO EARTH!!\n・14:55～15:25#ワールドカオス\n・15:25～15:55えあらびゅー\n・15:55〜16:05挨拶、集合写真\n・16:15～17:15終演後物販(えあらびゅー/#ワールドカオス/NEO EARTH!!)
URL:https://hiraeth.tokyo/event/20230103/
LOCATION:新宿Fate\, 歌舞伎町2-28-16\, 新宿区\, 東京都\, 160-0021\, 日本
CATEGORIES:Live
ATTACH;FMTTYPE=image/png:https://hiraeth.tokyo/wp-content/uploads/20230103-1.png
END:VEVENT
BEGIN:VEVENT
DTSTART;VALUE=DATE:20230102
DTEND;VALUE=DATE:20230103
DTSTAMP:20260422T035007
CREATED:20221216T143320Z
LAST-MODIFIED:20230316T185904Z
UID:3451-1672617600-1672703999@hiraeth.tokyo
SUMMARY:278☆☆新春 iDOL SONIC HAPPY NEW YEAR2023@新宿アルタKeyStudio
DESCRIPTION:日時　1/2\nイベント 新春 iDOL SONIC HAPPY NEW YEAR2023\n料金　前売3000当日3500(D代別)\n予約　https://t.livepocket.jp/e/girlsvision20230102\n※チケットは明日12/26(月)18:00～販売開始\nLIVE 13:00～13:20\n物販 13:30～14:30\n会場　新宿アルタKeyStudio\nOP 12:45\nST 13:00\nout\n出演　えあらびゅー/アイドールBRAVE/雨上がりのラプソディ/アンフレディア/1学期の前髪/CANDY GO!GO!/シブヤDOMINION/CHERRY GIRLS PROJECT/東京セラフィム/七星七愛/にとくり。/のーぷらん。/パーティポンチ/HALO PALLETE/Pink Panda/プリアモ/ブリオガジャ/ぽけっとファントム/ららぱれーど！/RURUDiA/錬日oTo個色/ \nーイベントレギュレーションー\n・マスク声出し可(予定)
URL:https://hiraeth.tokyo/event/20230102-2/
LOCATION:新宿アルタKeyStudio\, 新宿3-24－3\, 新宿区\, 東京都\, 160-0022\, 日本
CATEGORIES:Live
ATTACH;FMTTYPE=image/jpeg:https://hiraeth.tokyo/wp-content/uploads/A3F89970-6816-4669-8CBF-D383DC5EC1A7.jpeg
END:VEVENT
BEGIN:VEVENT
DTSTART;VALUE=DATE:20230102
DTEND;VALUE=DATE:20230103
DTSTAMP:20260422T035007
CREATED:20221202T042426Z
LAST-MODIFIED:20230316T185857Z
UID:3330-1672617600-1672703999@hiraeth.tokyo
SUMMARY:277☆☆MI・RA・I SUPER LIVE 2023 NEW YEAR PARTY2編@渋谷近未来会館
DESCRIPTION:日時 1/2(祝月)\nイベント MI・RA・I SUPER LIVE 2023 NEW YEAR PARTY2編\n料金 新年記念2023/前方最優先3500(D別)\n予約 https://tiget.net/events/220303\nLIVE 15:45～16:00\n物販 16:10～17:00\n会場 渋谷近未来会館\nOP 12:30\nST 13:00(予定)\nout\n出演 えあらびゅー/BANZAI JAPAN/100-YOKAI/8OYOROZ/ヒロインの心/のーぷらん。/HALO PALLETE/Tri-Sphere/Linaria/パステル☆ジョーカー/CLIPCLIP/レプスルプス/SHORTCUT部/葉月あすか/KUJU/伊藤桃/うじゅら/SUZY/THE+BETH/5%BERMUDA/Li-V-RAVE/Ns.aoi/別所あみか/鈴木音々/他
URL:https://hiraeth.tokyo/event/20230102-1/
LOCATION:渋谷近未来会館\, 渋谷1-11-1 COI西青山ビルB1\, 渋谷区\, 東京都\, 150-0002\, 日本
CATEGORIES:Live
ATTACH;FMTTYPE=image/jpeg:https://hiraeth.tokyo/wp-content/uploads/07ac4358571a90f37568f52f2aac64cb.jpg
END:VEVENT
BEGIN:VEVENT
DTSTART;VALUE=DATE:20230101
DTEND;VALUE=DATE:20230102
DTSTAMP:20260422T035007
CREATED:20221231T095729Z
LAST-MODIFIED:20230316T185850Z
UID:3638-1672531200-1672617599@hiraeth.tokyo
SUMMARY:276☆☆duo SUPER LIVE 2023 NEW YEAR PARTY編@duo MUSIC EXCHANGE
DESCRIPTION:日時 1/1\nイベント duo SUPER LIVE 2023 NEW YEAR PARTY編\n前売：新年記念2023円前方最優先4000円\n当日券：一般3000円前方最優先4500円\n(各D別)\n予約　https://tiget.net/events/219438\nLIVE 13:30〜13:50\n物販 14:05〜14:55\n\n会場 duo MUSIC EXCHANGE\nOP 9:15\nST 9:45(予定)\nout\n出演 えあらびゅー/風男塾/BANZAI JAPAN/COLOR’z/ソラネルカンパニー/LoveCherish/神風センセーション/大宮I☆DOLL/アイドールBRAVE/Lapis/100万ドルのフェアレディ/蛍/思い出とプレゼント/ぽけっとファントム/Twinkle☆Stars/桜色Standard/it’s sunny/たまプリ/みらくる☆ふぉーぜ/HALO PALLETE/Untitled/ai*ai/Cassie Te Light/100-YOKAI/きっと、これが世界？/8OYOROZ/ヒロインの心/PEARL’s/TheWORLD/#ビビデビート♭/燃えこれ学園/MAKE/Poppins/迷走ガール/朝倉凜/他
URL:https://hiraeth.tokyo/event/20220101-2/
CATEGORIES:Live
ATTACH;FMTTYPE=image/jpeg:https://hiraeth.tokyo/wp-content/uploads/8EFB298B-B5A4-40AF-BB9E-184FB011E0CB.jpeg
END:VEVENT
END:VCALENDAR