BEGIN:VCALENDAR
VERSION:2.0
PRODID:-//【HIRAETH.Tokyo】(ヒラエス.トーキョー) - ECPv6.11.2//NONSGML v1.0//EN
CALSCALE:GREGORIAN
METHOD:PUBLISH
X-WR-CALNAME:【HIRAETH.Tokyo】(ヒラエス.トーキョー)
X-ORIGINAL-URL:https://hiraeth.tokyo
X-WR-CALDESC:【HIRAETH.Tokyo】(ヒラエス.トーキョー) のイベント
REFRESH-INTERVAL;VALUE=DURATION:PT1H
X-Robots-Tag:noindex
X-PUBLISHED-TTL:PT1H
BEGIN:VTIMEZONE
TZID:Asia/Tokyo
BEGIN:STANDARD
TZOFFSETFROM:+0900
TZOFFSETTO:+0900
TZNAME:JST
DTSTART:20230101T000000
END:STANDARD
END:VTIMEZONE
BEGIN:VEVENT
DTSTART;VALUE=DATE:20230325
DTEND;VALUE=DATE:20230326
DTSTAMP:20260422T082411
CREATED:20230120T111245Z
LAST-MODIFIED:20230404T164113Z
UID:3877-1679702400-1679788799@hiraeth.tokyo
SUMMARY:329☆☆MARQUEE祭mini Vol.145@渋谷Spotify O-nest
DESCRIPTION:日時　3/25(土)\nイベント　MARQUEE祭mini Vol.145\n料金 前売3000当日3500 (各D別)\n予約　http://eplus.jp/marquee-matsuri/\nLIVE　14:10～14:30\n物販　14:55-15:55 ブースAB(終演後)\n会場　渋谷Spotify O-nest\nOP　10:30\nST　11:00\nout\n出演　えあらびゅー/夢みるアドレセンス/ZUTTOMOTTO/しろもん/RiNCENT./Shibu3 project/すてねこキャッ/にとくり。/トキメロ/日曜日のアプレミディ/erewhon/ \n情報公開  2/17(金)正午\n先行予約　2/18(土)正午～2/26(日)23:59\n一般発売　3/4(土)10:00～3/24(金)18:00 \n予約特典\n◆プレオーダー(抽選)\n▶特典\n・コメサチェキ券（後日利用）\n・メンバー別の手作りグッズ\nももな（チェキ帳）、きこ（ミニペンライト）、ひなた（チェキキーホルダー）、にあ（プラ板）、ことね（リストバンド）、あみな（ミサンガ）\n▶条件\n①MARQUEE祭らびゅー\n②当選画面\n③推しの名前（えあらびゅー）\n①②③をまとめてツイート \n◆一般(先着)\n▶特典\n・コメサチェキ券（後日利用）\n▶条件\n①MARQUEE祭らびゅー\n②当選画面\n①②をまとめてツイート \n指名入場特典\n▶特典\n・チェキ券（2枚）\n・集合プリ（画像）\n・えあらびゅーシール（2種のうち1枚）\n・CDが当たるくじ引き\n▶条件\n入場時にえあらびゅー指名と受付スタッフにお知らせください\n入場特典チケットをお渡し致します \n\nーーイベントレギュレーションーー\n●チケットはお一人様1枚のみ（チケットにはその方のお名前が記入されます)\n●整理券番号順入場、オールスタンディング\n●入場時に身分証確認をさせていただく場合がございます。顔写真付き身分証明証を持参お願いします\n●入場時に手の消毒、検温をお願いします\n●体温が37.5以上の方、咳症状の方は入場をお断りします\n●会場内は必ずマスクをご着用ください\n●リフト、モッシュ、柵に登る等の危険行為、ヤジ、泥酔等禁止\n●営利目的の転売禁止\n●会場内への飲食物の持ち込み禁止、アルコール販売なし\n●再入場不可\n●出演者変更に伴いますご返金は致しかねます
URL:https://hiraeth.tokyo/event/20230325-1/
LOCATION:渋谷Spotify O-nest\, 円山町２−３ O-WESTビル 6F\, 渋谷区\, 東京都\, 150-0044\, 日本
CATEGORIES:Live
ATTACH;FMTTYPE=image/jpeg:https://hiraeth.tokyo/wp-content/uploads/c400dfb1d1d1b0adfdf35255cd2dd014.jpg
END:VEVENT
BEGIN:VEVENT
DTSTART;VALUE=DATE:20230321
DTEND;VALUE=DATE:20230322
DTSTAMP:20260422T082411
CREATED:20230318T084656Z
LAST-MODIFIED:20230319T115200Z
UID:4914-1679356800-1679443199@hiraeth.tokyo
SUMMARY:326☆Polaris主催公演vol.0『立花ここソロ卒業ライブ Road to Polaris』@新宿Fate
DESCRIPTION:日時 3/21(火祝)\nイベント Polaris主催公演vol.0『立花ここソロ卒業ライブ Road to Polaris』\n料金 最前3000一般2000当日+500他(各D別)\n予約　https://tiget.net/events/233079\nLIVE 12:25〜12:45\n物販 12:50〜13:50\n会場 新宿Fate\nOP 10:30\nST 10:45(予定)\nout\n出演　えあらびゅー/立花ここ from Polaris/レッスントゥミ―/未ダ、君ヲ推セズ。/LycorisRadiata/立花ここ＆日向かのん from Poppins/あまりりす/ ICE-ink/Dolly Pink/
URL:https://hiraeth.tokyo/event/20230321-3-2/
LOCATION:新宿Fate\, 歌舞伎町2-28-16\, 新宿区\, 東京都\, 160-0021\, 日本
CATEGORIES:Live
ATTACH;FMTTYPE=image/jpeg:https://hiraeth.tokyo/wp-content/uploads/S__24485891.jpg
END:VEVENT
BEGIN:VEVENT
DTSTART;VALUE=DATE:20230321
DTEND;VALUE=DATE:20230322
DTSTAMP:20260422T082411
CREATED:20230314T121107Z
LAST-MODIFIED:20230320T151739Z
UID:4560-1679356800-1679443199@hiraeth.tokyo
SUMMARY:327☆Girls Face in VAMPKIN@浅草VAMPKIN
DESCRIPTION:日時 3/21(火祝)\nイベント Girls Face in VAMPKIN\n料金 予約2500 当日3000(各D別)\n予約　https://tiget.net/events/235857\nLIVE　15:15～15:35\n物販　15:40～16:30\n会場　浅草VAMPKIN\nOP 9:45\nST 10:00(予定)\nout\n出演　えあらびゅー/ステラリオン/ヒップバーン/ブリオガジャ/FloreRisa-フロレリーサ-/シューレース/きゅーてぃくるっ！/ばぶるぱれっと/Lapilaz/我らが地球ノ青い鳥/炭酸くろにくるっ/iNTOYOU/プリンセスは眠らないっ！/夢現シンクレティズム/Parasite.Kiss/ダンシングシンデレラ/こんぱす。Compass/TheWORLD/CoCoLo♡RiPPLe/FLAPSTAR/東京セラフィム/オグメンタル/Reverse Tokyo/いすとわーるど/Mila bijou/僕だけの天使/他
URL:https://hiraeth.tokyo/event/20230321-3/
LOCATION:浅草VAMPKIN\, 浅草2-10 ドン・キホーテ浅草店7F\, 台東区\, 東京都\, 111-0032\, 日本
CATEGORIES:Live
ATTACH;FMTTYPE=image/png:https://hiraeth.tokyo/wp-content/uploads/45f1865a-2743-44ba-9161-46dd4e7636ff.png
END:VEVENT
BEGIN:VEVENT
DTSTART;VALUE=DATE:20230319
DTEND;VALUE=DATE:20230320
DTSTAMP:20260422T082411
CREATED:20221213T050706Z
LAST-MODIFIED:20230316T190627Z
UID:3398-1679184000-1679270399@hiraeth.tokyo
SUMMARY:325☆IDOL SPIRITS 3月号＠五反田G7
DESCRIPTION:日時 3/19(日)\nイベント IDOL SPIRITS 3月号\n料金 前方優先3000一般前売2000当日+500(D別)\n予約　https://tiget.net/events/231860\nLIVE　14:25〜14:45\n物販　14:55〜15:55\n会場　五反田G7\nOP 13:15\nST 13:30\nout\n出演　えあらびゅー/Princess Garden-姫庭-/OBP/miao/スリジエ/代々木女子音楽院/.BPM/The Pink Microphone/AMOUR/Lanan/＃がらぽん/ゼロサンクチュアリ/comma\,/SE-tsu-NA/SeedS/PISTIL/ぱーみるっ！/いんたーねっと革命/星屑ラビリンス/Drink ME/POPPING CRUSH/桜色Standard/L.I.E.P/プリンセスは眠らないっ！/え～とす/ブルーなままで/Misty Syrena/など\n\n※別途ドリンク代600円必要となります。\n※マスク着用の上、声出し可\n※写真撮影全グループOK
URL:https://hiraeth.tokyo/event/20230319-1/
LOCATION:五反田G7\, 西五反田2-6-3 東洋ビルB1階\, 品川区\, 東京都\, 141-0031\, 日本
CATEGORIES:Live
ATTACH;FMTTYPE=image/jpeg:https://hiraeth.tokyo/wp-content/uploads/1f98a35804d11a3347a7bcd28048e99d-scaled.jpg
END:VEVENT
BEGIN:VEVENT
DTSTART;VALUE=DATE:20230318
DTEND;VALUE=DATE:20230319
DTSTAMP:20260422T082411
CREATED:20230302T165003Z
LAST-MODIFIED:20230316T190616Z
UID:4438-1679097600-1679183999@hiraeth.tokyo
SUMMARY:323新宿FATE無銭無双 昼部 ～ありがとうねこふわっち。～@新宿Fate
DESCRIPTION:日時　3/18(土)\nイベント　新宿FATE無銭無双 昼部\n～ありがとうねこふわっち。～\n料金 0円(2D別)\n予約　なし\nLIVE　10:10〜10:30\n物販　10:30〜11:30\n会場　新宿Fate\nOP　10:00\nST　10:10\nout\n出演　えあらびゅー/ByteSchwarz/ゼロサンクチュアリ/Lazuli mirage/A RARE+/エレメンツ！-Elemental Heroines-/SHORTCUT部/ねこふわっち。/LUNCH KIDS/夜とメルク/DAHLIA NOISE 360°/.Link/紫月はう/
URL:https://hiraeth.tokyo/event/20230318-2/
LOCATION:新宿Fate\, 歌舞伎町2-28-16\, 新宿区\, 東京都\, 160-0021\, 日本
CATEGORIES:Live
ATTACH;FMTTYPE=image/jpeg:https://hiraeth.tokyo/wp-content/uploads/5FAA6B56-47C8-4B30-A976-581E98B718C0.jpeg
END:VEVENT
BEGIN:VEVENT
DTSTART;VALUE=DATE:20230312
DTEND;VALUE=DATE:20230313
DTSTAMP:20260422T082411
CREATED:20230108T122458Z
LAST-MODIFIED:20230316T190538Z
UID:3717-1678579200-1678665599@hiraeth.tokyo
SUMMARY:322☆☆第18回えあらびゅーpresents「汐音亜美奈生誕祭〜これからもみーなを見ててみーな🐈‍⬛💜〜」@池袋リヴォイス
DESCRIPTION:日時　3/12(日)\nイベント　第18回えあらびゅーpresents「汐音亜美奈生誕祭〜これからもみーなを見ててみーな🐈‍⬛💜〜」\n予約　https://t.livepocket.jp/e/20230312-airlview-presents\n会場　池袋リヴォイス\n料金　前売Sチケット5000一般3333円当日3500(各D別)\nOP　20:00\nST　20:10\nout 22:20\n出演　えあらびゅー/ぴよ　いのり \n◆タイムテーブル\n▶20:00　開場\n▶20:10　開演\n▶20:10〜20:30　えあらびゅー(ライブ)\n▶20:30〜20:40　汐音ソロ\n▶20:40〜20:50　ぴよソロ\n▶20:50〜21:00　しおぴよ\n▶21:00〜21:10　えあらびゅー(コンテンツ)\n▶21:10〜21:15　えあらびゅー(アンコール)\n▶21:20〜22:20　物販 \n◆チケット料金(各D別)\n▶Sチケ：5000\n特典など：ブロマイド、チェキ券、みーな手作りチェキケース \n▶一般：3333 \n◆入場順\nSチケ→一般
URL:https://hiraeth.tokyo/event/20230312-1/
LOCATION:池袋リヴォイス\, 池袋2-12-9 広瀬ビルB1\, 豊島区\, 東京都\, 171-0014\, 日本
CATEGORIES:Live
ATTACH;FMTTYPE=image/png:https://hiraeth.tokyo/wp-content/uploads/1.png
END:VEVENT
BEGIN:VEVENT
DTSTART;VALUE=DATE:20230311
DTEND;VALUE=DATE:20230312
DTSTAMP:20260422T082411
CREATED:20230301T074549Z
LAST-MODIFIED:20230316T190530Z
UID:4420-1678492800-1678579199@hiraeth.tokyo
SUMMARY:321☆STAND OUT IDOL@SHIBUYA DIVE
DESCRIPTION:日時　3/11(土)\nイベント　Revolutionary Idol\n料金 前方5000一般2500(各D別)\n予約　https://t.livepocket.jp/e/revoidol\nLIVE　12:15〜12:40\n物販　13:00〜14:00\n会場　SHIBUYA DIVE\nOP　10:45\nST　11:00\nout\n出演　えあらびゅー/ラビットビット/PHiZZ/RUN WITH YOU/LOVE SPEARS/ヒップバーン/IIIIIIDIOM/炭酸くろにくるっ/ReverseTokyo/Anthology/夜とメルク/LUNCH KIDS/プリンセスは眠らないっ!/きっと、これが世界？/コノサキモ隣ニ/
URL:https://hiraeth.tokyo/event/20230311-2/
LOCATION:渋谷DIVE\, 東2-22-5 シブロジ 1F\, 渋谷区\, 東京都\, 150-0011\, 日本
CATEGORIES:Live
ATTACH;FMTTYPE=image/jpeg:https://hiraeth.tokyo/wp-content/uploads/A70B5DBE-860D-4E45-BEF8-6BE79DDA511A.jpeg
END:VEVENT
BEGIN:VEVENT
DTSTART;VALUE=DATE:20230305
DTEND;VALUE=DATE:20230306
DTSTAMP:20260422T082411
CREATED:20230108T133150Z
LAST-MODIFIED:20230316T190513Z
UID:3727-1677974400-1678060799@hiraeth.tokyo
SUMMARY:319☆ 水萌みず生誕祭2023@秋葉原SinfoniA
DESCRIPTION:日時 3/5(日)\nイベント　水萌みず生誕祭2023\n料金予約2500円当日3000円(各D別)\n予約運営\nLIVE18:45〜19:00\n物販19:20〜20:10\n会場秋葉原SinfoniA\nOP17:30\nST17:45\nout\n出演　えあらびゅー/天職ゆい/福永幸海/中野向日葵/ソロツモ/他 \nー\n17時45〜18時00 天職ゆい　並行\n(18時05〜18時55 3階B)\n18時00〜18時15  中野向日葵　終演後\n18時15〜18時30  福永幸海　終演後\n18時30〜18時45 えあらびゅー　終演後\n18時45〜19時00 ソロツモ　終演後\n19時05〜20時05 フロア終演後物販
URL:https://hiraeth.tokyo/event/20230305-1/
LOCATION:秋葉原SinfoniA\, 外神田4-6-2 いすゞビル9F\, 千代田区\, 東京都\, 101-0021\, 日本
CATEGORIES:Live
ATTACH;FMTTYPE=image/jpeg:https://hiraeth.tokyo/wp-content/uploads/D2A451EB-6B71-4C39-ADD7-A2A0E64D3D4A.jpeg
END:VEVENT
BEGIN:VEVENT
DTSTART;VALUE=DATE:20230304
DTEND;VALUE=DATE:20230305
DTSTAMP:20260422T082411
CREATED:20230221T105308Z
LAST-MODIFIED:20230316T190449Z
UID:4295-1677888000-1677974399@hiraeth.tokyo
SUMMARY:316☆日曜日の音楽会#3～朱雀井かりん復活SP～@池袋リヴォイス
DESCRIPTION:日時 3/4(土)\nイベント 日曜日の音楽会#3～朱雀井かりん復活SP～\n料金 予約2500円当日3000円(各D別)\n予約 https://t.livepocket.jp/e/zn5oy\nLIVE 11:40～12:00\n物販 12:00～13:00\n会場 池袋リヴォイス\nOP 10:30\nST 11:00\nout\n出演 えあらびゅー/日曜日のアプレミディ/きみとのワンダーランド/中二映画プロジェクトアイドル部/Try me/Next☆Rico/ \n※マスク着用必須声出しあり
URL:https://hiraeth.tokyo/event/20230304-2/
LOCATION:池袋リヴォイス\, 池袋2-12-9 広瀬ビルB1\, 豊島区\, 東京都\, 171-0014\, 日本
CATEGORIES:Live
ATTACH;FMTTYPE=image/jpeg:https://hiraeth.tokyo/wp-content/uploads/20230304-scaled.jpg
END:VEVENT
BEGIN:VEVENT
DTSTART;VALUE=DATE:20230304
DTEND;VALUE=DATE:20230305
DTSTAMP:20260422T082411
CREATED:20230225T093932Z
LAST-MODIFIED:20230316T190459Z
UID:4377-1677888000-1677974399@hiraeth.tokyo
SUMMARY:317☆AIdol Counter Attack 1部@秋葉原TwinBox GARAGE
DESCRIPTION:日時　3/4(土)\nイベント　AIdol Counter Attack 1部\n料金 お目当てなしチケット1000/前売2000/当日2500/+DD1000/前売通し3000/当日通し4000/+DD1500/(各D別)\n予約　https://tiget.net/events/233459\nLIVE　15:10〜15:45\n物販　15:50〜16:50\n会場　秋葉原TwinBox GARAGE\nOP　14:00\nST　14:20(予定)\nout\n出演　えあらびゅー/世ノ果テデ人形ハ唯哂フ。/ Licht / えあらびゅー / AiDOLOXXXY / Dolly:me / A RARE+ / 愛憎アンノウン / GUMi / yummyummy!!! /他 \n入場整列順、マスク着用声出し可
URL:https://hiraeth.tokyo/event/20230304-1/
LOCATION:秋葉原TwinBoxGARAGE\, 外神田3-2-12 Box'R AKIBAビル1階\, 千代田区\, 東京都\, 101-0021\, 日本
CATEGORIES:Live
ATTACH;FMTTYPE=image/jpeg:https://hiraeth.tokyo/wp-content/uploads/335342F5-429B-4B28-9B13-7A264A6B087F-scaled.jpeg
END:VEVENT
BEGIN:VEVENT
DTSTART;VALUE=DATE:20230304
DTEND;VALUE=DATE:20230305
DTSTAMP:20260422T082411
CREATED:20230227T085016Z
LAST-MODIFIED:20230316T190505Z
UID:4400-1677888000-1677974399@hiraeth.tokyo
SUMMARY:318☆#iDOLRiZM@GOTANDA G4
DESCRIPTION:日時　3/4(土)\nイベント　#iDOLRiZM in GOTANDA G4\n料金 前売 S3500 A2500 B500 当日+500(各D別)\n予約　https://tiget.net/events/232774\nLIVE　18:50～19:10\n物販　19:25～20:25\n会場　GOTANDA G4\nOP　12:45\nST　13:00(予定)\nout\n出演　えあらびゅー/amuLse/アポストロフィ/雨上がりのプラネット/あんのいず/IVY/属性コントラクト/Chummy/Descris./Tri-Sphere/PEARL‘s/Ω僕たちまたなにかやっちゃいました？Ω　 /My Best Friend/夢幻のプリューム/Mesia/めにぱら/MuMo°/ヤギヌマメイ/ユメオイ少女/unichan/♮リアスクライブ/Licel A*/Linaria/輪廻転生/Onephony/ \nーーイベントレギュレーションーー\n予約開始　2月28日22：00～\nSチケット：3500円（最前優先エリア）\nAチケット：前売2500円(一般)\nBチケット：女性500円\n当日各+500円\n※ 各１Drink別途600円 \n【入場順】　S　⇒　A　⇒　B　⇒ 当日\n【特記事項】\n・声出し可能（マスク必須）\n・再入場可（再入場時1Drink）\n・ジャンプ等は禁止となります \n【ライブ時の撮影について】\n本イベントは基本ルールとして無断撮影禁止となっております。\nグループ様、事務所様で撮影許可を出したい場合は、イベントが撮影禁止であることと、ご自身のユニットのみ撮影許可を出すことを主催に事前にご連絡の上で、当日出演前にTwitter等主要SNSにて発信いただき、ライブのMCでも発信していただければと思います。
URL:https://hiraeth.tokyo/event/20230304-3/
CATEGORIES:Live
ATTACH;FMTTYPE=image/jpeg:https://hiraeth.tokyo/wp-content/uploads/19354abb1f8ac988029d010393713996.jpg
END:VEVENT
BEGIN:VEVENT
DTSTART;VALUE=DATE:20230302
DTEND;VALUE=DATE:20230303
DTSTAMP:20260422T082411
CREATED:20230225T103039Z
LAST-MODIFIED:20230316T190439Z
UID:4379-1677715200-1677801599@hiraeth.tokyo
SUMMARY:315☆サマサマ！テイル Vol 1@Gotanda G4
DESCRIPTION:日時 3/2(木)\nイベント サマサマ！テイル Vol 1\n料金 予約優先4000一般2000円当日＋500(各D別)\n予約 https://tiget.net/events/232983\nLIVE 19:00～19:20\n物販 19:25 ～ 20:25\n会場 Gotanda G4\nOP 17:40\nST 18:00\nout\n出演 えあらびゅー/MuMo°/Onephony/きゅーてぃくるっ！/ばぶるぱれっと/Hiyorna/唯美人形/ステラリオン/neOen/paslil’ \n※優先エリア特典：優先入場・最前エリア
URL:https://hiraeth.tokyo/event/20230302-1/
LOCATION:五反田G4\, 西五反田1-11-8 大成ビル4F\, 品川区\, 東京都\, 141-0031
CATEGORIES:Live
ATTACH;FMTTYPE=image/png:https://hiraeth.tokyo/wp-content/uploads/2abc3be5-87b3-41ea-9502-c845d6759da1.png
END:VEVENT
BEGIN:VEVENT
DTSTART;VALUE=DATE:20230226
DTEND;VALUE=DATE:20230227
DTSTAMP:20260422T082411
CREATED:20230225T002910Z
LAST-MODIFIED:20230316T190432Z
UID:4368-1677369600-1677455999@hiraeth.tokyo
SUMMARY:314☆LIVEプラスSUNDAY@池袋リヴォイス
DESCRIPTION:日時 2/26(日)\nイベント LIVEプラスSUNDAY\n料金 前売1000当日＋500(各D別)\n予約　https://t.livepocket.jp/e/liveplus20230226_1\nLIVE　14:35〜14:50\n物販　14:50～15:50\n会場　池袋リヴォイス\nOP 14:25\nST 14:35\nout\n出演　えあらびゅー/キプリスモルホォ/Jumping Kiss/センチメルト/TokyoStory/Try me/松井唯/Licht /RURUDiA
URL:https://hiraeth.tokyo/event/20230226-1/
LOCATION:池袋リヴォイス\, 池袋2-12-9 広瀬ビルB1\, 豊島区\, 東京都\, 171-0014\, 日本
CATEGORIES:Live
ATTACH;FMTTYPE=image/jpeg:https://hiraeth.tokyo/wp-content/uploads/AD20034A-520F-4635-9C4E-29CB938928B4.jpeg
END:VEVENT
BEGIN:VEVENT
DTSTART;VALUE=DATE:20230225
DTEND;VALUE=DATE:20230226
DTSTAMP:20260422T082411
CREATED:20230215T200203Z
LAST-MODIFIED:20230316T190426Z
UID:4264-1677283200-1677369599@hiraeth.tokyo
SUMMARY:313☆お台場HADOアリーナグランドステージ
DESCRIPTION:日時2/25(土) \n予約\nhttps://tayori.com/form/1a002b00378d3d77f168107f2cd33edd031d5c0d/\n※2部の一般立入り観覧は無料\n（HADO対戦には参加できませんが一緒に応援可）\n※えあらびゅーは時間の都合上、対戦時間枠で退席となります。
URL:https://hiraeth.tokyo/event/20230225-1/
LOCATION:お台場HADOアリーナグランドステージ\, 台場1-7-1 アクアシティお台場 東エリア5F\, 港区\, 東京都\, 135-0091\, 日本
CATEGORIES:Live
END:VEVENT
BEGIN:VEVENT
DTSTART;VALUE=DATE:20230223
DTEND;VALUE=DATE:20230224
DTSTAMP:20260422T082411
CREATED:20230217T224522Z
LAST-MODIFIED:20230316T190415Z
UID:4293-1677110400-1677196799@hiraeth.tokyo
SUMMARY:312☆☆STAND OUT IDOL-SELENE-@白金高輪SELENE
DESCRIPTION:日時 2/23(木祝)\nイベント STAND OUT IDOL-SELENE-\n料金 予約前方5000一般3000当日＋1000(各D別)\n予約　https://t.livepocket.jp/e/0223_standoutidol\nLIVE　14:20～14:45\n物販　14:50～15:50\n会場　白金高輪SELENE\nOP 12:20\nST 12:40\nout\n出演　えあらびゅー/Anthology/えあらびゅー/シュユノトキ/ときめきテンプテーション\n/BLOOD/./unichan/LOVE SPEARS/ラビットビット/RUN WiTH YOU/ReverseTokyo/雨上がりのプラネット/異世界ノスタルジア/IIIIIIIDIOM/My Best Friend/Li-V-RAVE/未来サプライズ/他 \n\n販売期間：2023年02月20日(月) 22:00  〜  2023年02月22日(水) 23:20
URL:https://hiraeth.tokyo/event/20230223-1/
LOCATION:白金高輪SELENE\, 三田5-2−30 SELENE STUDIO\, 港区\, 東京都\, 1080-073\, 日本
CATEGORIES:Live
ATTACH;FMTTYPE=image/jpeg:https://hiraeth.tokyo/wp-content/uploads/E8A61916-3A37-41AA-8153-F4906E79F33B-scaled.jpeg
END:VEVENT
BEGIN:VEVENT
DTSTART;VALUE=DATE:20230219
DTEND;VALUE=DATE:20230220
DTSTAMP:20260422T082411
CREATED:20221212T175626Z
LAST-MODIFIED:20230316T190352Z
UID:3396-1676764800-1676851199@hiraeth.tokyo
SUMMARY:309☆IDOL SPIRITS@GOTANDA G7
DESCRIPTION:日時 2/19(日)\nイベント IDOL SPIRITS 2月合併号\n料金 前方予約3000一般予約2000当日+500(各D別)\n予約　https://tiget.net/events/228521\nLIVE 13:00〜13:20\n物販 13:20〜14:20\n会場 GOTANDA G7\nOP 9:40\nST 10:00(予定)\nout 22:00\n出演　えあらびゅー/Hiwillow/Cocotte/ViVian/いちごみるく色に染まりたい。/AMOURグループ研修生/.BPM/いんたーねっと革命/SE-tsu-NA/SeedS/PISTIL/RiKKYY/妄想学院・生徒会/妄想学園・裏生徒会/シャルロット/ブルーなままで/ぱーみるっ！/白夜のカフカ/星屑ラビエンス/キプリスモルホォ/代々木女子音楽院/えーとす/プリンセスは眠らないっ！/PLC/♮リアスクライブ/Lanan/81moment/DA・BAMBI/他
URL:https://hiraeth.tokyo/event/20230219-1/
LOCATION:五反田G7\, 西五反田2-6-3 東洋ビルB1階\, 品川区\, 東京都\, 141-0031\, 日本
CATEGORIES:Live
ATTACH;FMTTYPE=image/jpeg:https://hiraeth.tokyo/wp-content/uploads/69C88D12-BFF7-43BB-84E3-E31BC9A5F88C.jpeg
END:VEVENT
BEGIN:VEVENT
DTSTART;VALUE=DATE:20230219
DTEND;VALUE=DATE:20230220
DTSTAMP:20260422T082411
CREATED:20230201T052506Z
LAST-MODIFIED:20230316T190407Z
UID:4080-1676764800-1676851199@hiraeth.tokyo
SUMMARY:311☆「SMILE IDOL FESTIVAL」アイドルの笑顔を見て元気になろう@新宿アルタKeyStudio
DESCRIPTION:日時　2/19(日)\nイベント　「SMILE IDOL FESTIVAL」アイドルの笑顔を見て元気になろう\n料金 前売3000前方席5000(各D別)\n予約　https://tiget.net/events/228313\nLIVE　19:00～19:20\n物販　19:30～20:30\n会場　新宿アルタKeyStudio\nOP　11:00\nST　11:20(予定)\nout 21:55\n出演　えあらびゅー/ふるーつばすけっと/あいらび//百鬼乙女/Layn/StellA/Hiwillow/ブリオガジャ/アンフレディア/蒔野りか/スリジエ/THE+BETH/ZeroProject Z3-B/桜色Standard/ALLY/シュユノトキ/Kawaii Wonderland/ZeroProject Z3-C/Twinkle☆Stars/it’s sunny/ばぶばぶわんわん/ラストノート/レッスントゥミー/neOen/＃ワールドカオス/. L i n k/もふる×クロス/他 \n・マスク着用にて声だし可能
URL:https://hiraeth.tokyo/event/20230219-3/
LOCATION:新宿アルタKeyStudio\, 新宿3-24－3\, 新宿区\, 東京都\, 160-0022\, 日本
CATEGORIES:Live
ATTACH;FMTTYPE=image/jpeg:https://hiraeth.tokyo/wp-content/uploads/58b32427f174a82771d97a85692aa4ae-scaled.jpg
END:VEVENT
BEGIN:VEVENT
DTSTART;VALUE=DATE:20230219
DTEND;VALUE=DATE:20230220
DTSTAMP:20260422T082411
CREATED:20221229T100706Z
LAST-MODIFIED:20230316T190359Z
UID:3614-1676764800-1676851199@hiraeth.tokyo
SUMMARY:310新宿FATE無銭無双@新宿Fate
DESCRIPTION:日時 2/19(日)\nイベント 新宿FATE無銭無双\n料金 予約0当日0(2D別)\n予約　予約なし\nLIVE 21:00～21:20\n物販 21:50～22:50\n会場 新宿Fate\nOP 16:30\nST 17:00(予定)\nout\n出演 えあらびゅー/FROG PRINCESS/さんぷてぃ。/Lazuli mirage/HUSH HUSH/エレメンツ！-Elemental Heroines-/れんてつ/東京ぴ炎/他
URL:https://hiraeth.tokyo/event/20230219-2/
LOCATION:新宿Fate\, 歌舞伎町2-28-16\, 新宿区\, 東京都\, 160-0021\, 日本
CATEGORIES:Live
ATTACH;FMTTYPE=image/jpeg:https://hiraeth.tokyo/wp-content/uploads/189957.jpg
END:VEVENT
BEGIN:VEVENT
DTSTART;VALUE=DATE:20230218
DTEND;VALUE=DATE:20230219
DTSTAMP:20260422T082411
CREATED:20230114T063645Z
LAST-MODIFIED:20230316T190337Z
UID:3805-1676678400-1676764799@hiraeth.tokyo
SUMMARY:307☆『 LiVE! Supreme! ~アイドルライブ至上主義宣言~』vol.2@新宿ジールシアター
DESCRIPTION:日時 2/18(土)\nイベント 『 LiVE! Supreme! ~アイドルライブ至上主義宣言~』vol.2\n料金 予約2000当日＋500(D別)\n予約　https://tayori.com/form/1a002b00378d3d77f168107f2cd33edd031d5c0d/\nLIVE　11:50〜12:20\n物販　12:25〜13:35\n会場　新宿ジールシアター\nOP 11:10\nST 11:30\nout\n出演　えあらびゅー/PATI PATI CANDY…☆/CHERRY GIRLS PROJECT/ネオンレイン/松山あおい
URL:https://hiraeth.tokyo/event/20230218-1/
LOCATION:新宿ジールシアター\, 歌舞伎町2-44-1 健康プラザハイジア17F\, 新宿区\, 東京都\, 160-0021
CATEGORIES:Live
ATTACH;FMTTYPE=image/png:https://hiraeth.tokyo/wp-content/uploads/50C41B89-5DF4-40D3-937D-34CFF4320F05.png
END:VEVENT
BEGIN:VEVENT
DTSTART;VALUE=DATE:20230218
DTEND;VALUE=DATE:20230219
DTSTAMP:20260422T082411
CREATED:20230214T083626Z
LAST-MODIFIED:20230316T190346Z
UID:4237-1676678400-1676764799@hiraeth.tokyo
SUMMARY:308☆☆Zirco Tokyo Presents ガルザップ!!@新宿Zirco Tokyo
DESCRIPTION:日時 2/18(土)\nイベント Zirco Tokyo Presents ガルザップ!!\n料金 前方エリアSチケット3500 一般Aチケット2000　当日各+500(各D別)再入場+1D\n予約　https://t.livepocket.jp/e/fuqcb\nLIVE　15:55～16:15\n物販　17:00～18:00(終演後)\n会場 新宿Zirco Tokyo\nOP 10:30\nST 10:50\nout\n出演　えあらびゅー/瞬きもせず/そあとあめーむ。/ぱんぷるぽっぷ/未ダ、君ヲ推セズ。/LycorisRadiata/SHIKASHI/DEMO/unichan/yummyummy!!!/トキメロ/暁のアリア/オグメンタル/Lapilaz/Anthology/東京セラフィム /amber rain./ \n入場順：Sチケット(番号順)→Aチケット(番号順)→当日券(整列順)\n※公演が中止にならない限り払い戻しは行いませんのでそちらご了承の上チケットをお買い求め下さい。\n※マスク着用でのコールあり。
URL:https://hiraeth.tokyo/event/20230218-2/
LOCATION:新宿Zirco Tokyo\, 歌舞伎町1-2-5東陽ビルB2\, 新宿区\, 東京都\, 160-0021\, 日本
CATEGORIES:Live
ATTACH;FMTTYPE=image/jpeg:https://hiraeth.tokyo/wp-content/uploads/S__565259.jpg
END:VEVENT
BEGIN:VEVENT
DTSTART;VALUE=DATE:20230217
DTEND;VALUE=DATE:20230218
DTSTAMP:20260422T082411
CREATED:20230117T185408Z
LAST-MODIFIED:20230316T190326Z
UID:3829-1676592000-1676678399@hiraeth.tokyo
SUMMARY:306☆☆セカイベフェス＠五反田G6
DESCRIPTION:日時 2/17(金)\nイベント セカイベフェス\n料金 前売2000当日2500(D別)\n予約 https://t.livepocket.jp/e/second-innovation_vol14\nLIVE 18:00 〜18:20\n物販 18:30 〜19:30\n会場 五反田G6\nOP 17:00\nST 17:20(予定)\n出演 えあらびゅー/Cassie Te Light/Mesia/BLUE GLASS/wqwq/5％BERMUDA/AMOURグループ候補生/AMOUR/青山Rabness/Caress Van End/キミイロプロジェクト/レプスルプス/ \nアイドル専門メディア『セカイべ』の14回目となる東京での主催ライブイベント\nhttps://second-innovation.com/
URL:https://hiraeth.tokyo/event/20230217-1/
LOCATION:五反田G6\, 西五反田2-6-3 東洋ビルB1階\, 品川区\, 東京都\, 141-0031\, 日本
CATEGORIES:Live
ATTACH;FMTTYPE=image/jpeg:https://hiraeth.tokyo/wp-content/uploads/Bpde3gTE.jpg
END:VEVENT
BEGIN:VEVENT
DTSTART;VALUE=DATE:20230217
DTEND;VALUE=DATE:20230227
DTSTAMP:20260422T082411
CREATED:20230120T152850Z
LAST-MODIFIED:20230120T153336Z
UID:3920-1676592000-1677455999@hiraeth.tokyo
SUMMARY:【NIG2023敗者復活】NEXT IDOL GRANDPRIX2023
DESCRIPTION:応援はこちらから\nhttps://yell.mixch.tv/contests/168/candidates/10332 \n▼審査詳細▼\nhttps://mixch.tv/p/frujown1\n▼NIG2023公式HP▼\nhttps://nig.mixch.tv/nig2023 \nスケジュール\n【敗者復活】\n2月17日(金) ～ 2月26日(日) \n【決勝】\n3月1日(水) ～ 3月22日(水) \n【決勝中間パフォーマンス審査】\n3月21日(火・祝)　@都内某所 \n【決勝最終審査】\n3月23日(木)　@TOKYO DOME CITY HALL \n予選\n【ブロック数】\n4ブロック \n【予選期間】\n1月20日(金) ～ 2月12日(日) \n決勝進出組数\n・各ブロックの総合ポイント上位2組\n・それらの組を除いた全体の総合ポイント上位3組\n・合計11組が決勝進出 \n予選審査項目\n予選では「LIVE配信+動画投稿ポイント」「動画Like数」「ミクチャエール」「Twitter RT」の4つの審査 \n①LIVE配信+動画投稿ポイント\n・予選期間中、LIVE配信+動画投稿で獲得したポイント数を競います\n・LIVE配信+動画投稿の獲得ポイントランキングに応じて総合ptを付与します \n②動画Like数\n・予選期間中に投稿した「最大Like数」を獲得した1動画で競います。（獲得ポイントについては、予選期間中に投稿して獲得したものを全て合算して集計を行います）\n・獲得したLIKE数に応じたランキング順に下記の総合ポイントを付与します。 \n③ミクチャエール\n・無料投票サイト「ミクチャエール」での投票数を競います。\n・獲得した投票数に応じたランキング順に下記の総合ポイントを付与します。\n・1人1日 3票まで投票可能です。 \n④Twitter RT\n・固定ツイートかつ条件を満たしているツイートのRT数を競います。\n・RT数に応じたランキング順に下記の総合ポイントを付与します。 \n \n \n \n \n決勝進出条件\n◇各ブロックの総合ポイントランキング上位2組は決勝へ進出！（合計8組）\n◇上記を除く全体の総合ポイントランキング上位3組も決勝へ進出！ \n※予選からは合計11組が決勝に進出できます。\n※敗者復活からは1組が決勝に進出できます。\n※決勝進出組のうち一部は、LIVE配信+動画投稿ポイントの一部引継ぎを行います。 \n–LIVE配信+動画投稿ポイントの引き継ぎについて– \n予選全ブロックでの総合ポイント1位（1組） \n予選で獲得したLIVE配信+動画投稿ポイントの3％を決勝に引継ぎ（小数点以下切り捨て） \n予選全ブロックでの総合ポイント2位（1組） \n予選で獲得したLIVE配信+動画投稿ポイントの2％を決勝に引継ぎ（小数点以下切り捨て） \n予選全ブロックでの総合ポイント3〜5位（3組） \n予選で獲得したLIVE配信+動画投稿ポイントの1％を決勝に引継ぎ（小数点以下切り捨て） \n敗者復活からの決勝進出1組 \n敗者復活で獲得したLIVE配信+動画投稿ポイントの1%を決勝に引継ぎ（小数点以下切り捨て） \n※総合ポイントが同数となった場合は、LIVE配信+動画投稿ポイントの上位を優先して選出を行いますので、予めご了承ください。 \nコンテスト最終審査MC\n今回大会は豪華MCを迎えて開催！\n・高橋みなみ\n・クロちゃん
URL:https://hiraeth.tokyo/event/nig2023-2/
CATEGORIES:Event,Live
END:VEVENT
BEGIN:VEVENT
DTSTART;VALUE=DATE:20230212
DTEND;VALUE=DATE:20230213
DTSTAMP:20260422T082411
CREATED:20221222T093813Z
LAST-MODIFIED:20230316T190259Z
UID:3545-1676160000-1676246399@hiraeth.tokyo
SUMMARY:303☆☆第17回えあらびゅーpresents『にあプロデュース Happy Valentine SP💝🍫』@渋谷CLUB CAMELOT
DESCRIPTION:日時 2/12(日)\nイベント 第17回えあらびゅーpresents『にあプロデュース Happy Valentine SP💝🍫』\n料金 前売2500 当日3000(各D別)\n予約 https://t.livepocket.jp/e/6fan6\n会場 渋谷CLUB CAMELOT\nOP 14:50\nST 15:05\nout 17:10\n出演 えあらびゅー\n\n◆タイムテーブル\n・14:50オープン\n・15:05スタート\n・15:05〜15:30えあらびゅーライブ\n・15:30〜15:40生誕メンバー（にあ）ソロ\n・15:40〜15:55コンテンツ\n・16:05終演〜B1移動\n・16:10〜17:10物販
URL:https://hiraeth.tokyo/event/20230207-1/
LOCATION:渋谷キャメロット\, 神南1-18-2 フレーム神南坂 B3\, 渋谷区\, 東京都\, 150-0041\, 日本
CATEGORIES:Live
ATTACH;FMTTYPE=image/jpeg:https://hiraeth.tokyo/wp-content/uploads/nia1.jpg
END:VEVENT
BEGIN:VEVENT
DTSTART;VALUE=DATE:20230212
DTEND;VALUE=DATE:20230213
DTSTAMP:20260422T082411
CREATED:20230122T015108Z
LAST-MODIFIED:20230316T190307Z
UID:3932-1676160000-1676246399@hiraeth.tokyo
SUMMARY:304☆IDOL大博覧会プレ@渋谷DIVE
DESCRIPTION:日時 2/12(日)\nイベント IDOL大博覧会-プレイベント-\n料金 一般2800最前4500当日+700(各D別)\n予約 https://tiget.net/events/229631 2月8日 12：00予約開始\nLIVE 19:45〜20:00\n物販 C20:30〜21:20\n会場 渋谷DIVE\nOP 10:45\nST 11:00\nout 22:00\n出演 えあらびゅー/アンフレディア/青山Rabness/paslil’/君とセレンディピティ/ルミキスex/FLAPSTAR/おやすみセカイ/レッスントゥミー/NaNiYoRi(大阪)/Jewel Mermaid(湘南)/chairmans(仙台)/My Best Friend/雨上がりのプラネット/IVY/HINAGIKU./JADE/COZ39/Fortuness/emiu/みらくる☆ふぉーぜ/アクアルクス/凛然エクスプレス/ЯanaB/Pink moon/CRAYONS/ルクトゥーMe/Zero Project Z2/Zero Project Z3/アイコノグラムズ/Mer’Clair/ねむりーぷ/鏡界性_ぴゅろてぃずむ/ねむる/FUZZBUZZ/ゼロサンクチュアリ/\n\n再入場禁止\nーー\n写真・動画撮影可(youtube投稿不可)\n主催：iColony/CROSS PRESS\n協力：株式会社Lazz/YUMENOHANASHI株式会社/押忍フェス
URL:https://hiraeth.tokyo/event/20230212-2/
LOCATION:渋谷DIVE\, 東2-22-5 シブロジ 1F\, 渋谷区\, 東京都\, 150-0011\, 日本
CATEGORIES:Live
ATTACH;FMTTYPE=image/jpeg:https://hiraeth.tokyo/wp-content/uploads/cd61a903a89c9ea019f7538b2064d5db-scaled.jpg
END:VEVENT
BEGIN:VEVENT
DTSTART;VALUE=DATE:20230211
DTEND;VALUE=DATE:20230212
DTSTAMP:20260422T082411
CREATED:20230130T173127Z
LAST-MODIFIED:20230316T190241Z
UID:4033-1676073600-1676159999@hiraeth.tokyo
SUMMARY:301☆AKIHABARA SUPERNOVA@秋葉原TwinBoxGARAGE
DESCRIPTION:日時 2/11(土)\nイベント AKIHABARA SUPERNOVA(2会場連動サーキットイベント)\n料金 全会場入場：前売4000当日4500、1会場のみ入場：前売2500当日3000※各会場初回入場の際に1D※女性無料※早割料金(-500)\nLIVE 12:45～13:05\n物販 13:15～14:05\n会場 秋葉原TwinBoxGARAGE\nOP 11:45\nST\nout\n出演 えあらびゅー/あいたいね！/アスノソノリィテ/1学期の前髪/8princess/技術体力向上委員会/きゅーてぃくるっ！/CLIPCLIP/comma\,/THAT’s So/CharmeAiles/SUGAR☆VEGA .com/ゼロサンクチュアリ/DEEPGEEK/ネオトウキョウクラブ/ばぶるぱれっと/PinkPanda/プリアモ/ブルベア/Ω僕たちまたなにかやっちゃいました？Ω/My placious/負けない僕等は、雨の降る世界で猫と踊る。/もぐちっぷ/unichan/ユメオイ少女/他\n\n\n◆予約\n▶全会場入場\nhttps://tiget.net/events/229459 \n▶秋葉原ZESTのみ入場\nhttps://tiget.net/events/229461 \n▶TwinBoxGARAGEのみ入場\nhttps://tiget.net/events/229462 \n▶女性無料入場\nhttps://tiget.net/events/229460
URL:https://hiraeth.tokyo/event/20230211-1/
CATEGORIES:Live
ATTACH;FMTTYPE=image/png:https://hiraeth.tokyo/wp-content/uploads/FoRfyx5aAAAwH0_.png
END:VEVENT
BEGIN:VEVENT
DTSTART;VALUE=DATE:20230211
DTEND;VALUE=DATE:20230212
DTSTAMP:20260422T082411
CREATED:20230206T124439Z
LAST-MODIFIED:20230316T190250Z
UID:4159-1676073600-1676159999@hiraeth.tokyo
SUMMARY:302☆SeeKa IDOL FESTIVAL@秋葉原シンフォニア
DESCRIPTION:日時 2/11(土)\nイベント SeeKa IDOL FESTIVAL\n料金 入場料2000女性500(各D別、予約当日共通)再入場無料 出入り自由 リストバンド着用\n予約 運営予約\nLIVE 15:40〜16:00\n物販 16:05〜17:05\n会場 秋葉原シンフォニア\nOP12:20\nST12:40(予定)\nout\n出演 えあらびゅー/Amazing Story未ダ、君ヲ推セズ。/Wisteria Record/きみかが！/せろとにん×ばくだん/ときめきテンプテーション/花宮みずき/姫乃もえ/BLOOD/./星乃彩那/PONCHO/まひろちほ/みさきソロ/妄想学院・裏生徒会/妄想学院・生徒会/優希/世ノ果テデ人形ハ唯哂フ。/世ノ果テデ人形ハ唯哂フ。絶/THEラスミー/
URL:https://hiraeth.tokyo/event/20230211-2/
LOCATION:秋葉原SinfoniA\, 外神田4-6-2 いすゞビル9F\, 千代田区\, 東京都\, 101-0021\, 日本
CATEGORIES:Live
ATTACH;FMTTYPE=image/jpeg:https://hiraeth.tokyo/wp-content/uploads/0234DE34-F395-4F70-879B-7AB9A7565E1A.jpeg
END:VEVENT
BEGIN:VEVENT
DTSTART;VALUE=DATE:20230205
DTEND;VALUE=DATE:20230206
DTSTAMP:20260422T082411
CREATED:20221226T064046Z
LAST-MODIFIED:20230130T120811Z
UID:3572-1675555200-1675641599@hiraeth.tokyo
SUMMARY:(不参加)iDOL PARTY for ThanksGiving@SHIBUYA RING
DESCRIPTION:諸事情によりこちらのイベントは不参加となります。\nーーー\n日時2/5(日)\nイベント　iDOL PARTY for ThanksGiving\n会場　SHIBUYA RING
URL:https://hiraeth.tokyo/event/20230205-1/
CATEGORIES:Live
END:VEVENT
BEGIN:VEVENT
DTSTART;VALUE=DATE:20230205
DTEND;VALUE=DATE:20230206
DTSTAMP:20260422T082411
CREATED:20230108T133952Z
LAST-MODIFIED:20230316T190221Z
UID:3729-1675555200-1675641599@hiraeth.tokyo
SUMMARY:299☆月皇まひろ生誕祭@秋葉原TwinBox
DESCRIPTION:日時 2/5(日)\nイベント 〜月皇まひろ生誕祭〜\n料金 前売2000当日2500女性1000(各D別)\n予約 https://tiget.net/events/224419\nLIVE 11:40～11:55\n物販 12:10～13:00\n会場 秋葉原TwinBox\nOP9:30\nST9:50\nout13:30\n出演 えあらびゅー/SUGAR☆VEGA .com/まひろソロ/シブヤDOMINION/#ワールドカオス/TJ(トーンジュエル)/レプスルプス/トイトニック/夢色彩∞アンフィニー/8ANGEL/8DOLL/Try me/他
URL:https://hiraeth.tokyo/event/20230205-2/
LOCATION:秋葉原TwinBoxAKIHABARA\, 外神田3-2-12 Box'R AKIBAビルB1\, 千代田区\, 東京都\, 101-0021
CATEGORIES:Live
ATTACH;FMTTYPE=image/jpeg:https://hiraeth.tokyo/wp-content/uploads/3FAF13E3-FE06-40AF-AAF1-0C0F728DC5E5.jpeg
END:VEVENT
BEGIN:VEVENT
DTSTART;VALUE=DATE:20230204
DTEND;VALUE=DATE:20230205
DTSTAMP:20260422T082411
CREATED:20230130T143651Z
LAST-MODIFIED:20230316T190211Z
UID:4039-1675468800-1675555199@hiraeth.tokyo
SUMMARY:298☆☆shibuya ATOMiC LiVE@渋谷ジーカンズ
DESCRIPTION:日時　2/4(土)\nイベント　shibuya ATOMiC LiVE\n料金 一般2500当日3000(D別)\n予約　https://t.livepocket.jp/e/girlsvision20230204\nLIVE　16:50～17:10\n物販　Ⓒ17:25～18:25\n会場　渋谷ジーカンズ\nOP　11:45\nST　12:00(予定)\nout 20:00\n出演　えあらびゅー/Blossom Garden/Lycoris Radiata/ViVian/せろとにん×ばくだん/キプリスモルホォ/原宿学園/CharmeAiles/ZeroProject Z3-A/RONPA～PINK～/Blue+/ぽけっとファントム/アネーロニーニャ/R.I.P.研究所/ヒビコレ//『アイコノクラズム』/香月友梨奈/世ノ果テデ人形ハ唯晒フ。絶/世ノ果テデ人形ハ唯晒フ。/東京セラフィム/
URL:https://hiraeth.tokyo/event/20230204-1/
LOCATION:渋谷ジーカンズ\, 円山町2-4\, 渋谷区\, 東京都\, 日本
CATEGORIES:Live
ATTACH;FMTTYPE=image/jpeg:https://hiraeth.tokyo/wp-content/uploads/2d9f8d1ed3a4116e24564a383d2032f6.jpg
END:VEVENT
BEGIN:VEVENT
DTSTART;VALUE=DATE:20230129
DTEND;VALUE=DATE:20230130
DTSTAMP:20260422T082411
CREATED:20230125T121040Z
LAST-MODIFIED:20230316T190155Z
UID:3976-1674950400-1675036799@hiraeth.tokyo
SUMMARY:297☆☆shibuya ATOMiC LiVE@渋谷ジーカンズ
DESCRIPTION:日時　1/29(日)\nイベント　shibuya ATOMiC LiVE\n料金 前売2500当日3000(各D別)\n予約　https://t.livepocket.jp/e/girlsvision20230129\nLIVE　15:45〜16:05\n物販　16:20〜17:20\n会場　渋谷ジーカンズ\nOP　11:45\nST　12:00\nout\n出演　えあらびゅー/アイコノクラズム/AiDOLOXXXY/オグメンタル/Caress Van End/Jewel Mermaid/シュユノトキ/ZeroProject Z2-A/ZeroProject Z5-C/中2映画プロジェクト アイドル部/トイランド/東京CLEAR’S/Try me/8月のエウテルペ/ はなここ/ViViBee/プリズムハート/POP CANDY/MAD JAMIE/Lapis/Lycoris Radiata/RiKKYY/RepiDoll/
URL:https://hiraeth.tokyo/event/20230129-3/
LOCATION:渋谷ジーカンズ\, 円山町2-4\, 渋谷区\, 東京都\, 日本
CATEGORIES:Live
END:VEVENT
END:VCALENDAR