BEGIN:VCALENDAR
VERSION:2.0
PRODID:-//【HIRAETH.Tokyo】(ヒラエス.トーキョー) - ECPv6.11.2//NONSGML v1.0//EN
CALSCALE:GREGORIAN
METHOD:PUBLISH
X-WR-CALNAME:【HIRAETH.Tokyo】(ヒラエス.トーキョー)
X-ORIGINAL-URL:https://hiraeth.tokyo
X-WR-CALDESC:【HIRAETH.Tokyo】(ヒラエス.トーキョー) のイベント
REFRESH-INTERVAL;VALUE=DURATION:PT1H
X-Robots-Tag:noindex
X-PUBLISHED-TTL:PT1H
BEGIN:VTIMEZONE
TZID:Asia/Tokyo
BEGIN:STANDARD
TZOFFSETFROM:+0900
TZOFFSETTO:+0900
TZNAME:JST
DTSTART:20210101T000000
END:STANDARD
END:VTIMEZONE
BEGIN:VEVENT
DTSTART;VALUE=DATE:20210828
DTEND;VALUE=DATE:20210829
DTSTAMP:20260422T040151
CREATED:20210906T201312Z
LAST-MODIFIED:20210906T204451Z
UID:75-1630108800-1630195199@hiraeth.tokyo
SUMMARY:アイドルライブ情報部Season2@オンライン公開収録
DESCRIPTION:日時/　2021年8月28日（水）\nイベント/ アイドルライブ情報部Season2【オンライン公開収録】\n料金/ 通常予約2100（リモート参加チケット） 特典予約3300（リモート参加チケット＋特典付）\nhttps://tiget.net/events/144523 \nOP/ 21:45\nST/ 22:00（予定）\n出演/ airlview/もりりか/いとうあいか/藤田あずさ/ \nその他/コール：可or不可、再入場：可or不可、喫煙所：有or無、運営予約：可or不可\n※状況により変更される場合がございます
URL:https://hiraeth.tokyo/event/20210828-1/
CATEGORIES:Live,Media
ATTACH;FMTTYPE=image/png:https://hiraeth.tokyo/wp-content/uploads/20210828-1.png
END:VEVENT
BEGIN:VEVENT
DTSTART;VALUE=DATE:20210827
DTEND;VALUE=DATE:20210828
DTSTAMP:20260422T040151
CREATED:20210906T200607Z
LAST-MODIFIED:20210920T090755Z
UID:71-1630022400-1630108799@hiraeth.tokyo
SUMMARY:2☆ドリ☆ステpresents ラストフライデーナイト 〜最終金曜の夜は何かが起こる？！〜@新宿Fate
DESCRIPTION:日時/　2021年8月27日\nイベント/ ドリ☆ステpresents ラストフライデーナイト 〜最終金曜の夜は何かが起こる？！〜\n料金/ 予約2000 当日2500（D別）\n※別途１ドリンク代必要\nhttps://t.livepocket.jp/e/last-friday-night_20210827 \nLIVE/ 18:05～18:20\,19:05～19:20\n物販/ 終演後\n会場/ 新宿Fate\nOP/ 17:40\nST/ 18:05（予定）\n出演/ airlview/ドリ☆ステ/Silly°Honey \nその他/コール：可or不可、再入場：可or不可、喫煙所：有or無、運営予約：可or不可\n※状況により変更される場合がございます
URL:https://hiraeth.tokyo/event/20210827-1/
LOCATION:新宿Fate\, 歌舞伎町2-28-16\, 新宿区\, 東京都\, 160-0021\, 日本
CATEGORIES:Live
ATTACH;FMTTYPE=image/jpeg:https://hiraeth.tokyo/wp-content/uploads/dfece19436ac55307c10eb5950b756df.jpg
END:VEVENT
BEGIN:VEVENT
DTSTART;VALUE=DATE:20210819
DTEND;VALUE=DATE:20210820
DTSTAMP:20260422T040151
CREATED:20210906T194607Z
LAST-MODIFIED:20210920T090743Z
UID:69-1629331200-1629417599@hiraeth.tokyo
SUMMARY:1☆”airlviewお披露目ライブ”　Jamboree@新宿ReNY
DESCRIPTION:公演日　8/19（木）\n会　場　新宿ReNY\n時　間　開場15:00/　開演15:20\n料　金　優先エリア3500円/一般エリア3000円\n早割り-500円（17:00までの入場） \n【出演】airlview/BANZAI JAPAN/邂逅のアルカリウム/Lil na Valley/elseed/アイオケ/ハートの心電図/泡恋/sweet palet/めにぱら/ToKickBe●REC/セカモノ \n※注意事項 \n熱が37.5℃以上の方はご入場お断りします。\n声出しNG/マスク必須（演者物販時も）マウスガード不可\n物販時に飛沫シートが必須となります。\n再入場１D\n入場の際、消毒検温実施
URL:https://hiraeth.tokyo/event/20210819-1/
LOCATION:新宿ReNY\, 西新宿6-5-1 アイランドホール ２F\, 新宿区\, 東京都\, 160-0023\, 日本
CATEGORIES:Event,Live
ATTACH;FMTTYPE=image/png:https://hiraeth.tokyo/wp-content/uploads/20210819-1.png
END:VEVENT
END:VCALENDAR