BEGIN:VCALENDAR
VERSION:2.0
PRODID:-//【HIRAETH.Tokyo】(ヒラエス.トーキョー) - ECPv6.11.2//NONSGML v1.0//EN
CALSCALE:GREGORIAN
METHOD:PUBLISH
X-WR-CALNAME:【HIRAETH.Tokyo】(ヒラエス.トーキョー)
X-ORIGINAL-URL:https://hiraeth.tokyo
X-WR-CALDESC:【HIRAETH.Tokyo】(ヒラエス.トーキョー) のイベント
REFRESH-INTERVAL;VALUE=DURATION:PT1H
X-Robots-Tag:noindex
X-PUBLISHED-TTL:PT1H
BEGIN:VTIMEZONE
TZID:Asia/Tokyo
BEGIN:STANDARD
TZOFFSETFROM:+0900
TZOFFSETTO:+0900
TZNAME:JST
DTSTART:20220101T000000
END:STANDARD
END:VTIMEZONE
BEGIN:VEVENT
DTSTART;VALUE=DATE:20220423
DTEND;VALUE=DATE:20220424
DTSTAMP:20260426T042940
CREATED:20220408T020830Z
LAST-MODIFIED:20230316T182947Z
UID:1330-1650672000-1650758399@hiraeth.tokyo
SUMMARY:106☆SATURDAY Re:voice1000二部@池袋リヴォイス
DESCRIPTION:日時/4/23(土)\nイベント/SATURDAY Re:voice1000二部\n料金/前売1000当日1500(D別)\n予約/ https://t.livepocket.jp/e/1000revo20220423_2\nLIVE/21:00～21:15\n物販/21:15～22:15\n会場/池袋リヴォイス\nOP/16:50\nST/17:05\n出演/エアラビュー/R.I.P.研究所/未ダ、君ヲ推セズ。/うたた寝シエスタ/GiMMiCK/CasLove/STELLABEATS/ZeroProject選抜/deeper²/電脳カプセル/Tri-Sphere/びばビボ/FEAM/FLAPSTA/mogu☆mogu/
URL:https://hiraeth.tokyo/event/20220423-2/
LOCATION:池袋リヴォイス\, 池袋2-12-9 広瀬ビルB1\, 豊島区\, 東京都\, 171-0014\, 日本
CATEGORIES:Live
ATTACH;FMTTYPE=image/jpeg:https://hiraeth.tokyo/wp-content/uploads/d727a3e63bf5acf5b60188da75d7cbb4.jpg
END:VEVENT
BEGIN:VEVENT
DTSTART;VALUE=DATE:20220423
DTEND;VALUE=DATE:20220424
DTSTAMP:20260426T042940
CREATED:20220322T150403Z
LAST-MODIFIED:20230316T182940Z
UID:1240-1650672000-1650758399@hiraeth.tokyo
SUMMARY:105☆☆四季折々mini@目黒ライブステーション
DESCRIPTION:日時/4/23(土)\nイベント/四季折々mini\n料金/S3000\,A1000\,当日＋1000(各D別)\n予約/ https://t.livepocket.jp/e/0423shikiori\nLIVE/16:50～17:05\n物販/18:15～19:15\n会場/目黒ライブステーション\nOP/16:20\nST/16:50\n出演/エアラビュー/ZeroProject Z4-D/桜丘Hinata Shion/酔生夢死/Parasite.Kiss/夜とメルク/\nろすとみりあ。/TWILIGHT ZONE/Amazing Storyパーティポンチ/
URL:https://hiraeth.tokyo/event/20220423-1/
LOCATION:目黒ライブステーション\, 上大崎2-13-35 ニューフジビル B1F\, 品川区\, 東京都\, 141-0021\, 日本
CATEGORIES:Live
ATTACH;FMTTYPE=image/jpeg:https://hiraeth.tokyo/wp-content/uploads/20220423-1-1.jpg
END:VEVENT
END:VCALENDAR