BEGIN:VCALENDAR
VERSION:2.0
PRODID:-//【HIRAETH.Tokyo】(ヒラエス.トーキョー) - ECPv6.11.2//NONSGML v1.0//EN
CALSCALE:GREGORIAN
METHOD:PUBLISH
X-WR-CALNAME:【HIRAETH.Tokyo】(ヒラエス.トーキョー)
X-ORIGINAL-URL:https://hiraeth.tokyo
X-WR-CALDESC:【HIRAETH.Tokyo】(ヒラエス.トーキョー) のイベント
REFRESH-INTERVAL;VALUE=DURATION:PT1H
X-Robots-Tag:noindex
X-PUBLISHED-TTL:PT1H
BEGIN:VTIMEZONE
TZID:Asia/Tokyo
BEGIN:STANDARD
TZOFFSETFROM:+0900
TZOFFSETTO:+0900
TZNAME:JST
DTSTART:20220101T000000
END:STANDARD
END:VTIMEZONE
BEGIN:VEVENT
DTSTART;VALUE=DATE:20220429
DTEND;VALUE=DATE:20220506
DTSTAMP:20260425T212502
CREATED:20220428T142230Z
LAST-MODIFIED:20220428T142230Z
UID:1548-1651190400-1651795199@hiraeth.tokyo
SUMMARY:🐰🐻💎ぼくらの7日間らびゅ〜💎🐻🐰
DESCRIPTION:日時　4/29(金祝)～5/5(木祝)\nイベント　🐰🐻💎ぼくらの7日間らびゅ〜💎🐻🐰 \nいつもの えあらば〜さん も\n対バンで 見かけたらば〜さん も\n配信で 気になってたらば〜さん も\nエアラブ 初めてらば〜 さんも\nここにくれば誰かがいる☺️☺️ \nみんなが集まる”7日間12ライブ”やります🔥 \nGW期間中200らば〜達成でエアラビュー初のMVを制作します！ \nエアラビューと一緒に楽しもっ！ \nいつもの衣装じゃない（メイド、制服などなど）メンバーがみれる日もあるよ！！（4/30、5/2、5/4） \n新しいカバーもやります！ \n詳細はこちら
URL:https://hiraeth.tokyo/event/7dayslovyou/
CATEGORIES:Event,Live
ATTACH;FMTTYPE=image/png:https://hiraeth.tokyo/wp-content/uploads/a2577668398fd7efbbc058270bfc400e.png
END:VEVENT
BEGIN:VEVENT
DTSTART;VALUE=DATE:20220429
DTEND;VALUE=DATE:20220430
DTSTAMP:20260425T212502
CREATED:20220421T142716Z
LAST-MODIFIED:20230316T183043Z
UID:1418-1651190400-1651276799@hiraeth.tokyo
SUMMARY:110☆新宿FATEのGWは無銭無双1日目夜部@新宿Fate
DESCRIPTION:日時/4/29(金祝)\nイベント/新宿FATEのGWは無銭無双1日目夜部\n料金/0円(2D別)\n予約/無銭の為予約なし。参加予定ツイートをしてもらえると嬉しいです！！\nLIVE/19:00～20:00\n物販/20:00～21:00\n会場/新宿Fate\nOP/17:30\nST/18:00(予定)\n出演/エアラビュー/病ンドル/A RARE+/なつぞらあふたぬーん/ぶっトび！パンデミック/さんぷてぃP/他
URL:https://hiraeth.tokyo/event/20220429-2/
LOCATION:新宿Fate\, 歌舞伎町2-28-16\, 新宿区\, 東京都\, 160-0021\, 日本
CATEGORIES:Live
ATTACH;FMTTYPE=image/jpeg:https://hiraeth.tokyo/wp-content/uploads/20220429-3-1.jpg
END:VEVENT
BEGIN:VEVENT
DTSTART;VALUE=DATE:20220429
DTEND;VALUE=DATE:20220430
DTSTAMP:20260425T212502
CREATED:20220322T151102Z
LAST-MODIFIED:20230316T183037Z
UID:1253-1651190400-1651276799@hiraeth.tokyo
SUMMARY:109☆新宿FATEのGWは無銭無双１日目昼部@新宿FATE
DESCRIPTION:日時/4/29(金)\nイベント/新宿FATEのGWは無銭無双１日目昼部\n料金/0円(2D別)\n予約/無銭の為予約なし。参加予定ツイートをしてもらえると嬉しいです！！\nLIVE/14:30～15:00\n物販/15:00～16:00\n会場/新宿Fate\nOP/11:30\nST/12:00(予定)\n出演/エアラビュー/なつぞらあふたぬーん/ショートカット部//飯塚朋美＠さんぷてぃ。/さんぷてぃP/他
URL:https://hiraeth.tokyo/event/20220429-1/
LOCATION:新宿Fate\, 歌舞伎町2-28-16\, 新宿区\, 東京都\, 160-0021\, 日本
CATEGORIES:Live
ATTACH;FMTTYPE=image/jpeg:https://hiraeth.tokyo/wp-content/uploads/20220429-1-1.jpg
END:VEVENT
END:VCALENDAR