BEGIN:VCALENDAR
VERSION:2.0
PRODID:-//【HIRAETH.Tokyo】(ヒラエス.トーキョー) - ECPv6.11.2//NONSGML v1.0//EN
CALSCALE:GREGORIAN
METHOD:PUBLISH
X-WR-CALNAME:【HIRAETH.Tokyo】(ヒラエス.トーキョー)
X-ORIGINAL-URL:https://hiraeth.tokyo
X-WR-CALDESC:【HIRAETH.Tokyo】(ヒラエス.トーキョー) のイベント
REFRESH-INTERVAL;VALUE=DURATION:PT1H
X-Robots-Tag:noindex
X-PUBLISHED-TTL:PT1H
BEGIN:VTIMEZONE
TZID:Asia/Tokyo
BEGIN:STANDARD
TZOFFSETFROM:+0900
TZOFFSETTO:+0900
TZNAME:JST
DTSTART:20220101T000000
END:STANDARD
END:VTIMEZONE
BEGIN:VEVENT
DTSTART;VALUE=DATE:20220429
DTEND;VALUE=DATE:20220506
DTSTAMP:20260425T212502
CREATED:20220428T142230Z
LAST-MODIFIED:20220428T142230Z
UID:1548-1651190400-1651795199@hiraeth.tokyo
SUMMARY:🐰🐻💎ぼくらの7日間らびゅ〜💎🐻🐰
DESCRIPTION:日時　4/29(金祝)～5/5(木祝)\nイベント　🐰🐻💎ぼくらの7日間らびゅ〜💎🐻🐰 \nいつもの えあらば〜さん も\n対バンで 見かけたらば〜さん も\n配信で 気になってたらば〜さん も\nエアラブ 初めてらば〜 さんも\nここにくれば誰かがいる☺️☺️ \nみんなが集まる”7日間12ライブ”やります🔥 \nGW期間中200らば〜達成でエアラビュー初のMVを制作します！ \nエアラビューと一緒に楽しもっ！ \nいつもの衣装じゃない（メイド、制服などなど）メンバーがみれる日もあるよ！！（4/30、5/2、5/4） \n新しいカバーもやります！ \n詳細はこちら
URL:https://hiraeth.tokyo/event/7dayslovyou/
CATEGORIES:Event,Live
ATTACH;FMTTYPE=image/png:https://hiraeth.tokyo/wp-content/uploads/a2577668398fd7efbbc058270bfc400e.png
END:VEVENT
BEGIN:VEVENT
DTSTART;VALUE=DATE:20220430
DTEND;VALUE=DATE:20220501
DTSTAMP:20260425T212502
CREATED:20220421T143343Z
LAST-MODIFIED:20230316T183059Z
UID:1421-1651276800-1651363199@hiraeth.tokyo
SUMMARY:112☆新宿FATEのGWは無銭無双2日目夜部@新宿Fate
DESCRIPTION:日時/4/30(土)\nイベント/新宿FATEのGWは無銭無双2日目夜部\n料金/0円(2D別)\n予約/無銭の為予約なし。参加予定ツイートをしてもらえると嬉しいです！！\nLIVE/19:00～19:30\n物販/19:30～20:00\n会場/新宿Fate\nOP/17:00\nST/17:30(予定)\n出演/エアラビュー/なつぞらあふたぬーん/Amazing Story/きみかが！/ねこふわっち。/いのうり/TWILIGHT ZONE/さんぷてぃP/他
URL:https://hiraeth.tokyo/event/20220430-2/
LOCATION:新宿Fate\, 歌舞伎町2-28-16\, 新宿区\, 東京都\, 160-0021\, 日本
CATEGORIES:Live
ATTACH;FMTTYPE=image/jpeg:https://hiraeth.tokyo/wp-content/uploads/20220430-3-2.jpg
END:VEVENT
BEGIN:VEVENT
DTSTART;VALUE=DATE:20220430
DTEND;VALUE=DATE:20220501
DTSTAMP:20260425T212502
CREATED:20220322T150456Z
LAST-MODIFIED:20230316T183052Z
UID:1242-1651276800-1651363199@hiraeth.tokyo
SUMMARY:111☆新宿FATEのGWは無銭無双2日目昼部@新宿Fate
DESCRIPTION:日時/4/30(土)\nイベント/新宿FATEのGWは無銭無双2日目昼部\n料金/0円(2D別)\n予約/無銭の為予約なし。参加予定ツイートをしてもらえると嬉しいです！！\nLIVE/14:00～14:30\n物販/14:30～15:30\n会場/新宿Fate\nOP/11:00\nST/11:30(予定)\n出演/エアラビュー/Amazing Story/夢川日和＆小緑ひなの＠さんぷてぃ。/きみかが！/ねこふわっち。/なつぞらあふたぬーん/あまりりす/さんぷてぃP/他
URL:https://hiraeth.tokyo/event/20220430-1/
LOCATION:新宿Fate\, 歌舞伎町2-28-16\, 新宿区\, 東京都\, 160-0021\, 日本
CATEGORIES:Live
ATTACH;FMTTYPE=image/jpeg:https://hiraeth.tokyo/wp-content/uploads/20220430-1-1.jpg
END:VEVENT
END:VCALENDAR