BEGIN:VCALENDAR
VERSION:2.0
PRODID:-//【HIRAETH.Tokyo】(ヒラエス.トーキョー) - ECPv6.11.2//NONSGML v1.0//EN
CALSCALE:GREGORIAN
METHOD:PUBLISH
X-WR-CALNAME:【HIRAETH.Tokyo】(ヒラエス.トーキョー)
X-ORIGINAL-URL:https://hiraeth.tokyo
X-WR-CALDESC:【HIRAETH.Tokyo】(ヒラエス.トーキョー) のイベント
REFRESH-INTERVAL;VALUE=DURATION:PT1H
X-Robots-Tag:noindex
X-PUBLISHED-TTL:PT1H
BEGIN:VTIMEZONE
TZID:Asia/Tokyo
BEGIN:STANDARD
TZOFFSETFROM:+0900
TZOFFSETTO:+0900
TZNAME:JST
DTSTART:20220101T000000
END:STANDARD
END:VTIMEZONE
BEGIN:VEVENT
DTSTART;VALUE=DATE:20220429
DTEND;VALUE=DATE:20220506
DTSTAMP:20260425T212611
CREATED:20220428T142230Z
LAST-MODIFIED:20220428T142230Z
UID:1548-1651190400-1651795199@hiraeth.tokyo
SUMMARY:🐰🐻💎ぼくらの7日間らびゅ〜💎🐻🐰
DESCRIPTION:日時　4/29(金祝)～5/5(木祝)\nイベント　🐰🐻💎ぼくらの7日間らびゅ〜💎🐻🐰 \nいつもの えあらば〜さん も\n対バンで 見かけたらば〜さん も\n配信で 気になってたらば〜さん も\nエアラブ 初めてらば〜 さんも\nここにくれば誰かがいる☺️☺️ \nみんなが集まる”7日間12ライブ”やります🔥 \nGW期間中200らば〜達成でエアラビュー初のMVを制作します！ \nエアラビューと一緒に楽しもっ！ \nいつもの衣装じゃない（メイド、制服などなど）メンバーがみれる日もあるよ！！（4/30、5/2、5/4） \n新しいカバーもやります！ \n詳細はこちら
URL:https://hiraeth.tokyo/event/7dayslovyou/
CATEGORIES:Event,Live
ATTACH;FMTTYPE=image/png:https://hiraeth.tokyo/wp-content/uploads/a2577668398fd7efbbc058270bfc400e.png
END:VEVENT
BEGIN:VEVENT
DTSTART;VALUE=DATE:20220501
DTEND;VALUE=DATE:20220502
DTSTAMP:20260425T212611
CREATED:20220421T144111Z
LAST-MODIFIED:20230316T183114Z
UID:1427-1651363200-1651449599@hiraeth.tokyo
SUMMARY:114☆新宿FATEのGWは無銭無双3日目夜部@新宿Fate
DESCRIPTION:日時/5/1(日)\nイベント/新宿FATEのGWは無銭無双3日目夜部\n料金/0円(2D別)\n予約/無銭の為予約なし。参加予定ツイートをしてもらえると嬉しいです！！\nLIVE/19:10～19:40\n物販/21:10～22:10\n会場/新宿Fate\nOP/17:00\nST/17:30(予定)\n出演/エアラビュー/8bitBRAIN/Tri-Sphere/Amazing Story/きみかが！/売れても天狗にならない部。/暁あやめ＠さんぷてぃ。/NEO EARTH!!/ショートカット部/他
URL:https://hiraeth.tokyo/event/20220501-2/
LOCATION:新宿Fate\, 歌舞伎町2-28-16\, 新宿区\, 東京都\, 160-0021\, 日本
CATEGORIES:Live
ATTACH;FMTTYPE=image/jpeg:https://hiraeth.tokyo/wp-content/uploads/20220501-3.jpg
END:VEVENT
BEGIN:VEVENT
DTSTART;VALUE=DATE:20220501
DTEND;VALUE=DATE:20220502
DTSTAMP:20260425T212611
CREATED:20220324T080809Z
LAST-MODIFIED:20230316T183105Z
UID:1264-1651363200-1651449599@hiraeth.tokyo
SUMMARY:113☆新宿FATEのGWは無銭無双3日目昼部@新宿Fate
DESCRIPTION:日時/5/1(日)\nイベント/新宿FATEのGWは無銭無双3日目昼部\n料金/0円(2D別)\n予約/無銭の為予約なし。参加予定ツイートをしてもらえると嬉しいです！！\nLIVE/14:30～15:00\n物販/15:20～16:20\n会場/新宿Fate\nOP/13:25\nST/13:55(予定)\n出演/エアラビュー/Amazing Story/きみかが！/NEO EARTH!!/他
URL:https://hiraeth.tokyo/event/20220501-1/
LOCATION:新宿Fate\, 歌舞伎町2-28-16\, 新宿区\, 東京都\, 160-0021\, 日本
CATEGORIES:Live
ATTACH;FMTTYPE=image/jpeg:https://hiraeth.tokyo/wp-content/uploads/20220501-1-1.jpg
END:VEVENT
END:VCALENDAR