BEGIN:VCALENDAR
VERSION:2.0
PRODID:-//【HIRAETH.Tokyo】(ヒラエス.トーキョー) - ECPv6.11.2//NONSGML v1.0//EN
CALSCALE:GREGORIAN
METHOD:PUBLISH
X-WR-CALNAME:【HIRAETH.Tokyo】(ヒラエス.トーキョー)
X-ORIGINAL-URL:https://hiraeth.tokyo
X-WR-CALDESC:【HIRAETH.Tokyo】(ヒラエス.トーキョー) のイベント
REFRESH-INTERVAL;VALUE=DURATION:PT1H
X-Robots-Tag:noindex
X-PUBLISHED-TTL:PT1H
BEGIN:VTIMEZONE
TZID:Asia/Tokyo
BEGIN:STANDARD
TZOFFSETFROM:+0900
TZOFFSETTO:+0900
TZNAME:JST
DTSTART:20220101T000000
END:STANDARD
END:VTIMEZONE
BEGIN:VEVENT
DTSTART;VALUE=DATE:20220429
DTEND;VALUE=DATE:20220506
DTSTAMP:20260425T225654
CREATED:20220428T142230Z
LAST-MODIFIED:20220428T142230Z
UID:1548-1651190400-1651795199@hiraeth.tokyo
SUMMARY:🐰🐻💎ぼくらの7日間らびゅ〜💎🐻🐰
DESCRIPTION:日時　4/29(金祝)～5/5(木祝)\nイベント　🐰🐻💎ぼくらの7日間らびゅ〜💎🐻🐰 \nいつもの えあらば〜さん も\n対バンで 見かけたらば〜さん も\n配信で 気になってたらば〜さん も\nエアラブ 初めてらば〜 さんも\nここにくれば誰かがいる☺️☺️ \nみんなが集まる”7日間12ライブ”やります🔥 \nGW期間中200らば〜達成でエアラビュー初のMVを制作します！ \nエアラビューと一緒に楽しもっ！ \nいつもの衣装じゃない（メイド、制服などなど）メンバーがみれる日もあるよ！！（4/30、5/2、5/4） \n新しいカバーもやります！ \n詳細はこちら
URL:https://hiraeth.tokyo/event/7dayslovyou/
CATEGORIES:Event,Live
ATTACH;FMTTYPE=image/png:https://hiraeth.tokyo/wp-content/uploads/a2577668398fd7efbbc058270bfc400e.png
END:VEVENT
BEGIN:VEVENT
DTSTART;VALUE=DATE:20220505
DTEND;VALUE=DATE:20220506
DTSTAMP:20260425T225654
CREATED:20220503T194844Z
LAST-MODIFIED:20230316T183211Z
UID:1564-1651708800-1651795199@hiraeth.tokyo
SUMMARY:120☆秋葉原無料ライブ@TwinBoxAKIHABARA
DESCRIPTION:日時/5/5(木祝)\nイベント/秋葉原無料ライブ\n料金/0(D別)※感染症対策により個人情報の記入が必要な為、出来るだけチゲットの事前申し込みをお願いします。\n予約/ https://tiget.net/events/181339\nLIVE/11:10～11:20\n物販/～12:10\n会場/TwinBoxAKIHABARA0\nOP/10:20\nST/10:30\n出演/エアラビュー/愛夢GLTOKYO/明永凜花/聖奈/李櫻/林伽羅/
URL:https://hiraeth.tokyo/event/20220505-2-2/
LOCATION:秋葉原TwinBoxAKIHABARA\, 外神田3-2-12 Box'R AKIBAビルB1\, 千代田区\, 東京都\, 101-0021
CATEGORIES:Live
END:VEVENT
BEGIN:VEVENT
DTSTART;VALUE=DATE:20220505
DTEND;VALUE=DATE:20220506
DTSTAMP:20260425T225654
CREATED:20220428T094948Z
LAST-MODIFIED:20220428T115708Z
UID:1532-1651708800-1651795199@hiraeth.tokyo
SUMMARY:ぼくらの7日間らびゅ〜お疲れ様会"メンバー&らば〜で乾杯🍻"
DESCRIPTION:日時/5/5(木祝)\nイベント/ぼくらの7日間らびゅ〜お疲れ様会”メンバー&らば〜で乾杯🍻”\n料金/1500\n予約/運営予約\nLIVE/なし\n物販/並行\n会場/都内飲食店(予定)\nOP/18：30(予定)\nST/19：00(予定)\n出演/エアラビュー/スタッフ/
URL:https://hiraeth.tokyo/event/20220505-2/
CATEGORIES:Event,Live
ATTACH;FMTTYPE=image/png:https://hiraeth.tokyo/wp-content/uploads/a2577668398fd7efbbc058270bfc400e.png
END:VEVENT
BEGIN:VEVENT
DTSTART;VALUE=DATE:20220505
DTEND;VALUE=DATE:20220506
DTSTAMP:20260425T225654
CREATED:20220324T081146Z
LAST-MODIFIED:20230316T183158Z
UID:1270-1651708800-1651795199@hiraeth.tokyo
SUMMARY:119☆StandUP!!秋葉原LIVE10こどもの日@TwinBoxAKIHABARA
DESCRIPTION:日時/5/5(木祝)\nイベント/StandUP!! 秋葉原LIVE10こどもの日\n料金/前売2500 当日3000(D別)\n予約/ https://tiget.net/events/180749\nLIVE/14:55～15:15\n物販/15:30～16:20\n会場/TwinBoxAKIHABARA\nOP/12：45\nST/13：00\n出演/エアラビュー/僕には通じない/愛夢GKLTOKYO/れんてつ/桜丘HinataShion/きみかが！/明永凜花/李櫻・林伽羅・聖奈/
URL:https://hiraeth.tokyo/event/20220505-1/
LOCATION:秋葉原TwinBoxAKIHABARA\, 外神田3-2-12 Box'R AKIBAビルB1\, 千代田区\, 東京都\, 101-0021
CATEGORIES:Live
ATTACH;FMTTYPE=image/png:https://hiraeth.tokyo/wp-content/uploads/20220505-1.png
END:VEVENT
END:VCALENDAR