BEGIN:VCALENDAR
VERSION:2.0
PRODID:-//【HIRAETH.Tokyo】(ヒラエス.トーキョー) - ECPv6.11.2//NONSGML v1.0//EN
CALSCALE:GREGORIAN
METHOD:PUBLISH
X-WR-CALNAME:【HIRAETH.Tokyo】(ヒラエス.トーキョー)
X-ORIGINAL-URL:https://hiraeth.tokyo
X-WR-CALDESC:【HIRAETH.Tokyo】(ヒラエス.トーキョー) のイベント
REFRESH-INTERVAL;VALUE=DURATION:PT1H
X-Robots-Tag:noindex
X-PUBLISHED-TTL:PT1H
BEGIN:VTIMEZONE
TZID:Asia/Tokyo
BEGIN:STANDARD
TZOFFSETFROM:+0900
TZOFFSETTO:+0900
TZNAME:JST
DTSTART:20220101T000000
END:STANDARD
END:VTIMEZONE
BEGIN:VEVENT
DTSTART;VALUE=DATE:20220507
DTEND;VALUE=DATE:20220508
DTSTAMP:20260425T212611
CREATED:20220506T031922Z
LAST-MODIFIED:20230316T183217Z
UID:1583-1651881600-1651967999@hiraeth.tokyo
SUMMARY:121☆解放宣言 -FREE LIVE-@池袋リヴォイス
DESCRIPTION:日時/5/7(土)\nイベント/解放宣言-FREE LIVE-\n料金/前売0/当日500(D別)\n予約/ https://t.livepocket.jp/e/20220507revoice\nLIVE/12:40～13:00\n物販/13:05～14:05\n会場/池袋リヴォイス\nOP/12:20\nST/12:40(予定)\n出演/エアラビュー/上月せれな/シブヤDOMINION/ULTRA BUZz/スイーツメロディ/Fragrant Drive/他
URL:https://hiraeth.tokyo/event/20220507-1/
LOCATION:池袋リヴォイス\, 池袋2-12-9 広瀬ビルB1\, 豊島区\, 東京都\, 171-0014\, 日本
CATEGORIES:Live
END:VEVENT
END:VCALENDAR