BEGIN:VCALENDAR
VERSION:2.0
PRODID:-//【HIRAETH.Tokyo】(ヒラエス.トーキョー) - ECPv6.11.2//NONSGML v1.0//EN
CALSCALE:GREGORIAN
METHOD:PUBLISH
X-ORIGINAL-URL:https://hiraeth.tokyo
X-WR-CALDESC:【HIRAETH.Tokyo】(ヒラエス.トーキョー) のイベント
REFRESH-INTERVAL;VALUE=DURATION:PT1H
X-Robots-Tag:noindex
X-PUBLISHED-TTL:PT1H
BEGIN:VTIMEZONE
TZID:Asia/Tokyo
BEGIN:STANDARD
TZOFFSETFROM:+0900
TZOFFSETTO:+0900
TZNAME:JST
DTSTART:20220101T000000
END:STANDARD
END:VTIMEZONE
BEGIN:VEVENT
DTSTART;VALUE=DATE:20220508
DTEND;VALUE=DATE:20220509
DTSTAMP:20260425T212709
CREATED:20220506T032622Z
LAST-MODIFIED:20230316T183251Z
UID:1590-1651968000-1652054399@hiraeth.tokyo
SUMMARY:123☆SUNDAY Re:voice1000二部@池袋リヴォイス
DESCRIPTION:日時/5/8(日)\nイベント/SUNDAY Re:voice1000二部\n料金/前売1000/当日1500(D別)\n予約/ https://t.livepocket.jp/e/1000revo20220508_2\nLIVE/18:00〜18:15\n物販/18:20〜19:20\n会場/池袋リヴォイス\nOP/17:45\nST/18:00(予定)\n出演/エアラビュー/おとめの姿しばしととめむ/電脳カプセル/りほてん/AiDOLOXXXY/G’ASH/ZeroProjectZ4D
URL:https://hiraeth.tokyo/event/20220508-2/
LOCATION:池袋リヴォイス\, 池袋2-12-9 広瀬ビルB1\, 豊島区\, 東京都\, 171-0014\, 日本
CATEGORIES:Live
END:VEVENT
BEGIN:VEVENT
DTSTART;VALUE=DATE:20220508
DTEND;VALUE=DATE:20220509
DTSTAMP:20260425T212709
CREATED:20220506T032431Z
LAST-MODIFIED:20230316T183239Z
UID:1588-1651968000-1652054399@hiraeth.tokyo
SUMMARY:122☆SUNDAY Re:voice1000一部@池袋リヴォイス
DESCRIPTION:日時/5/8(日)\nイベント/SUNDAY Re:voice1000一部\n料金/前売1000/当日1500(D別)\n予約/ https://t.livepocket.jp/e/1000revo20220508_1\nLIVE/15:30〜15:45\n物販/15:50〜16:50\n会場/池袋リヴォイス\nOP/15:15\nST/15:30(予定)\n出演/エアラビュー/シブヤDOMINION/りほてん/真夜中ノハナビ/ぼけっとファントム/AiDOLOXXXY
URL:https://hiraeth.tokyo/event/20220508-1/
LOCATION:池袋リヴォイス\, 池袋2-12-9 広瀬ビルB1\, 豊島区\, 東京都\, 171-0014\, 日本
CATEGORIES:Live
ATTACH;FMTTYPE=image/jpeg:https://hiraeth.tokyo/wp-content/uploads/1C8BD63E-1EB0-43E6-B076-E237AA7F5A71.jpeg
END:VEVENT
END:VCALENDAR