BEGIN:VCALENDAR
VERSION:2.0
PRODID:-//【HIRAETH.Tokyo】(ヒラエス.トーキョー) - ECPv6.11.2//NONSGML v1.0//EN
CALSCALE:GREGORIAN
METHOD:PUBLISH
X-WR-CALNAME:【HIRAETH.Tokyo】(ヒラエス.トーキョー)
X-ORIGINAL-URL:https://hiraeth.tokyo
X-WR-CALDESC:【HIRAETH.Tokyo】(ヒラエス.トーキョー) のイベント
REFRESH-INTERVAL;VALUE=DURATION:PT1H
X-Robots-Tag:noindex
X-PUBLISHED-TTL:PT1H
BEGIN:VTIMEZONE
TZID:Asia/Tokyo
BEGIN:STANDARD
TZOFFSETFROM:+0900
TZOFFSETTO:+0900
TZNAME:JST
DTSTART:20220101T000000
END:STANDARD
END:VTIMEZONE
BEGIN:VEVENT
DTSTART;VALUE=DATE:20220517
DTEND;VALUE=DATE:20220518
DTSTAMP:20260426T003500
CREATED:20220516T114434Z
LAST-MODIFIED:20220516T114650Z
UID:1665-1652745600-1652831999@hiraeth.tokyo
SUMMARY:アイドルコロシアム東京女子3回戦Web投票締め切り
DESCRIPTION:日時/5/17(火)\nアイドルコロシアム東京女子3回戦Web投票締め切り \nWeb投票：5/17(火)正午12:00まで\n東京女子準決勝進出グループ発表：5/18(水)の正午12:00\nhttps://onl.la/4aADRZq
URL:https://hiraeth.tokyo/event/20220517-1/
CATEGORIES:Event,Live
ATTACH;FMTTYPE=image/png:https://hiraeth.tokyo/wp-content/uploads/584296893b9d80217a9b7f8ba5a508ec.png
END:VEVENT
END:VCALENDAR