BEGIN:VCALENDAR
VERSION:2.0
PRODID:-//【HIRAETH.Tokyo】(ヒラエス.トーキョー) - ECPv6.11.2//NONSGML v1.0//EN
CALSCALE:GREGORIAN
METHOD:PUBLISH
X-ORIGINAL-URL:https://hiraeth.tokyo
X-WR-CALDESC:【HIRAETH.Tokyo】(ヒラエス.トーキョー) のイベント
REFRESH-INTERVAL;VALUE=DURATION:PT1H
X-Robots-Tag:noindex
X-PUBLISHED-TTL:PT1H
BEGIN:VTIMEZONE
TZID:Asia/Tokyo
BEGIN:STANDARD
TZOFFSETFROM:+0900
TZOFFSETTO:+0900
TZNAME:JST
DTSTART:20220101T000000
END:STANDARD
END:VTIMEZONE
BEGIN:VEVENT
DTSTART;VALUE=DATE:20220521
DTEND;VALUE=DATE:20220522
DTSTAMP:20260425T212637
CREATED:20220506T034827Z
LAST-MODIFIED:20230316T183346Z
UID:1592-1653091200-1653177599@hiraeth.tokyo
SUMMARY:128☆虹みみゆ1st Anniversary2部(code track)@西川口Galaxy
DESCRIPTION:日時/5/21(土)\nイベント/虹みみゆ1st Anniversary2部\n料金/前売1900/当日2400(D別)配信2000\n予約/\nhttps://t.livepocket.jp/e/mimiyun1st-anniv予約時に出演者指名アンケートがございます\nLIVE/16:00〜16:15\n物販/17:15～18:00\n※各部声出し可（予定）\n会場/西川口Galaxy\nOP/14:20\nST/14:35(予定)\n出演/エアラビュー/S.B.Qアイドル部/あるてぃめっと♡めると/しなやかに私らしく/虹色JAMレインボー！/アクアルクス/uncyclo/虹みみゆ/ \n\nーーイベントレギュレーションー\n【 新型コロナウィルス対策 】\n・マスク/フェイスガードの着用\n・アルコール飲料の販売自粛\n・入場人数に制限を設ける\n・入場時に検温およびアルコール消毒実施\n・換気時間をタイムテーブルに組込む\n・モッシュやリフト等の過度な密は厳禁\n・不確定要素(LIVE マスク有で観客の声出し…現状では可) \n【 備考 】\n・出演者や枠に関しては適宜Twitter｢えにじょ｣アカウントより告知して参ります。\n・安全および秩序道徳的観点により、主催側からお客さまへ注意や退場を告げる場合があります。その場合、チケット代などの返金はございません。\n・満枠などオファー締切時は、機会を改めさせて頂く事にてご容赦ください。また不参加の場合もご返信頂けると大変助かり嬉しいです。\n・出演予定演者がコロナ禍などで急遽出演できなくなった場合でもLIVE自体は開催されるため、配信での課金の払戻しは応じ兼ねます
URL:https://hiraeth.tokyo/event/20220521-1/
CATEGORIES:Live
ATTACH;FMTTYPE=image/jpeg:https://hiraeth.tokyo/wp-content/uploads/20220521-1.jpg
END:VEVENT
END:VCALENDAR