BEGIN:VCALENDAR
VERSION:2.0
PRODID:-//【HIRAETH.Tokyo】(ヒラエス.トーキョー) - ECPv6.11.2//NONSGML v1.0//EN
CALSCALE:GREGORIAN
METHOD:PUBLISH
X-WR-CALNAME:【HIRAETH.Tokyo】(ヒラエス.トーキョー)
X-ORIGINAL-URL:https://hiraeth.tokyo
X-WR-CALDESC:【HIRAETH.Tokyo】(ヒラエス.トーキョー) のイベント
REFRESH-INTERVAL;VALUE=DURATION:PT1H
X-Robots-Tag:noindex
X-PUBLISHED-TTL:PT1H
BEGIN:VTIMEZONE
TZID:Asia/Tokyo
BEGIN:STANDARD
TZOFFSETFROM:+0900
TZOFFSETTO:+0900
TZNAME:JST
DTSTART:20220101T000000
END:STANDARD
END:VTIMEZONE
BEGIN:VEVENT
DTSTART;VALUE=DATE:20220525
DTEND;VALUE=DATE:20220526
DTSTAMP:20260426T003544
CREATED:20220506T043809Z
LAST-MODIFIED:20220506T050648Z
UID:1606-1653436800-1653523199@hiraeth.tokyo
SUMMARY:おっ昼休みはウキウキらびゅ～
DESCRIPTION:日時　5/25(水)\nイベント　おっ昼休みはウキウキらびゅ～\n料金 前売0 当日0 （お昼は各自ご用意ください）\n予約　なし\nLIVE　12:20～12:50（予定）\n物販　なし \n会場　showroomきこチャンネル\n—\nももなチャンネル\nhttps://www.showroom-live.com/r/twipro003\nきこチャンネル\nhttps://www.showroom-live.com/r/twipro002\nひなたチャンネル\nhttps://www.showroom-live.com/d5f966124561
URL:https://hiraeth.tokyo/event/20220525-1/
LOCATION:showroomきこチャンネル
CATEGORIES:Event,Live
ATTACH;FMTTYPE=image/png:https://hiraeth.tokyo/wp-content/uploads/906da818b6cf13b8423414004e8204d1.png
END:VEVENT
END:VCALENDAR