BEGIN:VCALENDAR
VERSION:2.0
PRODID:-//【HIRAETH.Tokyo】(ヒラエス.トーキョー) - ECPv6.11.2//NONSGML v1.0//EN
CALSCALE:GREGORIAN
METHOD:PUBLISH
X-ORIGINAL-URL:https://hiraeth.tokyo
X-WR-CALDESC:【HIRAETH.Tokyo】(ヒラエス.トーキョー) のイベント
REFRESH-INTERVAL;VALUE=DURATION:PT1H
X-Robots-Tag:noindex
X-PUBLISHED-TTL:PT1H
BEGIN:VTIMEZONE
TZID:Asia/Tokyo
BEGIN:STANDARD
TZOFFSETFROM:+0900
TZOFFSETTO:+0900
TZNAME:JST
DTSTART:20220101T000000
END:STANDARD
END:VTIMEZONE
BEGIN:VEVENT
DTSTART;VALUE=DATE:20220529
DTEND;VALUE=DATE:20220530
DTSTAMP:20260425T212637
CREATED:20220527T104125Z
LAST-MODIFIED:20220527T132044Z
UID:1747-1653782400-1653868799@hiraeth.tokyo
SUMMARY:お散歩会@代々木公園
DESCRIPTION:【アイコロ来場特典】\n開催日　5/29(日)\n場所　代々木公園\n時間　13:40～14:30\n集合地点　DMにてお知らせ \nーーーーー\n1部\nキャメロットライブ　15:40〜15:55\n物販　15:55〜16:55 \n2部\nキャメロットライブ2　0:20〜20:50\n物販　20:50〜21:40
URL:https://hiraeth.tokyo/event/2022029-1/
CATEGORIES:Event,Live
END:VEVENT
BEGIN:VEVENT
DTSTART;VALUE=DATE:20220529
DTEND;VALUE=DATE:20220530
DTSTAMP:20260425T212637
CREATED:20220525T123911Z
LAST-MODIFIED:20230316T183454Z
UID:1723-1653782400-1653868799@hiraeth.tokyo
SUMMARY:134⭐︎⭐︎Shibuya IDOL Special 3＠渋谷CAMELOT
DESCRIPTION:日時5/29(日)\nイベント/Shibuya IDOL Special 3\n料金/前売1500当日2000(各D別)\n予約/　https://t.livepocket.jp/e/c52os\nライブ20:20〜20:50\n物販20:50〜21:40\n会場/渋谷CAMELOT\nOP/19:20\nST/19:30(予定)\n出演/エアラビュー/ちゃいむ/はなここ/ \n※マスク声出し、ジャンプ可
URL:https://hiraeth.tokyo/event/20220529-3/
LOCATION:渋谷キャメロット\, 神南1-18-2 フレーム神南坂 B3\, 渋谷区\, 東京都\, 150-0041\, 日本
CATEGORIES:Live
END:VEVENT
BEGIN:VEVENT
DTSTART;VALUE=DATE:20220529
DTEND;VALUE=DATE:20220530
DTSTAMP:20260425T212637
CREATED:20220525T113442Z
LAST-MODIFIED:20230316T183447Z
UID:1717-1653782400-1653868799@hiraeth.tokyo
SUMMARY:133⭐︎⭐︎Shibuya IDOL Special昼@渋谷CAMELOT
DESCRIPTION:日時5/29(日)\nイベント/Shibuya IDOL Special昼\n料金/前売2000当日2500(各D別)\n予約/https://t.livepocket.jp/e/3f118\nライブ15:40〜15:55\n物販15:55〜16:55\n会場/渋谷CAMELOT\nOP/13:15\nST/13:25(予定)\n出演/エアラビュー/仮面女子候補生/スライムガールズ/あわこい/さくら(EMOE)/OverAge/ちゃいむ/はなここ/ \n＊ジャンプはOKです
URL:https://hiraeth.tokyo/event/20220529-2/
LOCATION:渋谷キャメロット\, 神南1-18-2 フレーム神南坂 B3\, 渋谷区\, 東京都\, 150-0041\, 日本
CATEGORIES:Live
END:VEVENT
END:VCALENDAR