BEGIN:VCALENDAR
VERSION:2.0
PRODID:-//【HIRAETH.Tokyo】(ヒラエス.トーキョー) - ECPv6.11.2//NONSGML v1.0//EN
CALSCALE:GREGORIAN
METHOD:PUBLISH
X-WR-CALNAME:【HIRAETH.Tokyo】(ヒラエス.トーキョー)
X-ORIGINAL-URL:https://hiraeth.tokyo
X-WR-CALDESC:【HIRAETH.Tokyo】(ヒラエス.トーキョー) のイベント
REFRESH-INTERVAL;VALUE=DURATION:PT1H
X-Robots-Tag:noindex
X-PUBLISHED-TTL:PT1H
BEGIN:VTIMEZONE
TZID:Asia/Tokyo
BEGIN:STANDARD
TZOFFSETFROM:+0900
TZOFFSETTO:+0900
TZNAME:JST
DTSTART:20220101T000000
END:STANDARD
END:VTIMEZONE
BEGIN:VEVENT
DTSTART;VALUE=DATE:20220604
DTEND;VALUE=DATE:20220605
DTSTAMP:20260425T195203
CREATED:20220527T103218Z
LAST-MODIFIED:20230316T183503Z
UID:1743-1654300800-1654387199@hiraeth.tokyo
SUMMARY:135☆にこにこアイドルカーニバル@新宿Fate
DESCRIPTION:日時6/4(土)\nイベント/にこにこアイドルカーニバル\n料金/前売2500当日3000(D別)\n予約/運営\nライブ14:30～14:50\n物販14:50～15:50\n会場/新宿Fate\nOP/12:30\nST/12:50(予定)\n出演/エアラビュー/minx/NEO EARTH!!/ぶっトび！パンデミック/Li-V-RAVE/さんぷてぃP/雨上がりのプラネット/
URL:https://hiraeth.tokyo/event/20220604-1/
LOCATION:新宿Fate\, 歌舞伎町2-28-16\, 新宿区\, 東京都\, 160-0021\, 日本
CATEGORIES:Live
ATTACH;FMTTYPE=image/jpeg:https://hiraeth.tokyo/wp-content/uploads/20220604shinuku.jpg
END:VEVENT
END:VCALENDAR