BEGIN:VCALENDAR
VERSION:2.0
PRODID:-//【HIRAETH.Tokyo】(ヒラエス.トーキョー) - ECPv6.11.2//NONSGML v1.0//EN
CALSCALE:GREGORIAN
METHOD:PUBLISH
X-ORIGINAL-URL:https://hiraeth.tokyo
X-WR-CALDESC:【HIRAETH.Tokyo】(ヒラエス.トーキョー) のイベント
REFRESH-INTERVAL;VALUE=DURATION:PT1H
X-Robots-Tag:noindex
X-PUBLISHED-TTL:PT1H
BEGIN:VTIMEZONE
TZID:Asia/Tokyo
BEGIN:STANDARD
TZOFFSETFROM:+0900
TZOFFSETTO:+0900
TZNAME:JST
DTSTART:20220101T000000
END:STANDARD
END:VTIMEZONE
BEGIN:VEVENT
DTSTART;VALUE=DATE:20220605
DTEND;VALUE=DATE:20220606
DTSTAMP:20260425T201644
CREATED:20220602T072123Z
LAST-MODIFIED:20230316T183511Z
UID:1820-1654387200-1654473599@hiraeth.tokyo
SUMMARY:136☆解放宣言-FREE LIVE-@池袋リヴォイス
DESCRIPTION:日時6/5(日)\nイベント/解放宣言-FREE LIVE-\n料金/前売0当日500(D別)\n予約/ https://t.livepocket.jp/e/20220605revoice\n予約開始日 2022年6月2日(木)21:00 \nライブ11:15〜11:30\n物販11:35〜12:35\n会場/池袋リヴォイス\nOP/10:45\nST/11:00(予定)\n出演/エアラビュー/秋山せいな/未ダ、君ヲ推セズ。/GiMMiCK/きみとのワンダーランド/SharLie/パラダイスディスコ/Fragrant Drive/Blossom Garden/真白帆華/MAKE/ゆめみどき/Li-V-RAVE/他 \nーーイベントレギュレーションーー\n再入場可 / 運営予約不可 / マスクコール可 \n●会場規定により新型コロナウイルス接触確認アプリ『COCOA』（厚生労働省）のダウンロードしていただいてからご入場いただいております。●フロアの混雑状況によって入場制限をかけさせていただきます。ご入場されない場合はその場でチケット代をご返金致します。●お客様同士の間にスペースを設ける　●入場時の検温で37.5度以上の方のご入場はお断り●来場者管理（名前・住所・連絡先の記入必須）●お客様のマスク着用義務●店内の換気や消毒の徹底●フロアには消毒要員スタッフ巡回●ライブ中の出演者と観客の間の距離は２メートル確保●特典会は各出演者の定めるレギュレーションに則って行ってください。●握手等の接触行為は禁止とさせていただきます。●消毒液は各出演者サイドでのご用意をお願い致します。
URL:https://hiraeth.tokyo/event/20220605-1/
LOCATION:池袋リヴォイス\, 池袋2-12-9 広瀬ビルB1\, 豊島区\, 東京都\, 171-0014\, 日本
CATEGORIES:Live
END:VEVENT
END:VCALENDAR