BEGIN:VCALENDAR
VERSION:2.0
PRODID:-//【HIRAETH.Tokyo】(ヒラエス.トーキョー) - ECPv6.11.2//NONSGML v1.0//EN
CALSCALE:GREGORIAN
METHOD:PUBLISH
X-ORIGINAL-URL:https://hiraeth.tokyo
X-WR-CALDESC:【HIRAETH.Tokyo】(ヒラエス.トーキョー) のイベント
REFRESH-INTERVAL;VALUE=DURATION:PT1H
X-Robots-Tag:noindex
X-PUBLISHED-TTL:PT1H
BEGIN:VTIMEZONE
TZID:Asia/Tokyo
BEGIN:STANDARD
TZOFFSETFROM:+0900
TZOFFSETTO:+0900
TZNAME:JST
DTSTART:20220101T000000
END:STANDARD
END:VTIMEZONE
BEGIN:VEVENT
DTSTART;VALUE=DATE:20220607
DTEND;VALUE=DATE:20220608
DTSTAMP:20260425T195338
CREATED:20220308T125119Z
LAST-MODIFIED:20230316T183519Z
UID:1108-1654560000-1654646399@hiraeth.tokyo
SUMMARY:137☆☆第7回エアラビューpresents『手作りで頑張ってます！歌祭り』 2man
DESCRIPTION:日時　6/7(火)\nイベント　第7回エアラビューpresents『手作りで頑張ってます！歌祭り』 2man\n料金 前売1900 当日2400 （D別）\n予約　Twitter　DMまで\nhttps://twitter.com/airlview\n会場　新宿fate\nタイムテーブル\n19:00　OP\n19:20　エアラビュー　ライブ\n19:40　エアラビュー　カバーライブ\n20:00　.CUBE　ライブ\n20:20　エアラビュー新曲発表\n20:40　コラボコーナー\n21:00　物販\n22:00　物販終了 \nOP　19:00\nST　19:20\n出演　エアラビュー/.CUBE/ \nーーー重大発表ーーー\n1：新曲発表！\n2：順次発表\n3：順次発表
URL:https://hiraeth.tokyo/event/20220607-1/
LOCATION:新宿Fate\, 歌舞伎町2-28-16\, 新宿区\, 東京都\, 160-0021\, 日本
CATEGORIES:Live
ATTACH;FMTTYPE=image/png:https://hiraeth.tokyo/wp-content/uploads/99233296c8da4fef242a8c27c48756bc.png
END:VEVENT
END:VCALENDAR