BEGIN:VCALENDAR
VERSION:2.0
PRODID:-//【HIRAETH.Tokyo】(ヒラエス.トーキョー) - ECPv6.11.2//NONSGML v1.0//EN
CALSCALE:GREGORIAN
METHOD:PUBLISH
X-WR-CALNAME:【HIRAETH.Tokyo】(ヒラエス.トーキョー)
X-ORIGINAL-URL:https://hiraeth.tokyo
X-WR-CALDESC:【HIRAETH.Tokyo】(ヒラエス.トーキョー) のイベント
REFRESH-INTERVAL;VALUE=DURATION:PT1H
X-Robots-Tag:noindex
X-PUBLISHED-TTL:PT1H
BEGIN:VTIMEZONE
TZID:Asia/Tokyo
BEGIN:STANDARD
TZOFFSETFROM:+0900
TZOFFSETTO:+0900
TZNAME:JST
DTSTART:20220101T000000
END:STANDARD
END:VTIMEZONE
BEGIN:VEVENT
DTSTART;VALUE=DATE:20220611
DTEND;VALUE=DATE:20220612
DTSTAMP:20260425T201603
CREATED:20220609T080710Z
LAST-MODIFIED:20230316T183534Z
UID:1857-1654905600-1654991999@hiraeth.tokyo
SUMMARY:139⭐︎ 新宿FATE無銭無双夜部@新宿Fate
DESCRIPTION:日時　6/11(土)\nイベント　新宿FATE無銭無双夜部\n料金　0円(2D別)\n予約　なし\nLIVE　21:20〜21:40\n物販　21:40〜22:40\n会場　新宿fate\nOP　16:30\nST　16:40\n出演　えあらびゅ〜/ショートカット部/エレメンツ!-Elemental Heroines-/White Lilly/なつぞらあふたぬーん/紫月はう/NEOEARTH!!/きみかが！by枢希らら/Amazing Story b\ny乙葉みく/夜とメルク/LUNCH KIDS/美琴/白瀬あづさ/Linaria/あまりりす/
URL:https://hiraeth.tokyo/event/20220611-2-2/
LOCATION:新宿Fate\, 歌舞伎町2-28-16\, 新宿区\, 東京都\, 160-0021\, 日本
CATEGORIES:Live
ATTACH;FMTTYPE=image/jpeg:https://hiraeth.tokyo/wp-content/uploads/1C2E0311-6136-4603-93F4-333FC4EE1136.jpeg
END:VEVENT
BEGIN:VEVENT
DTSTART;VALUE=DATE:20220611
DTEND;VALUE=DATE:20220612
DTSTAMP:20260425T201603
CREATED:20220609T053134Z
LAST-MODIFIED:20230316T183527Z
UID:1846-1654905600-1654991999@hiraeth.tokyo
SUMMARY:138⭐︎新宿FATE無銭無双昼部@新宿Fate
DESCRIPTION:日時　6/11(土)\nイベント　新宿FATE無銭無双昼部\n料金　0円(2D別)\n予約　なし\nLIVE　13:55〜14:20\n物販　15:05〜16:05\n会場　新宿fate\nOP　11:30\nST　11:45\n出演　えあらびゅ〜/ エレメンツ!-Elemental Heroines-/White Lilly/紫月はう/NEO EARTH!!/きみかが！ by 枢希らら/Amazing Story by 乙葉みく/美風める\, せろとにんXばくだん/
URL:https://hiraeth.tokyo/event/20220611-1/
LOCATION:新宿Fate\, 歌舞伎町2-28-16\, 新宿区\, 東京都\, 160-0021\, 日本
CATEGORIES:Live
ATTACH;FMTTYPE=image/jpeg:https://hiraeth.tokyo/wp-content/uploads/5133156D-FD9B-4434-9F69-D4FFCE02049C.jpeg
END:VEVENT
END:VCALENDAR