BEGIN:VCALENDAR
VERSION:2.0
PRODID:-//【HIRAETH.Tokyo】(ヒラエス.トーキョー) - ECPv6.11.2//NONSGML v1.0//EN
CALSCALE:GREGORIAN
METHOD:PUBLISH
X-ORIGINAL-URL:https://hiraeth.tokyo
X-WR-CALDESC:【HIRAETH.Tokyo】(ヒラエス.トーキョー) のイベント
REFRESH-INTERVAL;VALUE=DURATION:PT1H
X-Robots-Tag:noindex
X-PUBLISHED-TTL:PT1H
BEGIN:VTIMEZONE
TZID:Asia/Tokyo
BEGIN:STANDARD
TZOFFSETFROM:+0900
TZOFFSETTO:+0900
TZNAME:JST
DTSTART:20220101T000000
END:STANDARD
END:VTIMEZONE
BEGIN:VEVENT
DTSTART;VALUE=DATE:20220612
DTEND;VALUE=DATE:20220613
DTSTAMP:20260425T201649
CREATED:20220609T083624Z
LAST-MODIFIED:20230316T183547Z
UID:1871-1654992000-1655078399@hiraeth.tokyo
SUMMARY:141⭐︎ 新宿FATE無銭無双夜部@新宿Fate
DESCRIPTION:日時　6/12(日)\nイベント　新宿FATE無銭無双夜部\n料金　0円(2D別)\n予約　なし\nLIVE　18:40〜19:10\n物販　20:40〜21:40\n会場　新宿fate\nOP　16:00\nST　16:15\n出演　えあらびゅ〜/ショートカット部/エレメンツ!-Elemental Heroines-/White Lilly/なつぞらあふたぬーん/紫月はう/NEO EARTH!!/きみかが！/Amazing Story b\ny 乙葉みく/夜とメルク/LUNCH KIDS/美琴/白瀬あづさ/Linaria/あまりりす/
URL:https://hiraeth.tokyo/event/20220612-2/
LOCATION:新宿Fate\, 歌舞伎町2-28-16\, 新宿区\, 東京都\, 160-0021\, 日本
CATEGORIES:Live
ATTACH;FMTTYPE=image/jpeg:https://hiraeth.tokyo/wp-content/uploads/BB86788F-7BA9-47D7-BC6A-CC4CFDE44C7E.jpeg
END:VEVENT
BEGIN:VEVENT
DTSTART;VALUE=DATE:20220612
DTEND;VALUE=DATE:20220613
DTSTAMP:20260425T201649
CREATED:20220609T081642Z
LAST-MODIFIED:20230316T183541Z
UID:1861-1654992000-1655078399@hiraeth.tokyo
SUMMARY:140⭐︎ 新宿FATE無銭無双昼部@新宿Fate
DESCRIPTION:日時　6/12(日)\nイベント　新宿FATE無銭無双昼部\n料金　0円(2D別)\n予約　なし\nLIVE　14:15〜14:40\n物販　15:05〜16:05\n会場　新宿fate\nOP　11:00\nST　11:30\n出演　えあらびゅ〜/k@hoRu@(ex ZOMBIE POWDER)/れんてつ/なつぞらあふたぬーん/東京ぴ炎-ヤバイガールズバー-/ねこふわっち。/A RARE+/メランコリック少女物語/暁あやめ＆夢川日和＠さんぷてぃ。/
URL:https://hiraeth.tokyo/event/20220612-1/
LOCATION:新宿Fate\, 歌舞伎町2-28-16\, 新宿区\, 東京都\, 160-0021\, 日本
CATEGORIES:Live
ATTACH;FMTTYPE=image/jpeg:https://hiraeth.tokyo/wp-content/uploads/4EB8D8C7-ED8E-4FB7-994B-DAA3876218B5.jpeg
END:VEVENT
END:VCALENDAR