BEGIN:VCALENDAR
VERSION:2.0
PRODID:-//【HIRAETH.Tokyo】(ヒラエス.トーキョー) - ECPv6.11.2//NONSGML v1.0//EN
CALSCALE:GREGORIAN
METHOD:PUBLISH
X-ORIGINAL-URL:https://hiraeth.tokyo
X-WR-CALDESC:【HIRAETH.Tokyo】(ヒラエス.トーキョー) のイベント
REFRESH-INTERVAL;VALUE=DURATION:PT1H
X-Robots-Tag:noindex
X-PUBLISHED-TTL:PT1H
BEGIN:VTIMEZONE
TZID:Asia/Tokyo
BEGIN:STANDARD
TZOFFSETFROM:+0900
TZOFFSETTO:+0900
TZNAME:JST
DTSTART:20220101T000000
END:STANDARD
END:VTIMEZONE
BEGIN:VEVENT
DTSTART;VALUE=DATE:20220615
DTEND;VALUE=DATE:20220616
DTSTAMP:20260425T195337
CREATED:20220517T162412Z
LAST-MODIFIED:20230316T183557Z
UID:1677-1655251200-1655337599@hiraeth.tokyo
SUMMARY:142☆MAHΩRAMA主催定期公演「Last Paradise Vol.2」@新宿Fate
DESCRIPTION:日時/6/15(水)\nイベント/MAHΩRAMA主催定期公演「Last Paradise Vol.2」\n料金/予約0　当日500(各2D別)\n予約/https://tiget.net/events/183912\nLIVE/19:10～19:30\n物販/調整中\n会場/新宿Fate\nOP/18:30\nST/19:00(予定)\n出演/エアラビュー/MAHΩRAMA/ドリ☆ステ/きゅん♡みっしょん/白夜のカフカ/
URL:https://hiraeth.tokyo/event/20220615-2/
LOCATION:新宿Fate\, 歌舞伎町2-28-16\, 新宿区\, 東京都\, 160-0021\, 日本
CATEGORIES:Live
ATTACH;FMTTYPE=image/jpeg:https://hiraeth.tokyo/wp-content/uploads/20220614.jpg
END:VEVENT
BEGIN:VEVENT
DTSTART;VALUE=DATE:20220615
DTEND;VALUE=DATE:20220616
DTSTAMP:20260425T195337
CREATED:20220506T051021Z
LAST-MODIFIED:20220506T051021Z
UID:1612-1655251200-1655337599@hiraeth.tokyo
SUMMARY:おっ昼休みはウキウキらびゅ～
DESCRIPTION:日時　6/15(水)\nイベント　おっ昼休みはウキウキらびゅ～\n料金 前売0 当日0 （お昼は各自ご用意ください）\n予約　なし\nLIVE　12:20～12:50（予定）\n物販　なし \n会場　showroomももなチャンネル\n—\nももなチャンネル\nhttps://www.showroom-live.com/r/twipro003\nきこチャンネル\nhttps://www.showroom-live.com/r/twipro002\nひなたチャンネル\nhttps://www.showroom-live.com/d5f966124561
URL:https://hiraeth.tokyo/event/20220615-1/
LOCATION:showroomももなチャンネル
CATEGORIES:Event,Live
ATTACH;FMTTYPE=image/png:https://hiraeth.tokyo/wp-content/uploads/906da818b6cf13b8423414004e8204d1.png
END:VEVENT
END:VCALENDAR