BEGIN:VCALENDAR
VERSION:2.0
PRODID:-//【HIRAETH.Tokyo】(ヒラエス.トーキョー) - ECPv6.11.2//NONSGML v1.0//EN
CALSCALE:GREGORIAN
METHOD:PUBLISH
X-ORIGINAL-URL:https://hiraeth.tokyo
X-WR-CALDESC:【HIRAETH.Tokyo】(ヒラエス.トーキョー) のイベント
REFRESH-INTERVAL;VALUE=DURATION:PT1H
X-Robots-Tag:noindex
X-PUBLISHED-TTL:PT1H
BEGIN:VTIMEZONE
TZID:Asia/Tokyo
BEGIN:STANDARD
TZOFFSETFROM:+0900
TZOFFSETTO:+0900
TZNAME:JST
DTSTART:20220101T000000
END:STANDARD
END:VTIMEZONE
BEGIN:VEVENT
DTSTART;VALUE=DATE:20220618
DTEND;VALUE=DATE:20220619
DTSTAMP:20260425T195337
CREATED:20220609T173525Z
LAST-MODIFIED:20230316T183604Z
UID:1884-1655510400-1655596799@hiraeth.tokyo
SUMMARY:143☆☆IDOL COLOSSEUM準決勝@新宿WARP
DESCRIPTION:日時/6/18(土)\nイベント/IDOL COLOSSEUM準決勝\n料金/2500(D別)\n予約/当日現金のみ\nLIVE/16:50～17:10\n物販/17:30～18:20\nエアラビュービラ配り/11:50～17:50\n会場/新宿WARP\n出演/エアラビュー/練日oTo個色/仮面女子A/仮面女子B/BOCCHI。/宇佐美ゆめ/PATIPATICANDY…⭐︎/L.I.E.P/めにぱら/WOLFTIME:/99%LOVER/Seeds/PISTIL/.BPM/ショートカット部/松山あおい/ワンスアチャンス/ \nーーイベントレギュレーションーー\nhttps://www.idol-colosseum.jp/\n◆ライブ中の撮影NG \nーー各種発表タイミングーー\n◆中間発表：6/20(月)正午\n◆Web投票券の販売期間：6/17(金)18:00〜6/21(火)正午12:00まで\nhttps://onl.bz/sACjuy5\n◆東京女子決勝進出グループ発表：6/22(水)正午12:00  \n#アイコロ \nーー指名来場特典ーー\n◆6/18開催アイドルコロシアム準決勝にてエアラビュー指名入場の特典について◆\n会場の予約の関係上6/11までに公式DMに仮受付のご連絡をお願いします。\nhttps://twitter.com/airlview \n▶流れ\n仮受付：公式TwitterのDMに『アイドルコロシアム準決勝指名特典BBQオフ会参加希望』とお知らせください。\n※最終受付日まで受け付けは可能ですが、凡その人数を会場にお知らせしますので、ご協力をお願いいたします。\n最終受付：6/18にアイドルコロシアムへのご参加を確認。\n当日：池袋スカイフードコート池袋屋上にご来場頂き、予約名（えあらびゅー予定）にてご入場をお願いします。 \n▶概要\n内容：BBQオフ会\n開催日：6月25日(土)\n参加条件：6/18開催アイドルコロシアム準決勝にてエアラビュー指名入場、締切日までに参加DMを頂いた方\n時間：11時頃～２時間（時間は変更する場合あります)\n場所：池袋スカイフードコート池袋屋上（おひとり様3450円のコース予定）\nhttps://www.zato.co.jp/restaurant/skyviewfoodcourt/skyviewfoodcourt_ikebukuro/ \n※物販あり、アルコール制限あり\n※BBQオフ会への参加権利のみとなります。\n※会場へ支払う費用はご負担下さいます様お願い致します。
URL:https://hiraeth.tokyo/event/20220618-1/
LOCATION:新宿WARP SHINJUKU\, 歌舞伎町1-21-1 第二東亜会館B1\, 新宿区\, 東京都\, 160-0021\, 日本
CATEGORIES:Live
ATTACH;FMTTYPE=image/jpeg:https://hiraeth.tokyo/wp-content/uploads/20220618-1.jpg
END:VEVENT
END:VCALENDAR