BEGIN:VCALENDAR
VERSION:2.0
PRODID:-//【HIRAETH.Tokyo】(ヒラエス.トーキョー) - ECPv6.11.2//NONSGML v1.0//EN
CALSCALE:GREGORIAN
METHOD:PUBLISH
X-WR-CALNAME:【HIRAETH.Tokyo】(ヒラエス.トーキョー)
X-ORIGINAL-URL:https://hiraeth.tokyo
X-WR-CALDESC:【HIRAETH.Tokyo】(ヒラエス.トーキョー) のイベント
REFRESH-INTERVAL;VALUE=DURATION:PT1H
X-Robots-Tag:noindex
X-PUBLISHED-TTL:PT1H
BEGIN:VTIMEZONE
TZID:Asia/Tokyo
BEGIN:STANDARD
TZOFFSETFROM:+0900
TZOFFSETTO:+0900
TZNAME:JST
DTSTART:20220101T000000
END:STANDARD
END:VTIMEZONE
BEGIN:VEVENT
DTSTART;VALUE=DATE:20220620
DTEND;VALUE=DATE:20220621
DTSTAMP:20260425T195201
CREATED:20220619T073221Z
LAST-MODIFIED:20220619T073449Z
UID:1928-1655683200-1655769599@hiraeth.tokyo
SUMMARY:アイドルコロシアム東京女子準決勝中間発表
DESCRIPTION:日時/6/20(月)\nアイドルコロシアム東京女子準決勝中間発表 \n \nWeb投票：6/21(火)正午12:00まで\n東京女子決勝進出グループ発表：6/22(水)の正午12:00\nhttps://onl.la/4aADRZq
URL:https://hiraeth.tokyo/event/20220621-1/
CATEGORIES:Event,Live
ATTACH;FMTTYPE=image/png:https://hiraeth.tokyo/wp-content/uploads/fc28d8ae69fe13cd314fa6e53b009007.png
END:VEVENT
END:VCALENDAR