BEGIN:VCALENDAR
VERSION:2.0
PRODID:-//【HIRAETH.Tokyo】(ヒラエス.トーキョー) - ECPv6.11.2//NONSGML v1.0//EN
CALSCALE:GREGORIAN
METHOD:PUBLISH
X-ORIGINAL-URL:https://hiraeth.tokyo
X-WR-CALDESC:【HIRAETH.Tokyo】(ヒラエス.トーキョー) のイベント
REFRESH-INTERVAL;VALUE=DURATION:PT1H
X-Robots-Tag:noindex
X-PUBLISHED-TTL:PT1H
BEGIN:VTIMEZONE
TZID:Asia/Tokyo
BEGIN:STANDARD
TZOFFSETFROM:+0900
TZOFFSETTO:+0900
TZNAME:JST
DTSTART:20220101T000000
END:STANDARD
END:VTIMEZONE
BEGIN:VEVENT
DTSTART;VALUE=DATE:20221001
DTEND;VALUE=DATE:20221002
DTSTAMP:20260425T124206
CREATED:20220926T071946Z
LAST-MODIFIED:20230316T184710Z
UID:2654-1664582400-1664668799@hiraeth.tokyo
SUMMARY:206☆渋谷の中心でコールを叫ぶ19@渋谷CAMELOT B2
DESCRIPTION:日時　10/01(土)\nイベント　渋谷の中心でコールを叫ぶ19\n料金 前売2500最前エリア3500当日3000(各D別)\n予約　https://t.livepocket.jp/e/l3zj4\nLIVE　16:55〜17:10\n物販　17:15〜18:15\n会場　渋谷CAMELOT B2\nOP　14:50\nST　15:05\nout 18:50\n出演　えあらびゅー/愛惜アンノウン/#がらぽん/StellA/全国区ガールズ選抜チーム　＃WARD/TokyoStory/DollyPink/Dolly:me/PLC/他 \nーー\n入場特典\n・秋葉原肉寿司様で使える肉寿司2貫無料券\n・ばんから秋葉原店様で使える餃子3個無料券\nーー \n※再入場1Dで可能
URL:https://hiraeth.tokyo/event/20221001-1/
LOCATION:渋谷キャメロット\, 神南1-18-2 フレーム神南坂 B3\, 渋谷区\, 東京都\, 150-0041\, 日本
CATEGORIES:Live
END:VEVENT
BEGIN:VEVENT
DTSTART;VALUE=DATE:20221001
DTEND;VALUE=DATE:20221002
DTSTAMP:20260425T124206
CREATED:20220928T073329Z
LAST-MODIFIED:20230316T184717Z
UID:2683-1664582400-1664668799@hiraeth.tokyo
SUMMARY:207☆Page of One@五反田G2
DESCRIPTION:日時　10/01(土)\nイベント　Page of One\n料金 前売1500/当日2000(各D別)\n予約　https://tiget.net/events/206824\nLIVE　13:50〜14:10\n物販　13:55〜14:55\n会場　五反田G2\nOP　13:00\nST　13:30\nout 18:30\n出演　えあらびゅー/くれよんちゅ～どく/混沌少女/ニートPrincess/IVY/ \nータイムテーブルー\n13:30 IVY 並行13:55〜14:55\n13:50 えあらびゅー 並行13:55〜14:55\n14:10 調整\n14:15 ニートPrincess\n14:35 混沌少女\n14:55 くれよんちゅ～どく\n15:20 終演\n15:25-16:25 終演後物販\nーー\nマスクコールOK
URL:https://hiraeth.tokyo/event/20221001-2/
LOCATION:GOTANDA G2\, 西五反田2-5-2 五反田東幸ビル1F\, 品川区\, 東京都\, 141-0031\, 日本
CATEGORIES:Live
ATTACH;FMTTYPE=image/jpeg:https://hiraeth.tokyo/wp-content/uploads/4BBACB4F-3350-40F6-B4A2-F83F9DA871EE.jpeg
END:VEVENT
END:VCALENDAR