BEGIN:VCALENDAR
VERSION:2.0
PRODID:-//【HIRAETH.Tokyo】(ヒラエス.トーキョー) - ECPv6.11.2//NONSGML v1.0//EN
CALSCALE:GREGORIAN
METHOD:PUBLISH
X-WR-CALNAME:【HIRAETH.Tokyo】(ヒラエス.トーキョー)
X-ORIGINAL-URL:https://hiraeth.tokyo
X-WR-CALDESC:【HIRAETH.Tokyo】(ヒラエス.トーキョー) のイベント
REFRESH-INTERVAL;VALUE=DURATION:PT1H
X-Robots-Tag:noindex
X-PUBLISHED-TTL:PT1H
BEGIN:VTIMEZONE
TZID:Asia/Tokyo
BEGIN:STANDARD
TZOFFSETFROM:+0900
TZOFFSETTO:+0900
TZNAME:JST
DTSTART:20220101T000000
END:STANDARD
END:VTIMEZONE
BEGIN:VEVENT
DTSTART;VALUE=DATE:20221002
DTEND;VALUE=DATE:20221003
DTSTAMP:20260425T124011
CREATED:20220926T081143Z
LAST-MODIFIED:20230316T184726Z
UID:2657-1664668800-1664755199@hiraeth.tokyo
SUMMARY:208☆さんぷてぃ。暁あやめ生誕祭赤色革命2022@新宿Fate
DESCRIPTION:日時　10/02(日)\nイベント　さんぷてぃ。暁あやめ生誕祭赤色革命2022\n料金 前売2500/当日3000(共に1D600別)\nペアチケ4000(必ずお二人様でのご入場各1D600別)\n予約　https://tiget.net/events/203945\nLIVE　20:15〜20:40\n物販　21:05〜22:05\n会場　新宿Fate\nOP　17:00\nST　17:30\nout\n出演　えあらびゅー/さんぷてぃ。/LUCULIA/紫月はう/MAHΩRAMA/ねむりーぷ/ツキノウル from NEO EARTH!!/
URL:https://hiraeth.tokyo/event/20221002-2/
LOCATION:新宿Fate\, 歌舞伎町2-28-16\, 新宿区\, 東京都\, 160-0021\, 日本
CATEGORIES:Live
ATTACH;FMTTYPE=image/jpeg:https://hiraeth.tokyo/wp-content/uploads/90D97FB4-8AA4-47E7-B754-33951A64672A.jpeg
END:VEVENT
BEGIN:VEVENT
DTSTART;VALUE=DATE:20221002
DTEND;VALUE=DATE:20221003
DTSTAMP:20260425T124011
CREATED:20220928T023658Z
LAST-MODIFIED:20230316T184734Z
UID:2680-1664668800-1664755199@hiraeth.tokyo
SUMMARY:209☆池袋リヴォイスPresents『LIVEプラス-SUNDAY-』(第一部)@池袋リヴォイス
DESCRIPTION:日時　10/02(日)\nイベント　池袋リヴォイスPresents『LIVEプラス-SUNDAY-』(第一部)\n料金 前売1000当日1500(各D別)\n予約　https://t.livepocket.jp/e/liveplus20221002_1\nLIVE　15:50〜16:05\n物販　16:10〜17:10\n会場　池袋リヴォイス\nOP　14:00\nST　14:15\nout 17:10\n出演　えあらびゅー/#がらぽん/ZeroProjectZ5-B/☑mate/LONDON BLUE/emiu/
URL:https://hiraeth.tokyo/event/20221002-1/
LOCATION:池袋リヴォイス\, 池袋2-12-9 広瀬ビルB1\, 豊島区\, 東京都\, 171-0014\, 日本
CATEGORIES:Live
ATTACH;FMTTYPE=image/jpeg:https://hiraeth.tokyo/wp-content/uploads/3525CF46-9113-4383-9890-17C014051D23.jpeg
END:VEVENT
END:VCALENDAR