BEGIN:VCALENDAR
VERSION:2.0
PRODID:-//【HIRAETH.Tokyo】(ヒラエス.トーキョー) - ECPv6.11.2//NONSGML v1.0//EN
CALSCALE:GREGORIAN
METHOD:PUBLISH
X-ORIGINAL-URL:https://hiraeth.tokyo
X-WR-CALDESC:【HIRAETH.Tokyo】(ヒラエス.トーキョー) のイベント
REFRESH-INTERVAL;VALUE=DURATION:PT1H
X-Robots-Tag:noindex
X-PUBLISHED-TTL:PT1H
BEGIN:VTIMEZONE
TZID:Asia/Tokyo
BEGIN:STANDARD
TZOFFSETFROM:+0900
TZOFFSETTO:+0900
TZNAME:JST
DTSTART:20220101T000000
END:STANDARD
END:VTIMEZONE
BEGIN:VEVENT
DTSTART;VALUE=DATE:20221008
DTEND;VALUE=DATE:20221009
DTSTAMP:20260425T125150
CREATED:20221006T123537Z
LAST-MODIFIED:20230316T184757Z
UID:2726-1665187200-1665273599@hiraeth.tokyo
SUMMARY:212☆LIVEプラスSUNDAY二部＠池袋リヴォイス
DESCRIPTION:日時　10/8(土)\nイベント　LIVEプラスSUNDAY二部\n料金　前売1000/当日1500/(各D別)\n予約　https://t.livepocket.jp/e/liveplus20221008_2\nLIVE　18:40〜18:55\n物販　19:15〜20:15\n会場　池袋リヴォイス\nOP　16:15\nST　16:30\nOUT　\n出演　えあらびゅー/大弓ほのか/G’ASH/香月友梨奈/GiMMiCK/COZ39/SUPER REPLiCA/ZeroProject Z5-C/DINKY JUNK/東京CLEAR’S/VanitY BunnY/ミニスカポリス /RiKKYY/Linaria/他
URL:https://hiraeth.tokyo/event/20221008-2/
LOCATION:池袋リヴォイス\, 池袋2-12-9 広瀬ビルB1\, 豊島区\, 東京都\, 171-0014\, 日本
CATEGORIES:Live
ATTACH;FMTTYPE=image/jpeg:https://hiraeth.tokyo/wp-content/uploads/12903d487685a5abd30084d0353e2629.jpg
END:VEVENT
BEGIN:VEVENT
DTSTART;VALUE=DATE:20221008
DTEND;VALUE=DATE:20221009
DTSTAMP:20260425T125150
CREATED:20221006T044614Z
LAST-MODIFIED:20230316T184749Z
UID:2721-1665187200-1665273599@hiraeth.tokyo
SUMMARY:211☆LIVEプラスSUNDAY一部@池袋リヴォイス
DESCRIPTION:日時　10/8(土)\nイベント　LIVEプラスSUNDAY一部\n料金　前売1000/当日1500/(各D別)\n予約　https://t.livepocket.jp/e/liveplus20221008_1\nLIVE　15:05〜15:20\n物販　15:40〜16:40\n会場　池袋リヴォイス\nOP　13:30\nST　13:45\nOUT　17:10\n出演　えあらびゅー/ZeroProject Z5-A/LONDON BLUE/Li-V-RAVE/未ダ、君ヲ推セズ。/Linaria/香月友梨奈/ぽけっとファントム/
URL:https://hiraeth.tokyo/event/20221008-1/
LOCATION:池袋リヴォイス\, 池袋2-12-9 広瀬ビルB1\, 豊島区\, 東京都\, 171-0014\, 日本
CATEGORIES:Live
ATTACH;FMTTYPE=image/jpeg:https://hiraeth.tokyo/wp-content/uploads/12903d487685a5abd30084d0353e2629.jpg
END:VEVENT
END:VCALENDAR