BEGIN:VCALENDAR
VERSION:2.0
PRODID:-//【HIRAETH.Tokyo】(ヒラエス.トーキョー) - ECPv6.11.2//NONSGML v1.0//EN
CALSCALE:GREGORIAN
METHOD:PUBLISH
X-ORIGINAL-URL:https://hiraeth.tokyo
X-WR-CALDESC:【HIRAETH.Tokyo】(ヒラエス.トーキョー) のイベント
REFRESH-INTERVAL;VALUE=DURATION:PT1H
X-Robots-Tag:noindex
X-PUBLISHED-TTL:PT1H
BEGIN:VTIMEZONE
TZID:Asia/Tokyo
BEGIN:STANDARD
TZOFFSETFROM:+0900
TZOFFSETTO:+0900
TZNAME:JST
DTSTART:20220101T000000
END:STANDARD
END:VTIMEZONE
BEGIN:VEVENT
DTSTART;VALUE=DATE:20221009
DTEND;VALUE=DATE:20221010
DTSTAMP:20260425T124248
CREATED:20220926T065637Z
LAST-MODIFIED:20230316T184805Z
UID:2650-1665273600-1665359999@hiraeth.tokyo
SUMMARY:213☆☆(V1-IIC2022-D3)第一回インディーズアイドルチャンピオンシップ2022-3日目@渋谷ジーカンズ
DESCRIPTION:日時　10/09(日)\nイベント　第一回インディーズアイドルチャンピオンシップ2022-3日目(V1-IIC2022-D3)\n料金 前売2500/当日3000(D別)\n予約　https://t.livepocket.jp/e/piqt3\nLIVE　10:45～11:00\n物販　11:05～12:05\n会場　渋谷ジーカンズ（Atom TOKYO）\nOP　10:00\nST　10:10\nout 18:00\n主催/中村喜伸プロデューサー(ガキ使)\nMC：元NMB48 矢倉楓子\n出演　えあらびゅー/仮面女子/CANDY GO! GO!/ラフ-Laugh-/船橋ひまわり娘/#ワールドカオス/プリンセスは眠らないっ！/ICE-ink/Lifesta/愛夢GLTOKYO/Anthology/Re:INCARNATION/8princess/IVY/アイスアリアリ/サヤカスター/ふるーつばすけっと/chouchou meteore/他 \n※入場順：①前売予約番号順→②当日券 \n \nーーイベントレギュレーションーー\nポイントについて\n【無料(1pt)】1日1pt無料投票 https://idol-ouen-project.com/idol-detail/mmt9wvapuz；0時に更新\n【￥100(1pt)～】1日2pt以降の投票は1ptにつき￥100https://idol-ouen-project.com/settlement/mmt9wvapuz\n【￥2500(25pt)】一般予約チケット\n【￥3500(35pt)】最前チケット\n【￥12000(120pt)】着席VIP席\n【￥35000(350pt)】応援バズーカ演出 \n◆決勝\nMC：有名お笑いタレント2人\nゲストパフォーマー：有名アイドルグループ\n賞金：優勝500万円、準優勝300万円、審査員特別賞200万円\n副賞：有名アーティストからの楽曲提供 \n◆えあらびゅー予選\n10月2日 D1\n10月8日 D2\n10月9日 D3\n10月15日 D4\n10月16日 D5\n10月23日 D6\n10月30日 D7\n11月6日 D8\n11月12日 準決勝予定\n11月19日 準決勝予定\n12月8日 決勝 豊洲Pit \n◆その他\nインディーズアイドルチャンピオンシップ(IIC)出演者はもれなく2023年5月幕張メッセにて最大規模のアイドル対バンLIVE出演予定\n#インディーズアイドルチャンピオンシップ2022 #アイドル #イベント #フェス #インディーズアイドル
URL:https://hiraeth.tokyo/event/20221009-1/
LOCATION:渋谷ジーカンズ\, 円山町2-4\, 渋谷区\, 東京都\, 日本
CATEGORIES:Live
ATTACH;FMTTYPE=image/png:https://hiraeth.tokyo/wp-content/uploads/139691b4616d27158a17551365c16d5c.png
END:VEVENT
BEGIN:VEVENT
DTSTART;VALUE=DATE:20221009
DTEND;VALUE=DATE:20221010
DTSTAMP:20260425T124248
CREATED:20221001T105707Z
LAST-MODIFIED:20230316T184819Z
UID:2704-1665273600-1665359999@hiraeth.tokyo
SUMMARY:215☆新宿Fate無銭無双@新宿Fate
DESCRIPTION:日時　10/9(日)\nイベント　新宿FATE無銭無双\n料金 前売0/当日0/(各2D別)\n予約　なし\nLIVE　18:00〜18:20\n物販　18:20〜19:20\n会場　新宿Fate\nOP　17:50\nST　18:00\n出演：えあらびゅー/さんぷてぃ。/エレメンツ！-Elemental Heroines-/れんてつ/White Lilly/混沌少女/黒ゐ少女/抗ッタ少女/.Link/メランコリック少女物語/別所あみか/
URL:https://hiraeth.tokyo/event/20221009-3/
LOCATION:新宿Fate\, 歌舞伎町2-28-16\, 新宿区\, 東京都\, 160-0021\, 日本
CATEGORIES:Live
ATTACH;FMTTYPE=image/jpeg:https://hiraeth.tokyo/wp-content/uploads/B32E94B6-54EA-4634-950E-CB1B4819CDC6.jpeg
END:VEVENT
BEGIN:VEVENT
DTSTART;VALUE=DATE:20221009
DTEND;VALUE=DATE:20221010
DTSTAMP:20260425T124248
CREATED:20221001T103422Z
LAST-MODIFIED:20230316T184812Z
UID:2700-1665273600-1665359999@hiraeth.tokyo
SUMMARY:214☆新宿FATE無銭無双～なつぞらあふたぬーん ほな生誕祭～@新宿Fate
DESCRIPTION:日時　10/9(日)\nイベント　新宿FATE無銭無双～なつぞらあふたぬーん ほな生誕祭～\n料金 前売0/当日0/(各2D別)\n予約　なし\nLIVE　15:20〜15:40\n物販　16:20〜17:20\n会場　新宿Fate\nOP　10:50\nST　11:00\n出演：えあらびゅー/さんぷてぃ。/エレメンツ！-Elemental Heroines-/別所あみか/なつぞらあふたぬーん/電脳カプセル/White Lilly/混沌少女/レッスントゥミー/.Link\,ねこふわっち。/らんちきっず/夜とメルク/NEO EARTH!!/メランコリック少女物語/
URL:https://hiraeth.tokyo/event/20221009-2/
LOCATION:新宿Fate\, 歌舞伎町2-28-16\, 新宿区\, 東京都\, 160-0021\, 日本
CATEGORIES:Live
ATTACH;FMTTYPE=image/jpeg:https://hiraeth.tokyo/wp-content/uploads/3B993A08-C5EC-4519-9227-F6F60045AAD2.jpeg
END:VEVENT
END:VCALENDAR