BEGIN:VCALENDAR
VERSION:2.0
PRODID:-//【HIRAETH.Tokyo】(ヒラエス.トーキョー) - ECPv6.11.2//NONSGML v1.0//EN
CALSCALE:GREGORIAN
METHOD:PUBLISH
X-WR-CALNAME:【HIRAETH.Tokyo】(ヒラエス.トーキョー)
X-ORIGINAL-URL:https://hiraeth.tokyo
X-WR-CALDESC:【HIRAETH.Tokyo】(ヒラエス.トーキョー) のイベント
REFRESH-INTERVAL;VALUE=DURATION:PT1H
X-Robots-Tag:noindex
X-PUBLISHED-TTL:PT1H
BEGIN:VTIMEZONE
TZID:Asia/Tokyo
BEGIN:STANDARD
TZOFFSETFROM:+0900
TZOFFSETTO:+0900
TZNAME:JST
DTSTART:20220101T000000
END:STANDARD
END:VTIMEZONE
BEGIN:VEVENT
DTSTART;VALUE=DATE:20221010
DTEND;VALUE=DATE:20221011
DTSTAMP:20260425T124022
CREATED:20221007T060846Z
LAST-MODIFIED:20230316T184835Z
UID:2735-1665360000-1665446399@hiraeth.tokyo
SUMMARY:217☆LIVEプラス-スポーツの日SP-二部@池袋リヴォイス
DESCRIPTION:日時　10/10(月祝)\nイベント　【第二部】LIVEプラス-スポーツの日SP-\n料金 前売1000/当日1500(D別)\n予約　https://t.livepocket.jp/e/liveplus20221010_2\nLIVE　18:35～18:50\n物販　19:10～20:10\n会場　池袋リヴォイス\nOP　17:00\nST　17:15\nout\n出演　えあらびゅー/秋山せいな/G’ASH/傾奇隊(天風＆狐炎)/傾奇隊(水月＆雷電)/GiMMiCK/ZeroProject Z5-A/東京CLEAR’S/ハチャメチャ声優ユニットSTEM研究生/PLC/MISANTHROPE/RiKKYY/
URL:https://hiraeth.tokyo/event/20221010-2/
LOCATION:池袋リヴォイス\, 池袋2-12-9 広瀬ビルB1\, 豊島区\, 東京都\, 171-0014\, 日本
CATEGORIES:Live
END:VEVENT
BEGIN:VEVENT
DTSTART;VALUE=DATE:20221010
DTEND;VALUE=DATE:20221011
DTSTAMP:20260425T124022
CREATED:20221007T060511Z
LAST-MODIFIED:20230316T184827Z
UID:2733-1665360000-1665446399@hiraeth.tokyo
SUMMARY:216☆LIVEプラス-スポーツの日SP一部@池袋リヴォイス
DESCRIPTION:日時　10/10(月祝)\nイベント　【第一部】LIVEプラス-スポーツの日SP-\n料金 前売1000/当日1500(D別)\n予約　https://t.livepocket.jp/e/liveplus20221010_1\nLIVE　15:35～15:50\n物販　15:55～16:55\n会場　池袋リヴォイス\nOP　14:30\nST　14:45\nout\n出演　えあらびゅー//ZeroProject Z5-B/東京CLEAR’S/VanitY BunnY/PLC/ MISANTHROPE/RiKKYY/
URL:https://hiraeth.tokyo/event/20221010-1/
LOCATION:池袋リヴォイス\, 池袋2-12-9 広瀬ビルB1\, 豊島区\, 東京都\, 171-0014\, 日本
CATEGORIES:Live
END:VEVENT
END:VCALENDAR