BEGIN:VCALENDAR
VERSION:2.0
PRODID:-//【HIRAETH.Tokyo】(ヒラエス.トーキョー) - ECPv6.11.2//NONSGML v1.0//EN
CALSCALE:GREGORIAN
METHOD:PUBLISH
X-WR-CALNAME:【HIRAETH.Tokyo】(ヒラエス.トーキョー)
X-ORIGINAL-URL:https://hiraeth.tokyo
X-WR-CALDESC:【HIRAETH.Tokyo】(ヒラエス.トーキョー) のイベント
REFRESH-INTERVAL;VALUE=DURATION:PT1H
X-Robots-Tag:noindex
X-PUBLISHED-TTL:PT1H
BEGIN:VTIMEZONE
TZID:Asia/Tokyo
BEGIN:STANDARD
TZOFFSETFROM:+0900
TZOFFSETTO:+0900
TZNAME:JST
DTSTART:20220101T000000
END:STANDARD
END:VTIMEZONE
BEGIN:VEVENT
DTSTART;VALUE=DATE:20221022
DTEND;VALUE=DATE:20221023
DTSTAMP:20260425T124029
CREATED:20221109T234944Z
LAST-MODIFIED:20221109T234944Z
UID:3100-1666396800-1666483199@hiraeth.tokyo
SUMMARY:IIC2022-インディーズチャンピオンシップ2022票数
DESCRIPTION:【インディーズチャンピオンシップ2022】\n◆えあらびゅー得票数\n1176 \n◆得票上位\nアイアイタイガー　451pt\nIVY 559pt\nアイオケ　14pt\nICE-ink 1174 pt\nアイスアリアリ　595pt\n青山Rabness 762pt\nOops A Daizy 67pt \nえあらびゅー　1176pt \n81moment 184pt\nエレファンク庭　34pt\nOtto 2pt\n溺れる愛デンティティ　376pt\nGirls Crying in Bathroom 651pt\nKawaii Wonderland 331pt\nカンシャクノヒナ　2pt\nきみがぼくをみつけた日　0pt\nきみとのワンダーランド 1052pt\nきゅんみっしょん　209pt\n空想のイデア　1pt\nくれよんちゅ〜どく　142pt\nクロワッサン　1pt\n高貴な絶対零度　288pt\nCoCoLo♡RiPPLe 2pt\nSAIGO NO BANSAN  3404pt\n桜井もな　0\nTHE＋BETH 1\nSUMMER rocket 219pt\nCsli 1\n週末のステラ1613pt\nSweet IMP 1\n鈴音ひとみ　139pt\n絶滅のディスピア 20\nTiiimo 265\ndinkyjunk 1pt\nDoll.s self 1\n東京び炎　1\n.BPM 2\nニコニコLOVERS 1\n日曜日の起死回生98\nNeo EARTH! 1t\npear’s 259\nhiwillow 166\nパステル⭐︎ジョーカー　0\nハチャメチャ声優ユニット　9\n#ワールドカオス　931\nhappy少女♪ 188\nVanitY BunnY 0\n原宿flavor 0\nHALO PALLETE 1347\nPLC 76\nプリンセス物語　12\nプリンセスは眠らないっ！　322\nふるーつばすけっと　1\nフルーティー　244\n僕のアルカンジュ　159\nホシモリアユキ　1\nミアモーレ0\nゆめいろシンファニア 354\n代々木女子音楽院　263\n夜とメルク　149\nRe ORSA 1\nLifesta 627
URL:https://hiraeth.tokyo/event/20221022/
CATEGORIES:Event,Live
END:VEVENT
BEGIN:VEVENT
DTSTART;VALUE=DATE:20221022
DTEND;VALUE=DATE:20221023
DTSTAMP:20260425T124029
CREATED:20221018T124319Z
LAST-MODIFIED:20230316T184901Z
UID:2887-1666396800-1666483199@hiraeth.tokyo
SUMMARY:220☆Dolce主催ライブ@秋葉原ZEST
DESCRIPTION:日時　10/22(土)\nイベント　Dolce主催ライブ\n料金 前売1900/当日2400/(各D別)\n　配信付予約2400/配信のみ1000/(2週間のアーカイブ視聴可能)\n予約　https://tiget.net/events/209558\n配信予約　https://tiget.net/events/209560\nLIVE　10:40～11:00\n物販　11:05～12:05\n会場　秋葉原ZEST\nOP　10:30\nST　10:40(予定)\nout\n出演　えあらびゅー/Dolce/PEACE MAKER/ぷらしゅが/カンシャクノヒナ/DEEP GEEK/ハチャメチャ声優ユニットSTEM/月森楓/はづきちーぬめるていーぬ/朝比奈心来/恋空夢苺/他
URL:https://hiraeth.tokyo/event/20221022-1/
LOCATION:秋葉原ZEST\, 外神田3-2-14\, 千代田区\, 東京都\, 101-0021\, 日本
CATEGORIES:Live
END:VEVENT
END:VCALENDAR