BEGIN:VCALENDAR
VERSION:2.0
PRODID:-//【HIRAETH.Tokyo】(ヒラエス.トーキョー) - ECPv6.11.2//NONSGML v1.0//EN
CALSCALE:GREGORIAN
METHOD:PUBLISH
X-WR-CALNAME:【HIRAETH.Tokyo】(ヒラエス.トーキョー)
X-ORIGINAL-URL:https://hiraeth.tokyo
X-WR-CALDESC:【HIRAETH.Tokyo】(ヒラエス.トーキョー) のイベント
REFRESH-INTERVAL;VALUE=DURATION:PT1H
X-Robots-Tag:noindex
X-PUBLISHED-TTL:PT1H
BEGIN:VTIMEZONE
TZID:Asia/Tokyo
BEGIN:STANDARD
TZOFFSETFROM:+0900
TZOFFSETTO:+0900
TZNAME:JST
DTSTART:20220101T000000
END:STANDARD
END:VTIMEZONE
BEGIN:VEVENT
DTSTART;VALUE=DATE:20221023
DTEND;VALUE=DATE:20221024
DTSTAMP:20260425T124030
CREATED:20221004T041034Z
LAST-MODIFIED:20230316T184930Z
UID:2717-1666483200-1666569599@hiraeth.tokyo
SUMMARY:222☆☆shinjuku ALTA iDOL SONIC@新宿アルタKeystudio
DESCRIPTION:日時　10/23(日)\nイベント　shinjuku ALTA iDOL SONIC\n料金 前売3000/当日3500/(各D別)\n予約　https://t.livepocket.jp/e/girlsvision20221023\nLIVE　20:25〜20:45\n物販　21:25〜22:35\n会場　新宿アルタKeyStudio\nOP　11:05\nST　11:20\nOUT\n出演：えあらびゅー/アイコノクラズム/AiDOLOXXXY/あまりりす/いちごみるく色に染まりたい。/WOLFTIME:/Jumping Kiss/東京セラフィム/＃ビビデビート♭/PinkySpice/PinkPanda/FragrantDrive/ぷらしゅが/FLAPSTAR/プリズムハート/Blossom Garden/ぽけっとファントム/MAHΩRAMA/Mila bijou/ヤンチャン学園音楽部/Re:INCARNATION/RepiDoll/錬日oTo個色/wqwq/他
URL:https://hiraeth.tokyo/event/20221023-3/
LOCATION:新宿アルタKeyStudio\, 新宿3-24－3\, 新宿区\, 東京都\, 160-0022\, 日本
CATEGORIES:Live
END:VEVENT
BEGIN:VEVENT
DTSTART;VALUE=DATE:20221023
DTEND;VALUE=DATE:20221024
DTSTAMP:20260425T124030
CREATED:20221014T192716Z
LAST-MODIFIED:20230316T184939Z
UID:2858-1666483200-1666569599@hiraeth.tokyo
SUMMARY:223☆ ドリ☆ステ 九条あすか2周年ライブ！@新宿Fate
DESCRIPTION:日時　10/23(日)\nイベント　ドリ☆ステ九条あすか2周年ライブ！\n料金 予約2000、当日2500(各D別)\n予約　運営予約( https://twitter.com/airlview )\nLIVE　12:20～12:40\n物販　12:45～13:45\n会場　新宿Fate\nOP　11:45\nST　12:00\nout\n出演　えあらびゅー/ドリ☆ステ/幻色シアター/狂い咲けセンターロード/
URL:https://hiraeth.tokyo/event/20221023-1/
LOCATION:新宿Fate\, 歌舞伎町2-28-16\, 新宿区\, 東京都\, 160-0021\, 日本
CATEGORIES:Live
ATTACH;FMTTYPE=image/jpeg:https://hiraeth.tokyo/wp-content/uploads/8BBD1B57-6ECF-451F-8FE5-22E917581AA6.jpeg
END:VEVENT
BEGIN:VEVENT
DTSTART;VALUE=DATE:20221023
DTEND;VALUE=DATE:20221024
DTSTAMP:20260425T124030
CREATED:20220927T041832Z
LAST-MODIFIED:20230316T184921Z
UID:2666-1666483200-1666569599@hiraeth.tokyo
SUMMARY:221☆☆(V1-IIC2022-D6)第一回インディーズアイドルチャンピオンシップ2022-6日目@渋谷ジーカンズ
DESCRIPTION:日時　10/23(日)\nイベント　第一回インディーズアイドルチャンピオンシップ2022-6日目(V1-IIC2022-D6)\n料金 前売2500/当日3000/(各D別)\n予約　https://t.livepocket.jp/e/0o2am\nLIVE　14:55〜15:10 \n物販　15:15〜16:15\n会場　渋谷ジーカンズ(Atom TOKYO)\nOP　9:50\nST　10:00\nout 18:00\n主催：中村喜伸プロデューサー(ガキ使)\nMC：？？\n出演　えあらびゅー/みらくる♡ふぉーぜ/ジュリアナの祟り(akaエナツの祟り)/HAPPY少女♪/フルーティー/鈴音ひとみ/青山Rabness/Lifesta/Oops A Daizy/愛夢GLTOKYO/エレファンク庭/ぺろぺろきゃんでぃ/GirlsCryinginBathroom/しゃかりぃな/アイスアリアリ/ぴーなっつぴーぷる/他 \n※入場順：①前売予約番号順→②当日券 \nーーイベントレギュレーションーー\nポイントについて\n【無料(1pt)】1日1pt無料投票 https://idol-ouen-project.com/idol-detail/mmt9wvapuz；0時に更新\n【￥100(1pt)～】1日2pt以降の投票は1ptにつき￥100https://idol-ouen-project.com/settlement/mmt9wvapuz\n【￥2500(25pt)】一般予約チケット\n【￥3500(35pt)】最前チケット\n【￥12000(120pt)】着席VIP席\n【￥35000(350pt)】応援バズーカ演出 \n◆決勝\nMC：有名お笑いタレント2人\nゲストパフォーマー：有名アイドルグループ\n賞金：優勝500万円、準優勝300万円、審査員特別賞200万円\n副賞：有名アーティストからの楽曲提供 \n◆えあらびゅー予選\n10月2日 D1\n10月8日 D2\n10月9日 D3\n10月15日 D4\n10月16日 D5\n10月23日 D6\n10月30日 D7\n11月6日 D8\n11月12日 準決勝予定\n11月19日 準決勝予定\n12月8日 決勝 豊洲Pit \n◆その他\nインディーズアイドルチャンピオンシップ(IIC)出演者はもれなく2023年5月幕張メッセにて最大規模のアイドル対バンLIVE出演予定\n#インディーズアイドルチャンピオンシップ2022 #アイドル #イベント #フェス #インディーズアイドル
URL:https://hiraeth.tokyo/event/20221023-2/
LOCATION:渋谷ジーカンズ\, 円山町2-4\, 渋谷区\, 東京都\, 日本
CATEGORIES:Live
ATTACH;FMTTYPE=image/png:https://hiraeth.tokyo/wp-content/uploads/FECD4198-C1EF-4715-83E1-7B375BA9DDB3.png
END:VEVENT
END:VCALENDAR