BEGIN:VCALENDAR
VERSION:2.0
PRODID:-//【HIRAETH.Tokyo】(ヒラエス.トーキョー) - ECPv6.11.2//NONSGML v1.0//EN
CALSCALE:GREGORIAN
METHOD:PUBLISH
X-WR-CALNAME:【HIRAETH.Tokyo】(ヒラエス.トーキョー)
X-ORIGINAL-URL:https://hiraeth.tokyo
X-WR-CALDESC:【HIRAETH.Tokyo】(ヒラエス.トーキョー) のイベント
REFRESH-INTERVAL;VALUE=DURATION:PT1H
X-Robots-Tag:noindex
X-PUBLISHED-TTL:PT1H
BEGIN:VTIMEZONE
TZID:Asia/Tokyo
BEGIN:STANDARD
TZOFFSETFROM:+0900
TZOFFSETTO:+0900
TZNAME:JST
DTSTART:20220101T000000
END:STANDARD
END:VTIMEZONE
BEGIN:VEVENT
DTSTART;VALUE=DATE:20221024
DTEND;VALUE=DATE:20221025
DTSTAMP:20260425T124022
CREATED:20221109T235035Z
LAST-MODIFIED:20221109T235100Z
UID:3102-1666569600-1666655999@hiraeth.tokyo
SUMMARY:IIC2022-インディーズチャンピオンシップ2022票数
DESCRIPTION:【インディーズチャンピオンシップ2022】\n◆えあらびゅー得票数\n2148 \n◆得票上位\n・アイアイタイガー\n472\n・IVY\n612\n・アイオケ\n18\n・ICE-ink\n1230\n・アイスアリアリ\n2217\n・青山Rabness\n877\n・Oop A Daizy\n138\n・81moment\n285\n・エレファンク庭\n182\n・溺れる愛デンティティ\n429\n・GirlsCryingInBathroom\n688\n・KawaiiWonderland\n471\n・君とのワンダーランド\n1090\n・きゅん♡みぃしょん\n233\n・空想のイデア\n13\n・くれよんちゅ〜どく\n143\n・高貴な絶対零度\n289\n・SAIGO NO BANSAN\n3449\n・SummerRoket\n229\n・終末のステラ\n1662\n・鈴音ひとみ\n538\n・TiiiMo\n1858\n・日曜日の起死回生\n99\n・Pearl’s\n450\n・Hiwillow\n302\n・#ワールドカオス\n978\n・Happy少女♪\n660\n・HALO PALLETE\n1510\n・プリンセスは眠らないっ！\n327\n・プリンセス物語\n15\n・PLC\n76\n・フルーティー\n69→1194 ！！\n・僕のアルカンジュ\n176\n・ゆめいろシンフォニア\n460\n・代々木女子音楽院\n263\n・夜とメルク\n149\n・Lifesta\n648
URL:https://hiraeth.tokyo/event/20221024/
CATEGORIES:Event,Live
END:VEVENT
END:VCALENDAR