BEGIN:VCALENDAR
VERSION:2.0
PRODID:-//【HIRAETH.Tokyo】(ヒラエス.トーキョー) - ECPv6.11.2//NONSGML v1.0//EN
CALSCALE:GREGORIAN
METHOD:PUBLISH
X-WR-CALNAME:【HIRAETH.Tokyo】(ヒラエス.トーキョー)
X-ORIGINAL-URL:https://hiraeth.tokyo
X-WR-CALDESC:【HIRAETH.Tokyo】(ヒラエス.トーキョー) のイベント
REFRESH-INTERVAL;VALUE=DURATION:PT1H
X-Robots-Tag:noindex
X-PUBLISHED-TTL:PT1H
BEGIN:VTIMEZONE
TZID:Asia/Tokyo
BEGIN:STANDARD
TZOFFSETFROM:+0900
TZOFFSETTO:+0900
TZNAME:JST
DTSTART:20220101T000000
END:STANDARD
END:VTIMEZONE
BEGIN:VEVENT
DTSTART;VALUE=DATE:20221026
DTEND;VALUE=DATE:20221027
DTSTAMP:20260425T124030
CREATED:20221026T011908Z
LAST-MODIFIED:20221026T012102Z
UID:2983-1666742400-1666828799@hiraeth.tokyo
SUMMARY:インディーズチャンピオンシップ2022票数
DESCRIPTION:【インディーズチャンピオンシップ2022】\nえあらびゅー得票数\n2208 \n↓投票はこちら↓\nhttps://idol-ouen-project.com/idol-detail/mmt9wvapuz \n◆得票上位\n・アイアイタイガー\n488\n・IVY\n642\n・アイオケ\n22\n・ICE-ink\n1286\n・アイスアリアリ\n2267\n・青山Rabness\n966\n・Oops A Daizy\n324\n・え〜とす\n29\n・81moment\n409\n・エレファンク庭\n194\n・応援⭐︎少女おかわり\n2\n・Otto\n2\n・溺れる愛デンティティ\n551\n・GirlsCryingInBathroom\n743\n・KawaiiWonderland\n519\n・カンシャクノヒナ\n4\n・きみがぼくを見つけた日\n0\n・君とのワンダーランド\n1163\n・きゅん♡みぃしょん\n265\n・空想のイデア\n17\n・くれよんちゅ〜どく\n146\n・クロワッサン\n1\n・クレヨンズ\n0\n・高貴な絶対零度\n295\n・COCOLO RIPPLE\n2\n・COZ39\n0\n・SAIGO NO BANSAN\n3547\n・桜井もな\n1\n・THE +BETE\n1\n・SummerRoket\n234\n・Csli\n1\n・シューレース\n0\n・終末のステラ\n1690\n・ジュリアナの崇り\n0\n・sweet IMP\n1\n・鈴音ひとみ\n583\n・strange L∞P\n0\n・殲滅のディストピア\n23\n・TiiiMo\n1899\n・DINKY JUNK\n1\n・Doll’s Self\n1\n・トウカセイセイ\n0\n・東京ぴ炎\n1\n・.BPM\n2\n・ニコニコ❤︎LOVERS\n日曜日の起死回生\n101\n・neo earth\n1\n・Pearl’s\n473\n・Hiwillow\n326\nパステル⭐︎ジョーカー\n0\n・はちゃめちゃ声優ユニットSTEM\n9\n・#ワールドカオス\n1025\n・Happy少女♪\n1064\n・VanitY BunnY\n1\n・原宿flavor\n0\n・HALO PALLETE\n1706\n・PLC\n76\n・ふぇありーているず！\n0\n・プリンセスは眠らないっ！\n351\n・ふるーつばすけっと\n0\n・フルーティ\n1285\n・ふるふるしっぽ\n0\n・僕のアルカンジュ\n189\n・ホシモリヤユキ\n1\n・ミアモーレ\n1\n・桃瀬下の名前はまだない。\n6\n・ゆめいろシンフォニア\n545\n・代々木女子音楽院\n264\n・夜とメルク\n149\n・Re;ORSA\n1\n・Little Black Doll\n0\n・Lifesta\n674
URL:https://hiraeth.tokyo/event/iic-20221026/
CATEGORIES:Event,Live
END:VEVENT
END:VCALENDAR