BEGIN:VCALENDAR
VERSION:2.0
PRODID:-//【HIRAETH.Tokyo】(ヒラエス.トーキョー) - ECPv6.11.2//NONSGML v1.0//EN
CALSCALE:GREGORIAN
METHOD:PUBLISH
X-WR-CALNAME:【HIRAETH.Tokyo】(ヒラエス.トーキョー)
X-ORIGINAL-URL:https://hiraeth.tokyo
X-WR-CALDESC:【HIRAETH.Tokyo】(ヒラエス.トーキョー) のイベント
REFRESH-INTERVAL;VALUE=DURATION:PT1H
X-Robots-Tag:noindex
X-PUBLISHED-TTL:PT1H
BEGIN:VTIMEZONE
TZID:Asia/Tokyo
BEGIN:STANDARD
TZOFFSETFROM:+0900
TZOFFSETTO:+0900
TZNAME:JST
DTSTART:20220101T000000
END:STANDARD
END:VTIMEZONE
BEGIN:VEVENT
DTSTART;VALUE=DATE:20221027
DTEND;VALUE=DATE:20221028
DTSTAMP:20260425T124029
CREATED:20221109T234518Z
LAST-MODIFIED:20221109T234518Z
UID:3096-1666828800-1666915199@hiraeth.tokyo
SUMMARY:IIC2022-インディーズチャンピオンシップ2022票数
DESCRIPTION:【インディーズチャンピオンシップ2022】\nえあらびゅー得票数\n2239 \n↓投票はこちら↓\n◆得票上位\n・アイアイタイガー\n503\n・IVY\n650\n・アイオケ\n23\n・ICE-ink\n1316\n・アイスアリアリ\n2287\n・青山Rabness\n1057\n・Oops A Daizy\n369\n・え〜とす\n126\n・81moment\n458\n・エレファンク庭\n198\n・応援⭐︎少女おかわり\n13\n・Otto\n2\n・溺れる愛デンティティ\n580\n・GirlsCryingInBathroom\n762\n・KawaiiWonderland\n528\n・カンシャクノヒナ\n4\n・きみがぼくを見つけた日\n1\n・きみとのワンダーランド\n119\n・きゅん♡みっしょん\n282\n・空想のイデア\n17\n・くれよんちゅ〜どく\n146\n・クロワッサン\n1\n・クレヨンズ\n0\n・高貴な絶対零度\n297\n・COCOLO RIPPLE\n2\n・COZ39\n0\n・SAIGO NO BANSAN\n3591\n・桜井もな\n2\n・THE +BETE\n2\n・SummerRoket\n239\n・Csli\n1\n・シューレース\n0\n・終末のステラ\n1722\n・sweet IMP\n1\n・鈴音ひとみ\n609\n・strange L∞P\n0\n・殲滅のディストピア\n24\n・TiiiMo\n1932\n・DINKY JUNK\n1\n・Doll’s Self\n1\n・トウカセイセイ\n0\n・東京ぴ炎\n1\n・.BPM\n3\n・ニコニコ❤︎LOVERS\n1\n日曜日の起死回生\n101\n・neo earth\n1\n・Pearl’s\n493\n・Hiwillow\n336\nパステル⭐︎ジョーカー\n0\n・はちゃめちゃ声優ユニットSTEM\n9\n・#ワールドカオス\n1052\n・Happy少女♪\n1128\n・VanitY BunnY\n1\n・原宿flavor\n0\n・HALO PALLETE\n1738\n・PLC\n76\n・ふぇありーているず！\n0\n・プリンセスは眠らないっ！\n362\n・ふるーつばすけっと\n1\n・フルーティ\n135\n・ふるふるしっぽ\n0\n・僕のアルカンジュ\n195\n・ホシモリヤユキ\n1\n・ミアモーレ\n1\n・桃瀬下の名前はまだない。\n45\n・ゆめいろシンフォニア\n606\n・代々木女子音楽院\n264\n・夜とメルク\n149\n・Re;ORSA\n1\n・Little Black Doll\n0\n・Lifesta\n684
URL:https://hiraeth.tokyo/event/20221027/
CATEGORIES:Event,Live
END:VEVENT
END:VCALENDAR