BEGIN:VCALENDAR
VERSION:2.0
PRODID:-//【HIRAETH.Tokyo】(ヒラエス.トーキョー) - ECPv6.11.2//NONSGML v1.0//EN
CALSCALE:GREGORIAN
METHOD:PUBLISH
X-ORIGINAL-URL:https://hiraeth.tokyo
X-WR-CALDESC:【HIRAETH.Tokyo】(ヒラエス.トーキョー) のイベント
REFRESH-INTERVAL;VALUE=DURATION:PT1H
X-Robots-Tag:noindex
X-PUBLISHED-TTL:PT1H
BEGIN:VTIMEZONE
TZID:Asia/Tokyo
BEGIN:STANDARD
TZOFFSETFROM:+0900
TZOFFSETTO:+0900
TZNAME:JST
DTSTART:20220101T000000
END:STANDARD
END:VTIMEZONE
BEGIN:VEVENT
DTSTART;VALUE=DATE:20221028
DTEND;VALUE=DATE:20221029
DTSTAMP:20260425T124214
CREATED:20221014T141426Z
LAST-MODIFIED:20230316T185001Z
UID:2851-1666915200-1667001599@hiraeth.tokyo
SUMMARY:224さんぷてぃ。夢川日和生誕祭「ひよちゃんのおたんじょうびかい」＠新宿Fate
DESCRIPTION:日時　10/28(金)\nイベント　さんぷてぃ。夢川日和生誕祭「ひよちゃんのおたんじょうびかい」\n料金 予約2500、当日3000、ペアチケ4000(必ずお二人様でのご入場各1D600別)(各D別)\n予約　https://tiget.net/events/208606\nLIVE　20:30〜20:55\n物販　終演後(21:30～22:20)\n会場　新宿Fate\nOP　17:30\nST　18:00\nout\n出演　えあらびゅー/さんぷてぃ。/MAHΩRAMA/NEO EARTH!!/ぶっトび！パンデミック/KUJU/LUNCH KIDS/他
URL:https://hiraeth.tokyo/event/20221028-1/
LOCATION:新宿Fate\, 歌舞伎町2-28-16\, 新宿区\, 東京都\, 160-0021\, 日本
CATEGORIES:Live
ATTACH;FMTTYPE=image/jpeg:https://hiraeth.tokyo/wp-content/uploads/08673B8F-F034-43EF-8C82-39C88D86D147.jpeg
END:VEVENT
END:VCALENDAR