BEGIN:VCALENDAR
VERSION:2.0
PRODID:-//【HIRAETH.Tokyo】(ヒラエス.トーキョー) - ECPv6.11.2//NONSGML v1.0//EN
CALSCALE:GREGORIAN
METHOD:PUBLISH
X-ORIGINAL-URL:https://hiraeth.tokyo
X-WR-CALDESC:【HIRAETH.Tokyo】(ヒラエス.トーキョー) のイベント
REFRESH-INTERVAL;VALUE=DURATION:PT1H
X-Robots-Tag:noindex
X-PUBLISHED-TTL:PT1H
BEGIN:VTIMEZONE
TZID:Asia/Tokyo
BEGIN:STANDARD
TZOFFSETFROM:+0900
TZOFFSETTO:+0900
TZNAME:JST
DTSTART:20220101T000000
END:STANDARD
END:VTIMEZONE
BEGIN:VEVENT
DTSTART;VALUE=DATE:20221029
DTEND;VALUE=DATE:20221030
DTSTAMP:20260425T124206
CREATED:20221021T045512Z
LAST-MODIFIED:20230316T185009Z
UID:2915-1667001600-1667087999@hiraeth.tokyo
SUMMARY:225☆☆GirlsFace in Zirco~HalloweenSP@新宿ZircoTokyo
DESCRIPTION:日時　10/29(土)\nイベント　Girls Face in Zirco~HalloweenSP!!~\n料金 前売2500/当日3000/(各D別)\n予約　https://tiget.net/events/210253\nLIVE　14:25〜14:45\n物販　14:50〜15:50\n会場　新宿ZircoTokyo\nOP　10:20\nST　10:40\nout 18:00\n出演　えあらびゅー/タートルリリー/＆シンフィニティ/ステラリオン/ラストノート/ヒップバーン/ひめもすオーケストラ/オグメンタル/瞬きもせず/pamplepop/そあとあめーむ/CHERRY GIRLS PROJECT/モイメメ/ドリ☆ステ/しゃかりいな/Clapotis/ZeroProject Z2/青葉ここ /津崎真希/わーゆう/
URL:https://hiraeth.tokyo/event/20221029-1/
LOCATION:新宿Zirco Tokyo\, 歌舞伎町1-2-5東陽ビルB2\, 新宿区\, 東京都\, 160-0021\, 日本
CATEGORIES:Live
ATTACH;FMTTYPE=image/png:https://hiraeth.tokyo/wp-content/uploads/20221029Zirco_1.png
END:VEVENT
END:VCALENDAR