BEGIN:VCALENDAR
VERSION:2.0
PRODID:-//【HIRAETH.Tokyo】(ヒラエス.トーキョー) - ECPv6.11.2//NONSGML v1.0//EN
CALSCALE:GREGORIAN
METHOD:PUBLISH
X-WR-CALNAME:【HIRAETH.Tokyo】(ヒラエス.トーキョー)
X-ORIGINAL-URL:https://hiraeth.tokyo
X-WR-CALDESC:【HIRAETH.Tokyo】(ヒラエス.トーキョー) のイベント
REFRESH-INTERVAL;VALUE=DURATION:PT1H
X-Robots-Tag:noindex
X-PUBLISHED-TTL:PT1H
BEGIN:VTIMEZONE
TZID:Asia/Tokyo
BEGIN:STANDARD
TZOFFSETFROM:+0900
TZOFFSETTO:+0900
TZNAME:JST
DTSTART:20220101T000000
END:STANDARD
END:VTIMEZONE
BEGIN:VEVENT
DTSTART;VALUE=DATE:20221030
DTEND;VALUE=DATE:20221031
DTSTAMP:20260425T125043
CREATED:20220927T042348Z
LAST-MODIFIED:20230316T185018Z
UID:2668-1667088000-1667174399@hiraeth.tokyo
SUMMARY:226☆☆(V1-IIC2022-D7)第一回インディーズアイドルチャンピオンシップ2022-7日目@渋谷ジーカンズ
DESCRIPTION:日程　10/30(日)\nイベント　(V1-IIC2022-D7)第一回インディーズアイドルチャンピオンシップ2022-7日目\n料金 前売2500/当日3000/(各D別)\n予約　https://t.livepocket.jp/e/1q98u\nLIVE　11:15～11:30\n物販　11:35～12:35\n会場　渋谷ジーカンズ(Atom TOKYO)、シタマチハロウィン2会場連動\nOP　10:00\nST　10:10\nout 18:00\n主催：中村喜伸プロデューサー(ガキ使)\n出演　えあらびゅー/Girls Crying in Bathroom/みらくる♡ふぉーぜ/ジュリアナの祟り（akaエナツの祟り）/HALO PALLETE/Kawaii Wonderland/青山Rabness/プリンセスは眠らないっ!/BLUEGLASS/マジカルバルーンYes/そのまんま祟り/ショートカット部/神聖フレラモ/#ワールドカオス/きみとのワンダーランド/UNDERBAR/wqwq/SUMMER ROCKET/プリンセス物語/ネオトウキョウクラブ/krays/\n\n※入場順：①前売予約番号順→②当日券 \nーーイベントレギュレーションーー\nポイントについて\n【無料(1pt)】1日1pt無料投票 https://idol-ouen-project.com/idol-detail/mmt9wvapuz；0時に更新\n【￥100(1pt)～】1日2pt以降の投票は1ptにつき￥100https://idol-ouen-project.com/settlement/mmt9wvapuz\n【￥2500(25pt)】一般予約チケット\n【￥3500(35pt)】最前チケット\n【￥12000(120pt)】着席VIP席\n【￥35000(350pt)】応援バズーカ演出 \n◆決勝\nMC：有名お笑いタレント2人\nゲストパフォーマー：有名アイドルグループ\n賞金：優勝500万円、準優勝300万円、審査員特別賞200万円\n副賞：有名アーティストからの楽曲提供 \n◆えあらびゅー予選\n10月2日 D1\n10月8日 D2\n10月9日 D3\n10月15日 D4\n10月16日 D5\n10月23日 D6\n10月30日 D7\n11月6日 D8\n11月12日 準決勝予定\n11月19日 準決勝予定\n12月8日 決勝 豊洲Pit \n◆その他\nインディーズアイドルチャンピオンシップ(IIC)出演者はもれなく2023年5月幕張メッセにて最大規模のアイドル対バンLIVE出演予定\n#インディーズアイドルチャンピオンシップ2022 #アイドル #イベント #フェス #インディーズアイドル
URL:https://hiraeth.tokyo/event/20221030-2/
LOCATION:渋谷ジーカンズ\, 円山町2-4\, 渋谷区\, 東京都\, 日本
CATEGORIES:Live
ATTACH;FMTTYPE=image/jpeg:https://hiraeth.tokyo/wp-content/uploads/20221030-1.jpg
END:VEVENT
END:VCALENDAR