BEGIN:VCALENDAR
VERSION:2.0
PRODID:-//【HIRAETH.Tokyo】(ヒラエス.トーキョー) - ECPv6.11.2//NONSGML v1.0//EN
CALSCALE:GREGORIAN
METHOD:PUBLISH
X-WR-CALNAME:【HIRAETH.Tokyo】(ヒラエス.トーキョー)
X-ORIGINAL-URL:https://hiraeth.tokyo
X-WR-CALDESC:【HIRAETH.Tokyo】(ヒラエス.トーキョー) のイベント
REFRESH-INTERVAL;VALUE=DURATION:PT1H
X-Robots-Tag:noindex
X-PUBLISHED-TTL:PT1H
BEGIN:VTIMEZONE
TZID:Asia/Tokyo
BEGIN:STANDARD
TZOFFSETFROM:+0900
TZOFFSETTO:+0900
TZNAME:JST
DTSTART:20220101T000000
END:STANDARD
END:VTIMEZONE
BEGIN:VEVENT
DTSTART;VALUE=DATE:20221101
DTEND;VALUE=DATE:20221102
DTSTAMP:20260425T105354
CREATED:20221012T004954Z
LAST-MODIFIED:20230316T185026Z
UID:2774-1667260800-1667347199@hiraeth.tokyo
SUMMARY:227☆☆第14回えあらびゅーpresents『新持曲発表ユニットSP』@新宿Fate
DESCRIPTION:第14回えあらびゅーpresents『新持曲発表ユニットSP』\n開催日 11/01(火)\n会場 新宿Fate\nチケット 前売1900、当日2900(各1D別)※各運営予約\n開場 18:30\n開始 18:50\n出演 えあらびゅー/きみかが！/AmazingStory/さんぷてぃ。/ \n⚡️予約方法⚡️\n1️⃣しっかり予約\n公式TwitterへDM\n予約名や人数をお知らせ頂く\n質問などもお気軽に✨\nhttps://twitter.com/airlview \n2️⃣簡単予約\n該当のイベント告知ツイートをリツイートして頂ければ予約完了🎊\n予約じゃないリツイートもぜひぜひ🙏🏻 \n◆タイムテーブル\n▶︎オープン18:30\n▶︎きみかが！18:50～19:10\n▶︎AmazingStory 19:10〜19:30\n▶︎えあらびゅーライブ 19:35〜20:05\n▶︎さんぷてぃ。 20:05～20:25\n▶︎えあらびゅー新持曲ライブ　20:25〜20:45\n▶︎物販20:50～21:50 \n◆その他\n▶︎動画可\n・えあらびゅーライブ 19:35〜20:05\n▶︎写真可\n・えあらびゅーライブ 19:35〜20:05\n▶︎コール:マスクコール可\n▶︎再入場:可(都度1D必須)
URL:https://hiraeth.tokyo/event/20221101-1/
LOCATION:新宿Fate\, 歌舞伎町2-28-16\, 新宿区\, 東京都\, 160-0021\, 日本
CATEGORIES:Live
ATTACH;FMTTYPE=image/png:https://hiraeth.tokyo/wp-content/uploads/5AAC5053-2DD9-4A45-A309-BAD98ABE3440.png
END:VEVENT
BEGIN:VEVENT
DTSTART;VALUE=DATE:20221101
DTEND;VALUE=DATE:20221102
DTSTAMP:20260425T105354
CREATED:20221101T041238Z
LAST-MODIFIED:20221101T045957Z
UID:3024-1667260800-1667347199@hiraeth.tokyo
SUMMARY:IIC2022-インディーズチャンピオンシップ2022票数
DESCRIPTION:【IIC2022-インディーズチャンピオンシップ2022】\nえあらびゅー得票数\n2897 \n↓投票はこちら↓\nhttps://idol-ouen-project.com/idol-detail/mmt9wvapuz \n◆得票上位\n・ICE-ink\n1438\n・酔生夢死\n0\n・フルーティ\n1596\n・81moment\n651\n・クロワッサン\n1\n・くれよんちゅ〜どく\n149\n・Doll’sSelf\n1\n・応援⭐︎少女おかわり\n52\n・シューレース\n255\n・カンシャクノヒナ\n4\n・殲滅のディストピア\n24\n・Otto\n1\n・strange L∞P\n1\n・neo earth\n1\n・ゆめいろシンフォニア\n904\n・青山Rabness\n1332\n・Csli\n2\n・僕のアルカンジュ\n230\n・HALO PALLETE\n2188\n・ゲキジョー型アイドルユニットCRAYONS\n0\n・.BPM\n3\n・GirlsCryingInBathroom\n895\n・Pearl’s\n582\n・高貴な絶対零度\n300\n・代々木女子音楽院\n2265\n・#ワールドカオス\n1466\n・DINKY JUNK\n1\n・ニコニコ❤︎LOVERS\n1\n・ふぇありーているず！\n4\n・PLC\n76\n・IVY\n744\n・ふるふるしっぽ\n0\n・東京ぴ炎\n1\n・TiiiMo\n2014\n・桜井もな\n7\n・きみがぼくを見つけた日\n1\n・溺れる愛デンティティ\n725\n・KawaiiWonderland\n637\n・鈴音ひとみ\n686\n・原宿flavor\n0\n・終末のステラ\n1843\n・エレファンク庭\n212\n・SAIGO NO BANSAN\n3746\n・はちゃめちゃ声優ユニットSTEM\n9\n・Oops A Daizy\n572\n・Re;ORSA\n1\n・アイアイタイガー\n542\n・Little Black Doll\n0\n・SummerRoket\n380\n・ミアモーレ\n1\n・空想のイデア\n21\n・トウカセイセイ\n2\n・Hiwillow\n376\n・夜とメルク\n149\n・COCOLO RIPPLE\n2\n・桃瀬下の名前はまだない。\n65\n・アイオケ\n33\n・え〜とす\n182\n・Lifesta\n1037\n・日曜日の起死回生\n207\n・VanitY BunnY\n1\n・THE +BETE\n2\n・きみとのワンダーランド\n2511\n・Happy少女♪\n1681\n・アイスアリアリ\n2475\n・パステル⭐︎ジョーカー\n0\n・ふるーつばすけっと\n0\n・sweet IMP\n1\n・COZ39\n149\n・プリンセスは眠らないっ！\n401\n・きゅん♡みぃしょん\n733\n・ホシモリヤユキ\n1\n・HAPPY少女♪\n1682\n・ジュリアナの崇り
URL:https://hiraeth.tokyo/event/20221101/
CATEGORIES:Event,Live
END:VEVENT
END:VCALENDAR