BEGIN:VCALENDAR
VERSION:2.0
PRODID:-//【HIRAETH.Tokyo】(ヒラエス.トーキョー) - ECPv6.11.2//NONSGML v1.0//EN
CALSCALE:GREGORIAN
METHOD:PUBLISH
X-WR-CALNAME:【HIRAETH.Tokyo】(ヒラエス.トーキョー)
X-ORIGINAL-URL:https://hiraeth.tokyo
X-WR-CALDESC:【HIRAETH.Tokyo】(ヒラエス.トーキョー) のイベント
REFRESH-INTERVAL;VALUE=DURATION:PT1H
X-Robots-Tag:noindex
X-PUBLISHED-TTL:PT1H
BEGIN:VTIMEZONE
TZID:Asia/Tokyo
BEGIN:STANDARD
TZOFFSETFROM:+0900
TZOFFSETTO:+0900
TZNAME:JST
DTSTART:20220101T000000
END:STANDARD
END:VTIMEZONE
BEGIN:VEVENT
DTSTART;VALUE=DATE:20221102
DTEND;VALUE=DATE:20221103
DTSTAMP:20260425T105355
CREATED:20221109T230612Z
LAST-MODIFIED:20221109T230656Z
UID:3092-1667347200-1667433599@hiraeth.tokyo
SUMMARY:IIC2022-インディーズチャンピオンシップ2022票数
DESCRIPTION:【インディーズチャンピオンシップ2022】\nえあらびゅー得票数\n2922 \n↓投票はこちら↓\n◆得票上位\n・アイアイタイガー\n552\n・IVY\n752\n・アイオケ\n34\n・ICE-ink\n1455\n・アイスアリアリ\n2492\n・青山Rabness\n1353\n・Oops A Daizy\n617\n・え〜とす\n196\n・81moment\n681\n・エレファンク庭\n212\n・応援⭐︎少女おかわり\n57\n・Otto\n1\n・溺れる愛デンティティ\n811\n・GirlsCryingInBathroom\n910\n・KawaiiWonderland\n651\n・カンシャクノヒナ\n4\n・きみがぼくを見つけた日\n1\n・きみとのワンダーランド\n2557\n・きゅん♡みっしょん\n755\n・空想のイデア\n21\n・くれよんちゅ〜どく\n150\n・クロワッサン\n1\n・クレヨンズ\n0\n・高貴な絶対零度\n301\n・COCOLO RIPPLE\n2\n・COZ39\n162\n・SAIGO NO BANSAN\n3788\n・桜井もな\n7\n・THE +BETE\n2\n・SummerRoket\n384\n・Csli\n6\n・シューレース\n577\n・終末のステラ\n1876\n・酔生夢死\n72\n・sweet IMP\n1\n・鈴音ひとみ\n699\n・strange L∞P\n1\n・殲滅のディストピア\n24\n・TiiiMo\n2030\n・DINKY JUNK\n2\n・Doll’s Self\n1\n・トウカセイセイ\n3\n・東京ぴ炎\n1\n・.BPM\n3\n・ニコニコ❤︎LOVERS\n1\n日曜日の起死回生\n235\n・neo earth\n1\n・Pearl’s\n611\n・Hiwillow\n379\nパステル⭐︎ジョーカー\n0\n・はちゃめちゃ声優ユニットSTEM\n9\n・#ワールドカオス\n1496\n・Happy少女♪\n1745\n・VanitY BunnY\n1\n・原宿flavor\n0\n・HALO PALLETE\n21238\n・PLC\n76\n・ふぇありーているず！\n4\n・プリンセスは眠らないっ！\n410\n・ふるーつばすけっと\n1\n・フルーティ\n1657\n・ふるふるしっぽ\n0\n・僕のアルカンジュ\n237\n・ホシモリヤユキ\n1\n・ミアモーレ\n1\n・桃瀬下の名前はまだない。\n67\n・ゆめいろシンフォニア\n951\n・代々木女子音楽院\n2269\n・夜とメルク\n149\n・Re;ORSA\n1\n・Little Black Doll\n0\n・Lifesta\n1046
URL:https://hiraeth.tokyo/event/20221102/
CATEGORIES:Event,Live
END:VEVENT
END:VCALENDAR