BEGIN:VCALENDAR
VERSION:2.0
PRODID:-//【HIRAETH.Tokyo】(ヒラエス.トーキョー) - ECPv6.11.2//NONSGML v1.0//EN
CALSCALE:GREGORIAN
METHOD:PUBLISH
X-WR-CALNAME:【HIRAETH.Tokyo】(ヒラエス.トーキョー)
X-ORIGINAL-URL:https://hiraeth.tokyo
X-WR-CALDESC:【HIRAETH.Tokyo】(ヒラエス.トーキョー) のイベント
REFRESH-INTERVAL;VALUE=DURATION:PT1H
X-Robots-Tag:noindex
X-PUBLISHED-TTL:PT1H
BEGIN:VTIMEZONE
TZID:Asia/Tokyo
BEGIN:STANDARD
TZOFFSETFROM:+0900
TZOFFSETTO:+0900
TZNAME:JST
DTSTART:20220101T000000
END:STANDARD
END:VTIMEZONE
BEGIN:VEVENT
DTSTART;VALUE=DATE:20221104
DTEND;VALUE=DATE:20221105
DTSTAMP:20260425T105355
CREATED:20221109T225529Z
LAST-MODIFIED:20221109T225529Z
UID:3087-1667520000-1667606399@hiraeth.tokyo
SUMMARY:IIC2022-インディーズチャンピオンシップ2022票数
DESCRIPTION:【インディーズチャンピオンシップ2022】\n11/4　えあらびゅー得票数\n2975 \n↓投票はこちら↓\n◆得票上位\n・アイアイタイガー\n563\n・IVY\n786\n・アイオケ\n37\n・ICE-ink\n1521\n・アイスアリアリ\n2534\n・青山Rabness\n1427\n・AMOUR\n1\n・Oops A Daizy\n704\n・え〜とす\n213\n・81moment\n746\n・エレファンク庭\n214\n・応援⭐︎少女おかわり\n65\n・Otto\n1\n・溺れる愛デンティティ\n898\n・GirlsCryingInBathroom\n978\n・KawaiiWonderland\n662\n・カンシャクノヒナ\n4\n・きみがぼくを見つけた日\n1\n・きみとのワンダーランド\n2624\n・きゅん♡みっしょん\n781]\n・空想のイデア\n21\n・くれよんちゅ〜どく\n151\n・クロワッサン\n1\n・クレヨンズ\n2\n・高貴な絶対零度\n302\n・COCOLO RIPPLE\n2\n・COZ39\n176\n・SAIGO NO BANSAN\n3847\n・桜井もな\n9\n・THE +BETE\n2\n・SummerRoket\n390\n・Csli\n2\n・シューレース\n527\n・終末のステラ\n1914\n・酔生夢死\n102\n・sweet IMP\n1\n・鈴音ひとみ\n729\n・strange L∞P\n1\n・殲滅のディストピア\n24\n・TiiiMo\n2092\n・DINKY JUNK\n2\n・Doll’s Self\n1\n・トウカセイセイ\n3\n・東京ぴ炎\n1\n・.BPM\n3\n・ニコニコ❤︎LOVERS\n1\n日曜日の起死回生\n286\n・neo earth\n1\n・Pearl’s\n653\n・Hiwillow\n386\nパステル⭐︎ジョーカー\n0\n・はちゃめちゃ声優ユニットSTEM\n9\n・#ワールドカオス\n1579\n・Happy少女♪\n1843\n・VanitY BunnY\n1\n・原宿flavor\n0\n・HALO PALLETE\n2302\n・PLC\n76\n・ふぇありーているず！\n4\n・プリンセスは眠らないっ！\n422\n・ふるーつばすけっと\n1\n・フルーティ\n1740\n・ふるふるしっぽ\n0\n・僕のアルカンジュ\n257\n・ホシモリヤユキ\n1\n・ミアモーレ\n1\n・桃瀬下の名前はまだない。\n73\n・Yunikiss\n30\n・ゆめいろシンフォニア\n1087\n・代々木女子音楽院\n2272\n・夜とメルク\n149\n・Re;ORSA\n1\n・Little Black Doll\n0\n・Lifesta\n1072
URL:https://hiraeth.tokyo/event/20221104-2/
CATEGORIES:Event,Live
END:VEVENT
END:VCALENDAR