BEGIN:VCALENDAR
VERSION:2.0
PRODID:-//【HIRAETH.Tokyo】(ヒラエス.トーキョー) - ECPv6.11.2//NONSGML v1.0//EN
CALSCALE:GREGORIAN
METHOD:PUBLISH
X-WR-CALNAME:【HIRAETH.Tokyo】(ヒラエス.トーキョー)
X-ORIGINAL-URL:https://hiraeth.tokyo
X-WR-CALDESC:【HIRAETH.Tokyo】(ヒラエス.トーキョー) のイベント
REFRESH-INTERVAL;VALUE=DURATION:PT1H
X-Robots-Tag:noindex
X-PUBLISHED-TTL:PT1H
BEGIN:VTIMEZONE
TZID:Asia/Tokyo
BEGIN:STANDARD
TZOFFSETFROM:+0900
TZOFFSETTO:+0900
TZNAME:JST
DTSTART:20220101T000000
END:STANDARD
END:VTIMEZONE
BEGIN:VEVENT
DTSTART;VALUE=DATE:20221105
DTEND;VALUE=DATE:20221106
DTSTAMP:20260425T105354
CREATED:20221021T050559Z
LAST-MODIFIED:20230316T185056Z
UID:2920-1667606400-1667692799@hiraeth.tokyo
SUMMARY:229☆Girls Face in Shibuya@渋谷Ring
DESCRIPTION:日時　11/5(土)\nイベント　Girls Face in Shibuya\n料金 前売2500/当日3000/(各D別)\n予約　https://tiget.net/events/212275\nLIVE　14:00〜14:20\n物販　14:30〜15:40\n会場　渋谷RING\nOP　10:10\nST　10:30\nout\n出演　えあらびゅー/81moment/caprice/モユルハル/いちごみるく色に染まりたい。/炭酸くろにくるっ/アイドロップ/Parasite.Kiss/セカモノ/迷愛ヘルプ/高貴な絶対零度/にぃなンじゃ/オグメンタル/君のヒロイン/イマココ←/Clapotis/ぽけっとファントム/ZeroProject Z2-A2\,6/Giselle/yummyummy!!!/
URL:https://hiraeth.tokyo/event/20221105-1/
LOCATION:渋谷RING\, 道玄坂2-21-7 第8矢澤ビル2F\, 渋谷区\, 東京都\, 150-0043\, 日本
CATEGORIES:Live
ATTACH;FMTTYPE=image/png:https://hiraeth.tokyo/wp-content/uploads/9e42bf74b1f583f8ede782bab02b8db9.png
END:VEVENT
END:VCALENDAR