BEGIN:VCALENDAR
VERSION:2.0
PRODID:-//【HIRAETH.Tokyo】(ヒラエス.トーキョー) - ECPv6.11.2//NONSGML v1.0//EN
CALSCALE:GREGORIAN
METHOD:PUBLISH
X-ORIGINAL-URL:https://hiraeth.tokyo
X-WR-CALDESC:【HIRAETH.Tokyo】(ヒラエス.トーキョー) のイベント
REFRESH-INTERVAL;VALUE=DURATION:PT1H
X-Robots-Tag:noindex
X-PUBLISHED-TTL:PT1H
BEGIN:VTIMEZONE
TZID:Asia/Tokyo
BEGIN:STANDARD
TZOFFSETFROM:+0900
TZOFFSETTO:+0900
TZNAME:JST
DTSTART:20220101T000000
END:STANDARD
END:VTIMEZONE
BEGIN:VEVENT
DTSTART;VALUE=DATE:20221106
DTEND;VALUE=DATE:20221107
DTSTAMP:20260425T105508
CREATED:20220927T042957Z
LAST-MODIFIED:20230316T185108Z
UID:2670-1667692800-1667779199@hiraeth.tokyo
SUMMARY:230☆☆(V1-IIC2022-D8)第一回インディーズアイドルチャンピオンシップ2022-8日目@渋谷ジーカンズ
DESCRIPTION:日時　11/6(日)※ことね除く4人態勢になります\nイベント　(V1-IIC2022-D8)第一回インディーズアイドルチャンピオンシップ2022-8日目\n料金 前売2500/当日3000/(各D別)\n予約　https://t.livepocket.jp/e/aa5qg\nLIVE　14:10～14:25\n物販　14:30～15:30\n会場　渋谷ジーカンズ(Atom TOKYO)\nOP　9:50\nST　10:10\nout 20:20\n主催：中村喜伸プロデューサー(ガキ使)\nMC：？？\n出演　えあらびゅー/S☆UTHERN CROSS/しゃかりいな/UNDERBAR/POMÜM/ICE-ink/ブルベア/東京セラフィム/BLUEGLASS/myφme/LICHT/終末のステラ/アイスアリアリ/Chase×Chase/LUCULIA/日曜日の起死回生/#ワールドカオス/もどかしマーケッツ/そのまんま祟り/戦国極楽アニマル浄土/VanitY BunnY /DINKY JUNK/きみとのワンダーランド/ラフ-Lough-/TiiiMO/みらくる♡ふぉーぜ/ジュリアナの祟り(akaエナツの祟り)/HALO PALLETE/\n\n※入場順：①前売予約番号順→②当日券 \nーーイベントレギュレーションーー\nポイントについて\n【無料(1pt)】1日1pt無料投票 https://idol-ouen-project.com/idol-detail/mmt9wvapuz；0時に更新\n【￥100(1pt)～】1日2pt以降の投票は1ptにつき￥100https://idol-ouen-project.com/settlement/mmt9wvapuz\n【￥2500(25pt)】一般予約チケット\n【￥3500(35pt)】最前チケット\n【￥12000(120pt)】着席VIP席\n【￥35000(350pt)】応援バズーカ演出 \n◆決勝\nMC：有名お笑いタレント2人\nゲストパフォーマー：有名アイドルグループ\n賞金：優勝500万円、準優勝300万円、審査員特別賞200万円\n副賞：有名アーティストからの楽曲提供 \n◆えあらびゅー予選\n10月2日 D1\n10月8日 D2\n10月9日 D3\n10月15日 D4\n10月16日 D5\n10月23日 D6\n10月30日 D7\n11月6日 D8\n11月12日 準決勝予定\n11月19日 準決勝予定\n12月8日 決勝 豊洲Pit \n◆その他\nインディーズアイドルチャンピオンシップ(IIC)出演者はもれなく2023年5月幕張メッセにて最大規模のアイドル対バンLIVE出演予定\n#インディーズアイドルチャンピオンシップ2022 #アイドル #イベント #フェス #インディーズアイドル
URL:https://hiraeth.tokyo/event/20221106-1/
LOCATION:渋谷ジーカンズ\, 円山町2-4\, 渋谷区\, 東京都\, 日本
CATEGORIES:Live
ATTACH;FMTTYPE=image/png:https://hiraeth.tokyo/wp-content/uploads/20221106-1.png
END:VEVENT
BEGIN:VEVENT
DTSTART;VALUE=DATE:20221106
DTEND;VALUE=DATE:20221107
DTSTAMP:20260425T105508
CREATED:20221109T224705Z
LAST-MODIFIED:20221109T234341Z
UID:3081-1667692800-1667779199@hiraeth.tokyo
SUMMARY:IIC2022-インディーズチャンピオンシップ2022票数
DESCRIPTION:【インディーズチャンピオンシップ2022】\n11/7 えあらびゅー得票数\n3594 \n↓投票はこちら↓\n◆得票上位\n・アイアイタイガー\n579\n・IVY\n858\n・アイオケ\n44\n・ICE-ink\n2640（1000p上がってます）\n・アイスアリアリ\n3120\n・青山Rabness\n1541\n・AMOUR\n1\n・Oops A Daizy\n890\n・え〜とす\n478\n・81moment\n849\n・エレファンク庭\n219\n・応援⭐︎少女おかわり\n79\n・Otto\n1\n・溺れる愛デンティティ\n1148\n・GirlsCryingInBathroom\n1074\n・KawaiiWonderland\n692\n・カンシャクノヒナ\n7\n・きみがぼくを見つけた日\n1\n・きみとのワンダーランド\n3219\n・きゅん♡みっしょん\n906\n・空想のイデア\n22\n・くれよんちゅ〜どく\n155\n・クロワッサン\n1\n・クレヨンズ\n2\n・高貴な絶対零度\n306\n・COCOLO RIPPLE\n3\n・COZ39\n214\n・SAIGO NO BANSAN\n3959\n・桜井もな\n12\n・THE +BETE\n2\n・SummerRoket\n405\n・Csli\n2\n・シューレース\n952\n・終末のステラ\n2295\n・酔生夢死\n301\n・sweet IMP\n1\n・鈴音ひとみ\n777\n・strange L∞P\n1\n・殲滅のディストピア\n24\n・TiiiMo\n3350（1000以上上がってる）\n・DINKY JUNK\n292\n・Doll’s Self\n1\n・トウカセイセイ\n4\n・東京ぴ炎\n1\n・.BPM\n3\n・ニコニコ❤︎LOVERS\n1\n・日曜日の起死回生\n351\n・neo earth\n1\n・Pearl’s\n736\n・Hiwillow\n405\n・パステル⭐︎ジョーカー\n1\n・はちゃめちゃ声優ユニットSTEM\n9\n・#ワールドカオス\n2261\n・Happy少女♪\n2010\n・VanitY BunnY\n61\n・原宿flavor\n1\n・HALO PALLETE\n2588\n・PLC\n76\n・ふぇありーているず！\n4\n・プリンセスは眠らないっ！\n457\n・ふるーつばすけっと\n1\n・フルーティ\n1905\n・ふるふるしっぽ\n1\n・僕のアルカンジュ\n376\n・ホシモリアユキ\n1\n・ミアモーレ\n4\n・桃瀬下の名前はまだない。\n205\n・Yunikiss\n52\n・ゆめいろシンフォニア\n1302\n・代々木女子音楽院\n2282\n・夜とメルク\n149\n・Re;ORSA\n1\n・Little Black Doll\n0\n・Lifesta\n1126
URL:https://hiraeth.tokyo/event/20221106/
CATEGORIES:Event,Live
END:VEVENT
BEGIN:VEVENT
DTSTART;VALUE=DATE:20221106
DTEND;VALUE=DATE:20221107
DTSTAMP:20260425T105508
CREATED:20221002T122241Z
LAST-MODIFIED:20230316T185117Z
UID:2709-1667692800-1667779199@hiraeth.tokyo
SUMMARY:231☆shinjuku ALTA iDOL SONIC@新宿アルタkeystudio
DESCRIPTION:日時　11/6(日)※ことね除く4人態勢になります\nイベント　shinjuku ALTA iDOL SONIC\n料金 前売3000/当日3500/(各D別)\n予約　\nhttps://t.livepocket.jp/e/girlsvision20221106\nLIVE　17:45～18:05\n物販　18:20～19:20\n会場　新宿アルタKeyStudio\nOP　11:05\nST　11:20\nOUT 21:00\n出演：えあらびゅー/アイコノクラズム/青山Rabness/a-plan。/キプリスモルホォ/CANDY GO!GO!/Clapotis/くれよんちゅ～どく/シュユノトキ/Tryme/のーぷらん。/８月のエウテルペ/ビビ⚡びっ/fairy☆elements/fairy☆dolls/プリズムハート/Ra＊papillon/Lapis/錬日oTo個色/ロング・グッドバイ/wqwq/他
URL:https://hiraeth.tokyo/event/20221106-2/
LOCATION:新宿アルタKeyStudio\, 新宿3-24－3\, 新宿区\, 東京都\, 160-0022\, 日本
CATEGORIES:Live
ATTACH;FMTTYPE=image/jpeg:https://hiraeth.tokyo/wp-content/uploads/e1ce1f1f6aff249761a2a75d24cdb694.jpg
END:VEVENT
END:VCALENDAR