BEGIN:VCALENDAR
VERSION:2.0
PRODID:-//【HIRAETH.Tokyo】(ヒラエス.トーキョー) - ECPv6.11.2//NONSGML v1.0//EN
CALSCALE:GREGORIAN
METHOD:PUBLISH
X-WR-CALNAME:【HIRAETH.Tokyo】(ヒラエス.トーキョー)
X-ORIGINAL-URL:https://hiraeth.tokyo
X-WR-CALDESC:【HIRAETH.Tokyo】(ヒラエス.トーキョー) のイベント
REFRESH-INTERVAL;VALUE=DURATION:PT1H
X-Robots-Tag:noindex
X-PUBLISHED-TTL:PT1H
BEGIN:VTIMEZONE
TZID:Asia/Tokyo
BEGIN:STANDARD
TZOFFSETFROM:+0900
TZOFFSETTO:+0900
TZNAME:JST
DTSTART:20220101T000000
END:STANDARD
END:VTIMEZONE
BEGIN:VEVENT
DTSTART;VALUE=DATE:20221107
DTEND;VALUE=DATE:20221108
DTSTAMP:20260425T105354
CREATED:20220908T102632Z
LAST-MODIFIED:20230316T185126Z
UID:2429-1667779200-1667865599@hiraeth.tokyo
SUMMARY:232☆楽遊アイドルフェス＠新宿アルタKeyStudio
DESCRIPTION:日時　11/7(月)\nイベント　楽遊アイドルフェス\n料金\n①前方椅子席4000(9人×3列)\n※スタンディングでの観覧不可\n②一般スタンディング2500\n※各種TIGET入場時1D代別 \n予約　TIGET\nLIVE　\n物販　\n会場　新宿アルタKeyStudio\nOP　14:00\nST　14:30(予定)\n出演　えあらびゅー/スポポポポニー/SIR/シークレットシャノワール/Milky✳Sphene\nAsterisk*zero/向日葵プリンセス/スプスラッシュ/みらくる♡ふぉーぜTokyo Story/福島ゆか/プリンセスは眠らないっ！/MAKE/ハチャメチャ声優ユニットSTEM \n『楽遊のさきどり★アイドル塾』\nMC：トミドコロ（グレープカンパニー）\nMC：金澤有希（SUPER☆GiRLS）\n【ミクチャ無料生配信番組】\n「楽遊のさきどり★アイドル塾」
URL:https://hiraeth.tokyo/event/20221107-1/
LOCATION:新宿アルタKeyStudio\, 新宿3-24－3\, 新宿区\, 東京都\, 160-0022\, 日本
CATEGORIES:Live
END:VEVENT
BEGIN:VEVENT
DTSTART;VALUE=DATE:20221107
DTEND;VALUE=DATE:20221108
DTSTAMP:20260425T105354
CREATED:20221109T225257Z
LAST-MODIFIED:20221109T225623Z
UID:3085-1667779200-1667865599@hiraeth.tokyo
SUMMARY:IIC2022-インディーズチャンピオンシップ2022票数
DESCRIPTION:【インディーズチャンピオンシップ2022】\n11/7　えあらびゅー得票数\n3066 \n↓投票はこちら↓\n◆得票上位\n・アイアイタイガー\n574\n・IVY\n833\n・アイオケ\n42\n・ICE-ink\n1582\n・アイスアリアリ\n2584\n・青山Rabness\n1501\n・AMOUR\n1\n・Oops A Daizy\n841\n・え〜とす\n227\n・81moment\n829\n・エレファンク庭\n218\n・応援⭐︎少女おかわり\n76\n・Otto\n1\n・溺れる愛デンティティ\n959\n・GirlsCryingInBathroom\n1047\n・KawaiiWonderland\n681\n・カンシャクノヒナ\n4\n・きみがぼくを見つけた日\n1\n・きみとのワンダーランド\n2780\n・きゅん♡みっしょん\n820\n・空想のイデア\n22\n・くれよんちゅ〜どく\n154\n・クロワッサン\n1\n・クレヨンズ\n2\n・高貴な絶対零度\n305\n・COCOLO RIPPLE\n2\n・COZ39\n176\n・SAIGO NO BANSAN\n3927\n・桜井もな\n11\n・THE +BETE\n2\n・SummerRoket\n401\n・Csli\n2\n・シューレース\n921\n・終末のステラ\n1967\n・酔生夢死\n206\n・sweet IMP\n1\n・鈴音ひとみ\n765\n・strange L∞P\n1\n・殲滅のディストピア\n24\n・TiiiMo\n2166\n・DINKY JUNK\n2\n・Doll’s Self\n1\n・トウカセイセイ\n3\n・東京ぴ炎\n1\n・.BPM\n3\n・ニコニコ❤︎LOVERS\n1\n日曜日の起死回生\n338\n・neo earth\n1\n・Pearl’s\n701\n・Hiwillow\n400\nパステル⭐︎ジョーカー\n0\n・はちゃめちゃ声優ユニットSTEM\n9\n・#ワールドカオス\n1664\n・Happy少女♪\n1949\n・VanitY BunnY\n1\n・原宿flavor\n0\n・HALO PALLETE\n2391\n・PLC\n76\n・ふぇありーているず！\n4\n・プリンセスは眠らないっ！\n452\n・ふるーつばすけっと\n1\n・フルーティ\n1859\n・ふるふるしっぽ\n0\n・僕のアルカン\n271\n・ホシモリヤユキ\n1\n・ミアモーレ\n1\n・桃瀬下の名前はまだない。\n73\n・Yunikiss\n30\n・ゆめいろシンフォニア\n1218\n・代々木女子音楽院\n2280\n・夜とメルク\n149\n・Re;ORSA\n1\n・Little Black Doll\n0\n・Lifesta\n1110
URL:https://hiraeth.tokyo/event/20221107-2/
CATEGORIES:Event,Live
END:VEVENT
END:VCALENDAR