BEGIN:VCALENDAR
VERSION:2.0
PRODID:-//【HIRAETH.Tokyo】(ヒラエス.トーキョー) - ECPv6.11.2//NONSGML v1.0//EN
CALSCALE:GREGORIAN
METHOD:PUBLISH
X-WR-CALNAME:【HIRAETH.Tokyo】(ヒラエス.トーキョー)
X-ORIGINAL-URL:https://hiraeth.tokyo
X-WR-CALDESC:【HIRAETH.Tokyo】(ヒラエス.トーキョー) のイベント
REFRESH-INTERVAL;VALUE=DURATION:PT1H
X-Robots-Tag:noindex
X-PUBLISHED-TTL:PT1H
BEGIN:VTIMEZONE
TZID:Asia/Tokyo
BEGIN:STANDARD
TZOFFSETFROM:+0900
TZOFFSETTO:+0900
TZNAME:JST
DTSTART:20220101T000000
END:STANDARD
END:VTIMEZONE
BEGIN:VEVENT
DTSTART;VALUE=DATE:20221113
DTEND;VALUE=DATE:20221114
DTSTAMP:20260425T105400
CREATED:20221024T065127Z
LAST-MODIFIED:20230316T185217Z
UID:2949-1668297600-1668383999@hiraeth.tokyo
SUMMARY:236☆☆IDOL SPIRITS11月号福田千穂(Seeds/PISTIL)生誕祭@五反田G4
DESCRIPTION:日時　11/13(日)\nイベント　IDOL SPIRITS11月号福田千穂(Seeds/PISTIL)生誕祭\n料金 前売2000/当日2500/他(各D別)\n予約　https://tiget.net/events/210851\nLIVE　17:35～17:55\n物販　18:05～19:05\n会場　五反田G4\nOP　13:45\nST　14:00\nout 22:55\n出演　えあらびゅー/SeedS/PISTIL/夢みるアドレセンス/スリジエ ベリー7/スリジエ メイビー8/ハチャメチャ声優ユニットSTEM/東京CLEARS/いすとわーるど/＃がらぽん/せろとにん×ばくだん/PLC/clara/スリジエ候補生/仮面女子候補生/コンビニ推進アイドル(仮)/ぱーみる！/プリンセスは眠らないっ！/HALO PALLETE/白星☆ウィクトーリア/SE-tsu-NA/白夜のカフカ/RiKKYY/他
URL:https://hiraeth.tokyo/event/20221103-2/
LOCATION:五反田G4\, 西五反田1-11-8 大成ビル4F\, 品川区\, 東京都\, 141-0031
CATEGORIES:Live
ATTACH;FMTTYPE=image/jpeg:https://hiraeth.tokyo/wp-content/uploads/20221113-1-scaled.jpg
END:VEVENT
BEGIN:VEVENT
DTSTART;VALUE=DATE:20221113
DTEND;VALUE=DATE:20221114
DTSTAMP:20260425T105400
CREATED:20221110T084839Z
LAST-MODIFIED:20230316T185234Z
UID:3116-1668297600-1668383999@hiraeth.tokyo
SUMMARY:238新宿FATE無銭無双 夜部@新宿Fate
DESCRIPTION:日時　11/13(日) \nイベント 新宿FATE無銭無双 夜部\n 料金 前売0/当日0/(各2D別) \n予約 なし\n LIVE 16:20～ 16:40\n物販 なし\n会場 新宿Fate\n OP 16:10\n ST  16:20\nout  \n出演 えあらびゅー/エレメンツ!-Elemental Heroines-/さんぷてぃ。/別所あみか/混沌少女/黒ゐ少女/抗ッタ少女/.Link/NEO EARTH!!/Dinky Junk/VanitY BunnY/FROG PRINCESS/らんちきっず/ByteSchwarz/BLACK LOTUS/LUCULIA
URL:https://hiraeth.tokyo/event/20221113-4/
LOCATION:新宿Fate\, 歌舞伎町2-28-16\, 新宿区\, 東京都\, 160-0021\, 日本
CATEGORIES:Live
ATTACH;FMTTYPE=image/jpeg:https://hiraeth.tokyo/wp-content/uploads/D9DB0607-A187-494A-8FAA-BB5108A943BA.jpeg
END:VEVENT
BEGIN:VEVENT
DTSTART;VALUE=DATE:20221113
DTEND;VALUE=DATE:20221114
DTSTAMP:20260425T105400
CREATED:20221002T125220Z
LAST-MODIFIED:20230316T185208Z
UID:2711-1668297600-1668383999@hiraeth.tokyo
SUMMARY:235☆☆shinjuku ALTA iDOL SONIC@新宿アルタkeystudio
DESCRIPTION:日時　11/13(日)\nイベント　shinjuku ALTA iDOL SONIC\n料金 前売3000/当日3500/(各D別)\n予約　https://t.livepocket.jp/e/girlsvision20221113\nLIVE　11:40～12:00\n物販　12:05～13:05\n会場　新宿アルタKeyStudio\nOP　11:05\nST　11:20\nOUT 22:05\n出演：えあらびゅー/アイコノクラズム/R.I.P.研究所/アンダービースティー/蓋然性オルトイズム/キプリスモルホォ/CANDY GO!GO!/Clapotis/くれよんちゅ~どく/Sistersあにま/GTRA/シュユノトキ/Chase×Chase/CHERRY GIRLSPROJECT/TEARSティアーズ/七星七愛/にとくり。/8月のエウテルペ/ビビ⚡びっ/Mila bijou/Lanan/Ra*papillon/Re:INCARNATION/錬日oTo個色
URL:https://hiraeth.tokyo/event/20221113-1/
LOCATION:新宿アルタKeyStudio\, 新宿3-24－3\, 新宿区\, 東京都\, 160-0022\, 日本
CATEGORIES:Live
ATTACH;FMTTYPE=image/jpeg:https://hiraeth.tokyo/wp-content/uploads/bd640195f45dbd89cd22c1015ddf0104.jpg
END:VEVENT
BEGIN:VEVENT
DTSTART;VALUE=DATE:20221113
DTEND;VALUE=DATE:20221114
DTSTAMP:20260425T105400
CREATED:20221110T080231Z
LAST-MODIFIED:20230316T185227Z
UID:3113-1668297600-1668383999@hiraeth.tokyo
SUMMARY:237新宿FATE無銭無双 昼部@新宿Fate
DESCRIPTION:日時　11/13(日) \nイベント 新宿FATE無銭無双 昼部\n 料金 前売0/当日0/(各2D別) \n予約 なし\n LIVE 13:50～ 14:10\n物販 14:50～ 15:50\n会場 新宿Fate\n OP 10:00\n ST  10:10\nout  \n出演 えあらびゅー/エレメンツ!-Elemental Heroines-/さんぷてぃ。/別所あみか/混沌少女/レッスントゥミー/.Link/My Best Friend/雨上がりのプラネット/NEO EARTH!!/FROG PRINCESS/ショートカット部/らんちきっず/ByteSchwarz/
URL:https://hiraeth.tokyo/event/20221113-3/
LOCATION:新宿Fate\, 歌舞伎町2-28-16\, 新宿区\, 東京都\, 160-0021\, 日本
CATEGORIES:Live
ATTACH;FMTTYPE=image/jpeg:https://hiraeth.tokyo/wp-content/uploads/20221113-3.jpg
END:VEVENT
END:VCALENDAR