BEGIN:VCALENDAR
VERSION:2.0
PRODID:-//【HIRAETH.Tokyo】(ヒラエス.トーキョー) - ECPv6.11.2//NONSGML v1.0//EN
CALSCALE:GREGORIAN
METHOD:PUBLISH
X-WR-CALNAME:【HIRAETH.Tokyo】(ヒラエス.トーキョー)
X-ORIGINAL-URL:https://hiraeth.tokyo
X-WR-CALDESC:【HIRAETH.Tokyo】(ヒラエス.トーキョー) のイベント
REFRESH-INTERVAL;VALUE=DURATION:PT1H
X-Robots-Tag:noindex
X-PUBLISHED-TTL:PT1H
BEGIN:VTIMEZONE
TZID:Asia/Tokyo
BEGIN:STANDARD
TZOFFSETFROM:+0900
TZOFFSETTO:+0900
TZNAME:JST
DTSTART:20220101T000000
END:STANDARD
END:VTIMEZONE
BEGIN:VEVENT
DTSTART;VALUE=DATE:20221118
DTEND;VALUE=DATE:20221119
DTSTAMP:20260425T105401
CREATED:20221022T205736Z
LAST-MODIFIED:20230316T185253Z
UID:2928-1668729600-1668815999@hiraeth.tokyo
SUMMARY:240☆秋葉原にぎわい広場2022@秋葉原エンタス
DESCRIPTION:日時　11月18日(金)\nイベント　秋葉原にぎわい広場2022\n料金　無料(入場時に『えあらびゅー指名』とお知らせ頂けると助かります)\n予約　なし\nLIVE　16:45〜17:05\n物販　18:05〜19:00(全組終演後)\n会場　秋葉原エンタス(東京都千代田区外神田1-2-7 オノデン秋葉原本館ビル5F)\nOP　16:00\nST　17:00\nOUT　19:00\n出演　えあらびゅー/unichan/ルミキスex/SUMMER ROCKET/ \nイベント情報\nhttps://www.akiba-events.tokyo/\n第一部：デジハリ大学のオープン講座\n16:00〜16:40 \n第二部：アイドルライブ\n16:45〜17:05：①\n17:05〜17:25：②\n17:25〜17:45：③\n17:45〜18:05：④ \n秋葉原公園内イベント\n11月19日12時～17時\n11月20日12時～16時\n開催場所：秋葉原公園\n住所：千代田区神田佐久間町1-18　JR秋葉原 昭和通り口徒歩０分 \nVR体験エリア\n「バーチャル秋葉原」体験\n「そら のうえショッピングモール」体験 \neスポーツ体験エリア\n外国人にも対応した​無料街歩きミニツアー開催\nEVトゥクトゥク展示EVトゥクトゥクVR試乗体験​\n主催\nNPO法人秋葉原観光推進協会​ \n​ \n後援\n​千代田区\n​\n​ \n協力\n秋葉原電気街振興会\n秋葉原駅前商店街振興組合\n合同会社 AKIBA 観光協議会\n秋葉原コンセプトショップ協会\n秋葉原 DX エンターテインメント協会\nチームアキバ（全国通訳案内士）\n大日本印刷株式会社\nベネリックデジタルエンターテインメント株式会社\n株式会社Harete\n株式会社atSign\n株式会社クロスブリッジ\n株式会社 RIVER/G\n株式会社新東海旅行​
URL:https://hiraeth.tokyo/event/20221118-2/
LOCATION:秋葉原エンタス\, 外神田1-2-7 オノデン秋葉原本館ビル5F\, 千代田区\, 東京都\, 101-0021\, 日本
CATEGORIES:Event,Live
ATTACH;FMTTYPE=image/png:https://hiraeth.tokyo/wp-content/uploads/b8aa37e9ed53dc97c5025d54793c716a.png
END:VEVENT
END:VCALENDAR