BEGIN:VCALENDAR
VERSION:2.0
PRODID:-//【HIRAETH.Tokyo】(ヒラエス.トーキョー) - ECPv6.11.2//NONSGML v1.0//EN
CALSCALE:GREGORIAN
METHOD:PUBLISH
X-WR-CALNAME:【HIRAETH.Tokyo】(ヒラエス.トーキョー)
X-ORIGINAL-URL:https://hiraeth.tokyo
X-WR-CALDESC:【HIRAETH.Tokyo】(ヒラエス.トーキョー) のイベント
REFRESH-INTERVAL;VALUE=DURATION:PT1H
X-Robots-Tag:noindex
X-PUBLISHED-TTL:PT1H
BEGIN:VTIMEZONE
TZID:Asia/Tokyo
BEGIN:STANDARD
TZOFFSETFROM:+0900
TZOFFSETTO:+0900
TZNAME:JST
DTSTART:20220101T000000
END:STANDARD
END:VTIMEZONE
BEGIN:VEVENT
DTSTART;VALUE=DATE:20221119
DTEND;VALUE=DATE:20221120
DTSTAMP:20260425T105401
CREATED:20221002T130122Z
LAST-MODIFIED:20230316T185310Z
UID:2713-1668816000-1668902399@hiraeth.tokyo
SUMMARY:242☆shinjuku ALTA iDOL SONIC@新宿アルタKeystudio
DESCRIPTION:日時　11/19(土)\nイベント　shinjuku ALTA iDOL SONIC\n料金 前売3000/当日3500/(各D別)\n予約　https://t.livepocket.jp/e/girlsvision20221119\nLIVE　20:30〜20:45\n物販　21:20〜22:20\n会場　新宿アルタKeyStudio\nOP　11:05\nST　11:20\nOUT\n出演：えあらびゅー/アイオケ/AiDOLOXXXY/青山Rabness/R.I.P.研究所/Untitled/アンダービースティー/いちごみるく色に染まりたい。/蓋然性オルトイズム/キプリスモルホォ/CANDY GO!GO!/Clapotis/Sistersあにま/GTRA/シュユノトキ/宣誓aspiration/Chase×Chase/CHERRY GIRLS PROJECT/TEARS-ティアーズ-/七星七愛/にとくり。/８月のエウテルペ/ビビ⚡びっ/FLAPSTAR/プリズムハート/Mila bijou/ヤンチャン学園音楽部/Lanan/Ra＊papillon/Lapis/Re:INCARNATION/レプスルプス/錬日oTo個色/
URL:https://hiraeth.tokyo/event/20221118-1/
LOCATION:新宿アルタKeyStudio\, 新宿3-24－3\, 新宿区\, 東京都\, 160-0022\, 日本
CATEGORIES:Live
END:VEVENT
BEGIN:VEVENT
DTSTART;VALUE=DATE:20221119
DTEND;VALUE=DATE:20221120
DTSTAMP:20260425T105401
CREATED:20220927T043650Z
LAST-MODIFIED:20230316T185301Z
UID:2674-1668816000-1668902399@hiraeth.tokyo
SUMMARY:241☆☆(V1-IIC2022-D10)第一回インディーズアイドルチャンピオンシップ2022-10日目(準決勝予定)@渋谷ジーカンズ
DESCRIPTION:日時　11/19(土)\nイベント　(V1-IIC2022-D10)第一回インディーズアイドルチャンピオンシップ2022-10日目(準決勝予定)\n料金 前売2500/当日3000/(各D別)\n予約　https://t.livepocket.jp/e/pj8_q\nLIVE　15:30〜15:45\n物販　15:50〜16:50\n会場　渋谷ジーカンズ(Atom TOKYO)\nOP　9:50\nST　10:10\nout 20:35\nMC\n出演　えあらびゅー/プリンセスは眠らないっ!/Girls Crying in Bathroom/わーゆう/SUMMER ROCKET/HALO PALLETE/アイスアリアリ/そのまんま祟り/#東京花魁物語/Yunikiss/みらくる♡ふぉーぜ/ジュリアナの祟り(a.k.aエナツの祟り)/酔生夢死/myφme/らんちきっず/夜とメルク/LoveCherish/HappySugar★プロジェクト/.Link/れんてつ/UNDERBAR/POMÜM/東京セラフィム/きゅんみっしょん/くれよんちゅ～どく/松山あおい/PLC/clara/ソラネルカンパニー/81moment/COLOR’z/鈴音ひとみ/他 \n\n※入場順：①前売予約番号順→②当日 \nーーイベントレギュレーションーー\nポイントについて\n【無料(1pt)】1日1pt無料投票 https://idol-ouen-project.com/idol-detail/mmt9wvapuz；0時に更新\n【￥100(1pt)～】1日2pt以降の投票は1ptにつき￥100https://idol-ouen-project.com/settlement/mmt9wvapuz\n【￥2500(25pt)】一般予約チケット\n【￥3500(35pt)】最前チケット\n【￥12000(120pt)】着席VIP席\n【￥35000(350pt)】応援バズーカ演出 \n◆決勝\nMC：有名お笑いタレント2人\nゲストパフォーマー：有名アイドルグループ\n賞金：優勝500万円、準優勝300万円、審査員特別賞200万円\n副賞：有名アーティストからの楽曲提供 \n◆えあらびゅー予選\n10月2日 D1\n10月8日 D2\n10月9日 D3\n10月15日 D4\n10月16日 D5\n10月23日 D6\n10月30日 D7\n11月6日 D8\n11月12日 準決勝予定\n11月19日 準決勝予定\n12月8日 決勝 豊洲Pit \n◆その他\nインディーズアイドルチャンピオンシップ(IIC)出演者はもれなく2023年5月幕張メッセにて最大規模のアイドル対バンLIVE出演予定\n#インディーズアイドルチャンピオンシップ2022 #アイドル #イベント #フェス #インディーズアイドル
URL:https://hiraeth.tokyo/event/20221119-1/
LOCATION:渋谷ジーカンズ\, 円山町2-4\, 渋谷区\, 東京都\, 日本
CATEGORIES:Live
ATTACH;FMTTYPE=image/jpeg:https://hiraeth.tokyo/wp-content/uploads/139DEAD1-5BD4-4343-91B6-45313DDA2415.jpeg
END:VEVENT
END:VCALENDAR