BEGIN:VCALENDAR
VERSION:2.0
PRODID:-//【HIRAETH.Tokyo】(ヒラエス.トーキョー) - ECPv6.11.2//NONSGML v1.0//EN
CALSCALE:GREGORIAN
METHOD:PUBLISH
X-WR-CALNAME:【HIRAETH.Tokyo】(ヒラエス.トーキョー)
X-ORIGINAL-URL:https://hiraeth.tokyo
X-WR-CALDESC:【HIRAETH.Tokyo】(ヒラエス.トーキョー) のイベント
REFRESH-INTERVAL;VALUE=DURATION:PT1H
X-Robots-Tag:noindex
X-PUBLISHED-TTL:PT1H
BEGIN:VTIMEZONE
TZID:Asia/Tokyo
BEGIN:STANDARD
TZOFFSETFROM:+0900
TZOFFSETTO:+0900
TZNAME:JST
DTSTART:20220101T000000
END:STANDARD
END:VTIMEZONE
BEGIN:VEVENT
DTSTART;VALUE=DATE:20221120
DTEND;VALUE=DATE:20221121
DTSTAMP:20260425T115615
CREATED:20221117T231328Z
LAST-MODIFIED:20230316T185332Z
UID:3205-1668902400-1668988799@hiraeth.tokyo
SUMMARY:243☆☆ぷちぷちワンマンらびゅー
DESCRIPTION:日時　11/20(日)\nイベント　【💗⚠️緊急開催⚠️💗】ぷちぷちワンマンらびゅー🥳✨(オフ会もあるよ)\n料金 3500(D別)\n予約　TwitterDM(先着15名限定)\nLIVE　17:30\n物販　\n会場　神田スペースキューブ\nOP　17:15\nST　17:30(予定)\nout 20:30(予定)\n出演　えあらびゅー\nーー\n◆内容\n全曲ライブ、カバー曲、特典会、持ち寄りオフ会\n◆特典\n推しからの一言メッセージサイン入り集合ブロマイド\n◆タイムテーブル\n▶︎17:30ライブ \n▶︎物販 \n▶︎持ち寄りオフ会
URL:https://hiraeth.tokyo/event/20221120-1/
CATEGORIES:Event,Live
END:VEVENT
END:VCALENDAR