BEGIN:VCALENDAR
VERSION:2.0
PRODID:-//【HIRAETH.Tokyo】(ヒラエス.トーキョー) - ECPv6.11.2//NONSGML v1.0//EN
CALSCALE:GREGORIAN
METHOD:PUBLISH
X-WR-CALNAME:【HIRAETH.Tokyo】(ヒラエス.トーキョー)
X-ORIGINAL-URL:https://hiraeth.tokyo
X-WR-CALDESC:【HIRAETH.Tokyo】(ヒラエス.トーキョー) のイベント
REFRESH-INTERVAL;VALUE=DURATION:PT1H
X-Robots-Tag:noindex
X-PUBLISHED-TTL:PT1H
BEGIN:VTIMEZONE
TZID:Asia/Tokyo
BEGIN:STANDARD
TZOFFSETFROM:+0900
TZOFFSETTO:+0900
TZNAME:JST
DTSTART:20220101T000000
END:STANDARD
END:VTIMEZONE
BEGIN:VEVENT
DTSTART;VALUE=DATE:20221121
DTEND;VALUE=DATE:20221122
DTSTAMP:20260425T104305
CREATED:20221101T053906Z
LAST-MODIFIED:20230316T185339Z
UID:3048-1668988800-1669075199@hiraeth.tokyo
SUMMARY:244☆この花は誰のもの@恵比寿CreAto
DESCRIPTION:日時　11/21(月)\nイベント　この花は誰のもの。\n料金 前売2000/ 当日3000(各D別)\n予約　https://tiget.net/events/215488\nLIVE　17:30〜17:50\n物販　18:30〜19:20\n会場　恵比寿CreAto\nOP　17:10\nST　17:30\nout\n出演　えあらびゅー/エーデルワイス/ステラリオン/セカモノ/炭酸くろにくるっ/Planet Merry/yummyummy!!!/
URL:https://hiraeth.tokyo/event/20221121-1/
LOCATION:恵比寿クレアート\, 東3-14-19 オークヒルズ B1F\, 渋谷区\, 東京都\, 150-0011\, 日本
CATEGORIES:Live
ATTACH;FMTTYPE=image/jpeg:https://hiraeth.tokyo/wp-content/uploads/7BA1AF73-7466-4DC1-8B5B-E549D4C317DF.jpeg
END:VEVENT
END:VCALENDAR