BEGIN:VCALENDAR
VERSION:2.0
PRODID:-//【HIRAETH.Tokyo】(ヒラエス.トーキョー) - ECPv6.11.2//NONSGML v1.0//EN
CALSCALE:GREGORIAN
METHOD:PUBLISH
X-WR-CALNAME:【HIRAETH.Tokyo】(ヒラエス.トーキョー)
X-ORIGINAL-URL:https://hiraeth.tokyo
X-WR-CALDESC:【HIRAETH.Tokyo】(ヒラエス.トーキョー) のイベント
REFRESH-INTERVAL;VALUE=DURATION:PT1H
X-Robots-Tag:noindex
X-PUBLISHED-TTL:PT1H
BEGIN:VTIMEZONE
TZID:Asia/Tokyo
BEGIN:STANDARD
TZOFFSETFROM:+0900
TZOFFSETTO:+0900
TZNAME:JST
DTSTART:20220101T000000
END:STANDARD
END:VTIMEZONE
BEGIN:VEVENT
DTSTART;TZID=Asia/Tokyo:20221123T080000
DTEND;TZID=Asia/Tokyo:20221207T170000
DTSTAMP:20260425T002508
CREATED:20221124T063653Z
LAST-MODIFIED:20221124T090728Z
UID:3242-1669190400-1670432400@hiraeth.tokyo
SUMMARY:投票期間(V1-IIC2022)第一回インディーズアイドルチャンピオンシップ2022(決勝)
DESCRIPTION:【無料(1pt)】1日1pt無料投票\n https://idol-ouen-project.com/idol-detail/mmt9wvapuz；0時に更新\n【￥100(1pt)～】1日2pt以降の投票は1ptにつき￥100https://idol-ouen-project.com/settlement/mmt9wvapuz \n【無料投票方法】\n１、↓こちらにアクセス\n https://idol-ouen-project.com/idol-detail/mmt9wvapuz \n２、ニックネームなど登録\n登録後に即投票（1日1回無料） \n３、登録後は面倒なく毎日1ポイント無料で投票できます！\n投票期間：11月23日～12月8日の最大16ポイント \n【各日程】\n・決勝の投票期間：11/23(水)18:00〜12/8(木)18:00まで\n・締め切り日時：2/8(木)18:00まで\n・優勝者発表日時：問い合わせ中 \n【その他投票方法】\n12/8(木)豊洲PIT バズーカ演出（700pt）購入はこちら\nhttps://t.livepocket.jp/e/64t_p \n【出演概要】\n日時　12/08(木)\nイベント　(V1-IIC2022)第一回インディーズアイドルチャンピオンシップ2022(決勝)\n料金 S8000\,A5000\,B3000(各D別)\n予約　https://eplus.jp/idol-ouen-project/\nLIVE　\n物販　\n会場　豊洲pit\nOP　13:30\nST　14:30  \n【決勝】\n賞金：優勝500万円、準優勝300万円、審査員特別賞200万円\n副賞：有名アーティストからの楽曲提供、オリジナル楽曲製作、PV製作、オリジナル楽曲提供、雑誌「GLITTER」見開き掲載、中型イベント出演、企業案件獲得 \n出演：\nSAIGO NO BANSAN/アイスアリアリ/えあらびゅー/ゆめいろシンフォニア/TiiiMO/Girls Crying in Bathroom/フルーティー/ HALO PALLETE/きみとのワンダーランド/81moment/代々木女子音楽院/終末のステラ/青山Rabness/HAPPY少女♪/ICE-ink/ #ワールドカオス/ふぇありーているず！/Yunikiss/プリンセス物語/東京セラフィム/ \n審査員：\n・逹瑯さん(MUCC)/日高央さん(BEAT CRUSADERS)/赤飯さん(オメでたい頭でなにより)/みのさん(みのミュージック)/TETSUさん(ユメノハナシ)\n・審査員長：中村喜伸 \nゲストパフォーマー：\n・煌めきアンフォレント\n・高嶺のなでしこ\n・仮面女子\n・スリジエ\n・みらくる♡ふぉーぜ\n・ジュリアナの祟り\n・COLOR’z SP \nゲスト：\n・STU48\n・ウェルカムDJ DJダイノジ \n◆賞金\n賞金総額1000万円：優勝賞金300万円、準優勝賞金100万円、審査員特別賞2組各50万円\nオリジナル楽曲製作\nPV製作\nオリジナル楽曲提供\n1年間インディーズアイドル応援プロジェクトのアンバサダーに就任 \n【審査員】\n中村喜伸プロデューサー、TETSU(YUMENOHANASI代表)、逹瑯(MUCC)、ヒダカトオル(THE STARBEMS)、赤飯(オメでたい頭でなにより)、みの(Youtuber) \n \n【予選順位】\n\n \n【その他】\nインディーズアイドルチャンピオンシップ(IIC)出演者はもれなく2023年5月幕張メッセにて最大規模のアイドル対バンLIVE出演予定 \n#インディーズアイドルチャンピオンシップ2022 #アイドル #イベント #フェス #インディーズアイドル
URL:https://hiraeth.tokyo/event/iic2022/
LOCATION:豊洲Pit\, 豊洲6-1-23\, 江東区\, 東京都\, 135-0061\, 日本
CATEGORIES:Live
ATTACH;FMTTYPE=image/png:https://hiraeth.tokyo/wp-content/uploads/IIC2022.png
END:VEVENT
BEGIN:VEVENT
DTSTART;VALUE=DATE:20221127
DTEND;VALUE=DATE:20221128
DTSTAMP:20260425T002508
CREATED:20221121T073444Z
LAST-MODIFIED:20230316T185425Z
UID:3221-1669507200-1669593599@hiraeth.tokyo
SUMMARY:250☆SKYZ IDOL PARTY PLUS@新宿ホリデイ
DESCRIPTION:日時　11/27(日)\nイベント　SKYZ　IDOL PARTY PLUS\n料金 最前4000一般2500(D別)\n予約　https://t.livepocket.jp/e/skyz1127-02\nLIVE　18:45～19:00\n物販　19:05～19:55\n会場　新宿ホリデイ\nOP　18:35\nST　18:45\nout\n出演　えあらびゅー/8WIZARD/異世界ノスタルジア/MiX BeRRY/おとめの姿しばしとどめむ/せろとにん✖️ばくだん/mogu☆mogu/i+chip=memory/8DOLL
URL:https://hiraeth.tokyo/event/20221127-2/
LOCATION:新宿HOLIDAY SHINJUKU\, 歌舞伎町2-24-3\, 新宿区\, 東京都\, 160-0021
CATEGORIES:Live
ATTACH;FMTTYPE=image/jpeg:https://hiraeth.tokyo/wp-content/uploads/S__39108630.jpg
END:VEVENT
BEGIN:VEVENT
DTSTART;VALUE=DATE:20221127
DTEND;VALUE=DATE:20221128
DTSTAMP:20260425T002508
CREATED:20221121T072941Z
LAST-MODIFIED:20230316T185419Z
UID:3217-1669507200-1669593599@hiraeth.tokyo
SUMMARY:249☆SKYZ 無銭 IDOL PARTY PLUS@新宿ホリデイ
DESCRIPTION:日時　11/27(日)\nイベント　SKYZ 無銭 IDOL PARTY PLUS\n料金 最前3000一般0(D別)\n予約　https://t.livepocket.jp/e/skyz1127-01\nLIVE　11:25～11:40\n物販　12:30～13:30\n会場　新宿ホリデイ\nOP　11:00\nST　11:10\nout\n出演　えあらびゅー/8DOLL/ほーむたいがー/あいたいね！/いんせきゅあ/
URL:https://hiraeth.tokyo/event/20221127-1/
LOCATION:新宿HOLIDAY SHINJUKU\, 歌舞伎町2-24-3\, 新宿区\, 東京都\, 160-0021
CATEGORIES:Live
ATTACH;FMTTYPE=image/jpeg:https://hiraeth.tokyo/wp-content/uploads/S__39108628.jpg
END:VEVENT
END:VCALENDAR