BEGIN:VCALENDAR
VERSION:2.0
PRODID:-//【HIRAETH.Tokyo】(ヒラエス.トーキョー) - ECPv6.11.2//NONSGML v1.0//EN
CALSCALE:GREGORIAN
METHOD:PUBLISH
X-ORIGINAL-URL:https://hiraeth.tokyo
X-WR-CALDESC:【HIRAETH.Tokyo】(ヒラエス.トーキョー) のイベント
REFRESH-INTERVAL;VALUE=DURATION:PT1H
X-Robots-Tag:noindex
X-PUBLISHED-TTL:PT1H
BEGIN:VTIMEZONE
TZID:Asia/Tokyo
BEGIN:STANDARD
TZOFFSETFROM:+0900
TZOFFSETTO:+0900
TZNAME:JST
DTSTART:20220101T000000
END:STANDARD
END:VTIMEZONE
BEGIN:VEVENT
DTSTART;TZID=Asia/Tokyo:20221123T080000
DTEND;TZID=Asia/Tokyo:20221207T170000
DTSTAMP:20260424T223906
CREATED:20221124T063653Z
LAST-MODIFIED:20221124T090728Z
UID:3242-1669190400-1670432400@hiraeth.tokyo
SUMMARY:投票期間(V1-IIC2022)第一回インディーズアイドルチャンピオンシップ2022(決勝)
DESCRIPTION:【無料(1pt)】1日1pt無料投票\n https://idol-ouen-project.com/idol-detail/mmt9wvapuz；0時に更新\n【￥100(1pt)～】1日2pt以降の投票は1ptにつき￥100https://idol-ouen-project.com/settlement/mmt9wvapuz \n【無料投票方法】\n１、↓こちらにアクセス\n https://idol-ouen-project.com/idol-detail/mmt9wvapuz \n２、ニックネームなど登録\n登録後に即投票（1日1回無料） \n３、登録後は面倒なく毎日1ポイント無料で投票できます！\n投票期間：11月23日～12月8日の最大16ポイント \n【各日程】\n・決勝の投票期間：11/23(水)18:00〜12/8(木)18:00まで\n・締め切り日時：2/8(木)18:00まで\n・優勝者発表日時：問い合わせ中 \n【その他投票方法】\n12/8(木)豊洲PIT バズーカ演出（700pt）購入はこちら\nhttps://t.livepocket.jp/e/64t_p \n【出演概要】\n日時　12/08(木)\nイベント　(V1-IIC2022)第一回インディーズアイドルチャンピオンシップ2022(決勝)\n料金 S8000\,A5000\,B3000(各D別)\n予約　https://eplus.jp/idol-ouen-project/\nLIVE　\n物販　\n会場　豊洲pit\nOP　13:30\nST　14:30  \n【決勝】\n賞金：優勝500万円、準優勝300万円、審査員特別賞200万円\n副賞：有名アーティストからの楽曲提供、オリジナル楽曲製作、PV製作、オリジナル楽曲提供、雑誌「GLITTER」見開き掲載、中型イベント出演、企業案件獲得 \n出演：\nSAIGO NO BANSAN/アイスアリアリ/えあらびゅー/ゆめいろシンフォニア/TiiiMO/Girls Crying in Bathroom/フルーティー/ HALO PALLETE/きみとのワンダーランド/81moment/代々木女子音楽院/終末のステラ/青山Rabness/HAPPY少女♪/ICE-ink/ #ワールドカオス/ふぇありーているず！/Yunikiss/プリンセス物語/東京セラフィム/ \n審査員：\n・逹瑯さん(MUCC)/日高央さん(BEAT CRUSADERS)/赤飯さん(オメでたい頭でなにより)/みのさん(みのミュージック)/TETSUさん(ユメノハナシ)\n・審査員長：中村喜伸 \nゲストパフォーマー：\n・煌めきアンフォレント\n・高嶺のなでしこ\n・仮面女子\n・スリジエ\n・みらくる♡ふぉーぜ\n・ジュリアナの祟り\n・COLOR’z SP \nゲスト：\n・STU48\n・ウェルカムDJ DJダイノジ \n◆賞金\n賞金総額1000万円：優勝賞金300万円、準優勝賞金100万円、審査員特別賞2組各50万円\nオリジナル楽曲製作\nPV製作\nオリジナル楽曲提供\n1年間インディーズアイドル応援プロジェクトのアンバサダーに就任 \n【審査員】\n中村喜伸プロデューサー、TETSU(YUMENOHANASI代表)、逹瑯(MUCC)、ヒダカトオル(THE STARBEMS)、赤飯(オメでたい頭でなにより)、みの(Youtuber) \n \n【予選順位】\n\n \n【その他】\nインディーズアイドルチャンピオンシップ(IIC)出演者はもれなく2023年5月幕張メッセにて最大規模のアイドル対バンLIVE出演予定 \n#インディーズアイドルチャンピオンシップ2022 #アイドル #イベント #フェス #インディーズアイドル
URL:https://hiraeth.tokyo/event/iic2022/
LOCATION:豊洲Pit\, 豊洲6-1-23\, 江東区\, 東京都\, 135-0061\, 日本
CATEGORIES:Live
ATTACH;FMTTYPE=image/png:https://hiraeth.tokyo/wp-content/uploads/IIC2022.png
END:VEVENT
BEGIN:VEVENT
DTSTART;VALUE=DATE:20221128
DTEND;VALUE=DATE:20221129
DTSTAMP:20260424T223906
CREATED:20221101T054235Z
LAST-MODIFIED:20230316T185433Z
UID:3050-1669593600-1669679999@hiraeth.tokyo
SUMMARY:251☆☆VIBES UP!!!＠新宿ALTA Key Studio
DESCRIPTION:日時　11/28(月)\nイベント　VIBES UP!!!\n料金 前売2500/前方4000/当日3500(各D別)\n予約　https://tiget.net/events/214048\nLIVE　16:10〜16:30\n物販　16:40〜17:40\n会場　新宿ALTA Key Studio\nOP　14:10\nST　14:30\nout\n出演　えあらびゅー/metarium/Giselle/SAI ²Rium/虹色幻想曲〜プリズムファンタジア〜/Chou2Precede/ルノアエクラ/エーデルワイス/eN/ラストノート/SchwarzWaltz/ふぁんたぢあ/異世界ノスタルジア/TheWORLD/夜明けのモニュメント/我らが地球ノ青い鳥/Anthology/Ra＊papillon/THE DEVIL’S KILLING MERRY-GO-ROUND/ \n【注意事項とご協力のお願い】\n※ご入場頂くお客様は、マスクの着用をお願い致します。マスクをされていないお客様のご入場はお断りさせて頂きますので、ご理解ご了承の程、宜しくお願い致します。\n※ご入場時に体温を測定させて頂きます。万が一、37.5℃以上検温された場合、ご入場をお断りさせて頂く場合がございます。その際のチケット代の返金等は出来兼ねますので、ご理解ご了承の程、宜しくお願い致します。\n※公演中のコールや声出しはご遠慮頂きますよう宜しくお願い致します。マスク着用の程、お楽しみ下さい。\n※スタッフの注意や警告をお聞き頂けない場合、ご退場をお願いすることがございます。その際のチケット代の返金等は出来兼ねますので、ご理解ご了承の程、宜しくお願い致します。\n※出演者・出演＆特典会時間はメンバーの体調不良やスケジュールの都合等の理由により、変更になる可能性がありますので予めご了承下さい。その際の返金などは一切応じられませんので予めご了承ください。\n※イベントなど開始時間、終了時間が変更になる可能性もございますので、予めご了承ください。\n※シートや荷物、私物等での場所取り等は全面的に禁止いたします。移動時は、お荷物をご持参頂きますよう、宜しくお願い致します。\nまた、撤去した物、及び放置されている物に関して盗難・破損など主催者・会場・出演者は一切の責任を負いません。\n※当日はご予約頂きましたチケットの整理番号順にお呼び致します。\n※お荷物、貴重品の管理はお客様ご自身で管理お願い致します。盗難の際は弊社は一切の責任を負いませんのでご了承下さい。\n※会場内でのトラブルや、お客様同士での怪我、破損時は弊社は一切の責任を負いませんのでご了承下さい。
URL:https://hiraeth.tokyo/event/20221128-1/
LOCATION:新宿アルタKeyStudio\, 新宿3-24－3\, 新宿区\, 東京都\, 160-0022\, 日本
CATEGORIES:Live
ATTACH;FMTTYPE=image/png:https://hiraeth.tokyo/wp-content/uploads/07164FBA-F3B4-43C6-AF70-26B134DAB50E.png
END:VEVENT
END:VCALENDAR