BEGIN:VCALENDAR
VERSION:2.0
PRODID:-//【HIRAETH.Tokyo】(ヒラエス.トーキョー) - ECPv6.11.2//NONSGML v1.0//EN
CALSCALE:GREGORIAN
METHOD:PUBLISH
X-ORIGINAL-URL:https://hiraeth.tokyo
X-WR-CALDESC:【HIRAETH.Tokyo】(ヒラエス.トーキョー) のイベント
REFRESH-INTERVAL;VALUE=DURATION:PT1H
X-Robots-Tag:noindex
X-PUBLISHED-TTL:PT1H
BEGIN:VTIMEZONE
TZID:Asia/Tokyo
BEGIN:STANDARD
TZOFFSETFROM:+0900
TZOFFSETTO:+0900
TZNAME:JST
DTSTART:20220101T000000
END:STANDARD
END:VTIMEZONE
BEGIN:VEVENT
DTSTART;VALUE=DATE:20221210
DTEND;VALUE=DATE:20221211
DTSTAMP:20260424T223906
CREATED:20221202T041657Z
LAST-MODIFIED:20230316T185611Z
UID:3316-1670630400-1670716799@hiraeth.tokyo
SUMMARY:259☆☆超！A&G＋スペシャル』presents GIRLS LIVE PAVILION #8@原宿ベルエポック
DESCRIPTION:日時　12/10\nイベント 超！A&G＋スペシャル』presents GIRLS LIVE PAVILION #8\n料金　前売S3500A2500当日+500(各D別)\n予約 https://tiget.net/events/218401チケット発12/7(水)19時\nLIVE 13:55〜14:15\n物販　14:20〜15:20\n会場 原宿ベルエポック美容専門学校イベントホール\nOP 11:00\nST 11:30\nout\n出演　えあらびゅー/i+chip=memory/雨上がりのプラネット/UNDERBAR/会心ノ一撃/佐藤汐/Jumping Kiss/中２映画プロジェクト アイドル部/d-girls/eeper²/道玄坂69/.BPM/日曜日のアプレミディ/FEAM/POMÜM/LOVE IZ DOLL/\n主催：文化放送
URL:https://hiraeth.tokyo/event/20221210-1/
LOCATION:原宿ベルエポック美容専門学校イベントホール\, 千駄ヶ谷3-57-6\, 渋谷区\, 東京都\, 150-0001\, 日本
CATEGORIES:Live
ATTACH;FMTTYPE=image/jpeg:https://hiraeth.tokyo/wp-content/uploads/A8CA6C5B-2D7C-4380-BADF-0857A7683C2C.jpeg
END:VEVENT
END:VCALENDAR