BEGIN:VCALENDAR
VERSION:2.0
PRODID:-//【HIRAETH.Tokyo】(ヒラエス.トーキョー) - ECPv6.11.2//NONSGML v1.0//EN
CALSCALE:GREGORIAN
METHOD:PUBLISH
X-ORIGINAL-URL:https://hiraeth.tokyo
X-WR-CALDESC:【HIRAETH.Tokyo】(ヒラエス.トーキョー) のイベント
REFRESH-INTERVAL;VALUE=DURATION:PT1H
X-Robots-Tag:noindex
X-PUBLISHED-TTL:PT1H
BEGIN:VTIMEZONE
TZID:Asia/Tokyo
BEGIN:STANDARD
TZOFFSETFROM:+0900
TZOFFSETTO:+0900
TZNAME:JST
DTSTART:20220101T000000
END:STANDARD
END:VTIMEZONE
BEGIN:VEVENT
DTSTART;VALUE=DATE:20221211
DTEND;VALUE=DATE:20221212
DTSTAMP:20260424T223954
CREATED:20221205T111545Z
LAST-MODIFIED:20230316T185629Z
UID:3354-1670716800-1670803199@hiraeth.tokyo
SUMMARY:261☆☆超！A&G＋スペシャル』presents GIRLS LIVE PAVILION #9@原宿ベルエポック
DESCRIPTION:日時　12/11\nイベント 超！A&G＋スペシャル』presents GIRLS LIVE PAVILION #9\n料金　前売S3500A2500当日+500(各D別)\n予約 https://tiget.net/events/218407 チケ発12/7(水)19時\nLIVE 12:05〜12:25\n物販　12:30〜13:30\n会場 原宿ベルエポック美容専門学校イベントホール\nOP 10:00\nST 10:30\nout\n出演　えあらびゅー/Anthology/会心ノ一撃/中2映画プロジェクト アイドル部/d-girls/deeper²/ .BPM/FEAM/My Best Friend/YUMEADO EUROPE/代々木女子音楽院/ルミキスex/\n主催：文化放送
URL:https://hiraeth.tokyo/event/20221211-2/
LOCATION:原宿ベルエポック美容専門学校イベントホール\, 千駄ヶ谷3-57-6\, 渋谷区\, 東京都\, 150-0001\, 日本
CATEGORIES:Live
ATTACH;FMTTYPE=image/jpeg:https://hiraeth.tokyo/wp-content/uploads/ED4951AD-1A15-4D7D-A79A-5415480420C1.jpeg
END:VEVENT
BEGIN:VEVENT
DTSTART;VALUE=DATE:20221211
DTEND;VALUE=DATE:20221212
DTSTAMP:20260424T223954
CREATED:20221024T104428Z
LAST-MODIFIED:20230316T185619Z
UID:2973-1670716800-1670803199@hiraeth.tokyo
SUMMARY:260☆IDOL SPIRITS 12月号増刊号@新宿アルタKeyStudio
DESCRIPTION:日時　12/11(日)\nイベント　アイドルスピリッツ　12月1部2部合併号～c/w花梨様(Lanan)生誕祭クリスマス直前スペシャル～\n料金　前方4000、一般3000\n予約　https://tiget.net/events/214402\nLIVE　15:00〜15:20\n物販　15:25〜16:25\n会場　新宿アルタKeyStudio\nOP　11:05\nST　11:20\nout 22:40\n出演　えあらびゅー/YUMEADO CiTRON/キプリスモルホォ/代々木女子音楽院/横浜少女歌劇団/ヤンチャン学園音楽部/.BPM/81moment/Lanan/Rabi☆Star/COCO☆KAME/A-le/仮面女子候補生/CoCotte/MERUCHU/PRATONiCK SOLID/Hiwillow/Jumping Kiss/いちごみるく色に染まりたい。/Licht/トイトニック/日曜日の起死回生/異世界ギルド研修生/異世界アイドル☆パラレルパレード/SE-tsu-NA/SeedS/PISTIL/暁のアリア/The Pink Microphone/スリジエ候補生/スリジエ/白夜のカフカ/
URL:https://hiraeth.tokyo/event/20221211-1/
LOCATION:新宿アルタKeyStudio\, 新宿3-24－3\, 新宿区\, 東京都\, 160-0022\, 日本
CATEGORIES:Live
ATTACH;FMTTYPE=image/jpeg:https://hiraeth.tokyo/wp-content/uploads/4AFB1F7F-5AC3-4A5B-AD39-FEE1E68F8C4F.jpeg
END:VEVENT
END:VCALENDAR